BEGIN:VCALENDAR
VERSION:2.0
PRODID:-//Calendario de Eventos Gran Canaria - ECPv6.15.17.1//NONSGML v1.0//EN
CALSCALE:GREGORIAN
METHOD:PUBLISH
X-WR-CALNAME:Calendario de Eventos Gran Canaria
X-ORIGINAL-URL:https://calendarioeventos.com/en
X-WR-CALDESC:Events for Calendario de Eventos Gran Canaria
REFRESH-INTERVAL;VALUE=DURATION:PT1H
X-Robots-Tag:noindex
X-PUBLISHED-TTL:PT1H
BEGIN:VTIMEZONE
TZID:Europe/London
BEGIN:DAYLIGHT
TZOFFSETFROM:+0000
TZOFFSETTO:+0100
TZNAME:BST
DTSTART:20240331T010000
END:DAYLIGHT
BEGIN:STANDARD
TZOFFSETFROM:+0100
TZOFFSETTO:+0000
TZNAME:GMT
DTSTART:20241027T010000
END:STANDARD
BEGIN:DAYLIGHT
TZOFFSETFROM:+0000
TZOFFSETTO:+0100
TZNAME:BST
DTSTART:20250330T010000
END:DAYLIGHT
BEGIN:STANDARD
TZOFFSETFROM:+0100
TZOFFSETTO:+0000
TZNAME:GMT
DTSTART:20251026T010000
END:STANDARD
BEGIN:DAYLIGHT
TZOFFSETFROM:+0000
TZOFFSETTO:+0100
TZNAME:BST
DTSTART:20260329T010000
END:DAYLIGHT
BEGIN:STANDARD
TZOFFSETFROM:+0100
TZOFFSETTO:+0000
TZNAME:GMT
DTSTART:20261025T010000
END:STANDARD
END:VTIMEZONE
BEGIN:VEVENT
DTSTART;TZID=Europe/London:20251211T190000
DTEND;TZID=Europe/London:20251211T200000
DTSTAMP:20260419T212453
CREATED:20250914T230000Z
LAST-MODIFIED:20251204T113613Z
UID:9657-1765479600-1765483200@calendarioeventos.com
SUMMARY:Teatro - Frágil
DESCRIPTION:Teatro – «Frágil»\, obra del proyecto «Teatro y dialogo por la igualdad» en el Centro de Mayores de El Doctoral\, Santa Lucía\, Gran Canaria. \nContinuamos con las representaciones de “Frágil: Rompiendo Mitos\, Creando Realidades” dentro del proyecto “Teatro y Diálogo por la Igualdad” \nAl finalizar la obra se abrirá un diálogo con el público presente. \nEntrada libre hasta completar aforo. \n@downlaspalmas.oficial – Asociado Síndrome de Down Las Palmas \n@grancanariaigualdad – Consejería de Igualdad y Diversidad del Cabildo de Gran Canaria
URL:https://calendarioeventos.com/en/evento/teatro-fragil-2/
LOCATION:El Doctoral\, 35110 Las Palmas
CATEGORIES:Actividades,Charla,Cultura,Eventos gratuitos,Santa Lucía de Tirajana,Teatro
ATTACH;FMTTYPE=image/png:https://calendarioeventos.com/wp-content/uploads/2025/09/Screenshot-2025-12-04-at-11-34-12-Instagram.avif
ORGANIZER;CN="Asociaci%C3%B3n Mojo de Ca%C3%B1a":MAILTO:info@mojodecana.org
END:VEVENT
END:VCALENDAR