BEGIN:VCALENDAR
VERSION:2.0
PRODID:-//Calendario de Eventos Gran Canaria - ECPv6.15.17.1//NONSGML v1.0//EN
CALSCALE:GREGORIAN
METHOD:PUBLISH
X-WR-CALNAME:Calendario de Eventos Gran Canaria
X-ORIGINAL-URL:https://calendarioeventos.com/en
X-WR-CALDESC:Events for Calendario de Eventos Gran Canaria
REFRESH-INTERVAL;VALUE=DURATION:PT1H
X-Robots-Tag:noindex
X-PUBLISHED-TTL:PT1H
BEGIN:VTIMEZONE
TZID:Europe/London
BEGIN:DAYLIGHT
TZOFFSETFROM:+0000
TZOFFSETTO:+0100
TZNAME:BST
DTSTART:20250330T010000
END:DAYLIGHT
BEGIN:STANDARD
TZOFFSETFROM:+0100
TZOFFSETTO:+0000
TZNAME:GMT
DTSTART:20251026T010000
END:STANDARD
BEGIN:DAYLIGHT
TZOFFSETFROM:+0000
TZOFFSETTO:+0100
TZNAME:BST
DTSTART:20260329T010000
END:DAYLIGHT
BEGIN:STANDARD
TZOFFSETFROM:+0100
TZOFFSETTO:+0000
TZNAME:GMT
DTSTART:20261025T010000
END:STANDARD
BEGIN:DAYLIGHT
TZOFFSETFROM:+0000
TZOFFSETTO:+0100
TZNAME:BST
DTSTART:20270328T010000
END:DAYLIGHT
BEGIN:STANDARD
TZOFFSETFROM:+0100
TZOFFSETTO:+0000
TZNAME:GMT
DTSTART:20271031T010000
END:STANDARD
END:VTIMEZONE
BEGIN:VEVENT
DTSTART;TZID=Europe/London:20260117T200000
DTEND;TZID=Europe/London:20260117T213000
DTSTAMP:20260421T055129
CREATED:20251225T111917Z
LAST-MODIFIED:20251225T111917Z
UID:47296-1768680000-1768685400@calendarioeventos.com
SUMMARY:Teatro – Luna
DESCRIPTION:Teatro «Luna»\, oda a Federico García Lorca\, en el Teatro Víctor Jara\, Vecindario\, Santa Lucía\, Gran Canaria \nUn viaje poético y flamenco al universo de Lorca. \nTras deslumbrar al público en cada una de sus representaciones\, la Compañía Flamenca Rocío Pozo llega al Teatro Victor Jara con LUNA\, una experiencia única que rinde homenaje al genio Federico García Lorca. \nBajo la influencia mágica de la luna —símbolo eterno de belleza\, misterio y tragedia— nace LUNA\, un espectáculo de teatro\, música en directo y danza flamenca que rinde homenaje a Federico García Lorca. \nUna experiencia sensorial donde la palabra\, el cante y el movimiento se funden para explorar la obsesión del poeta con el astro nocturno. Sobre el escenario\, las melodías de Falla y Granados\, la voz profunda de Marta Bolaños\, la prosa lorquiana en boca de José Antonio González y la danza vibrante de Rocío Pozo y Cristina Rivero se entrelazan en una atmósfera envolvente. El piano de Oliver Curbelo\, la guitarra de Yuniel Rascón y la percusión de Samuel Medina acompañan este viaje lírico y flamenco hacia la emoción. \nLUNA no es solo un espectáculo; es una celebración viva del arte\, la poesía y el alma del flamenco. Un homenaje escénico a Lorca\, el poeta de la luna\, que sigue brillando en la oscuridad de los tiempos. \nEdad recomendada: Para todos los públicos \nDuración: 65 minutos \nEntradas en este enlace.
URL:https://calendarioeventos.com/en/evento/teatro-luna/
LOCATION:Teatro Victor Jara\, C/ Víctor Jara\, s/n\, Vecindario\, Las Palmas\, 35110\, España
CATEGORIES:Cultura,Danza,Música,Poesía,Santa Lucía de Tirajana,Teatro
ATTACH;FMTTYPE=image/jpeg:https://calendarioeventos.com/wp-content/uploads/2025/12/33-LUNA-TRO-preview.avif
END:VEVENT
END:VCALENDAR