BEGIN:VCALENDAR
VERSION:2.0
PRODID:-//Calendario de Eventos Gran Canaria - ECPv6.15.17.1//NONSGML v1.0//EN
CALSCALE:GREGORIAN
METHOD:PUBLISH
X-WR-CALNAME:Calendario de Eventos Gran Canaria
X-ORIGINAL-URL:https://calendarioeventos.com/en
X-WR-CALDESC:Events for Calendario de Eventos Gran Canaria
REFRESH-INTERVAL;VALUE=DURATION:PT1H
X-Robots-Tag:noindex
X-PUBLISHED-TTL:PT1H
BEGIN:VTIMEZONE
TZID:Europe/London
BEGIN:DAYLIGHT
TZOFFSETFROM:+0000
TZOFFSETTO:+0100
TZNAME:BST
DTSTART:20240331T010000
END:DAYLIGHT
BEGIN:STANDARD
TZOFFSETFROM:+0100
TZOFFSETTO:+0000
TZNAME:GMT
DTSTART:20241027T010000
END:STANDARD
BEGIN:DAYLIGHT
TZOFFSETFROM:+0000
TZOFFSETTO:+0100
TZNAME:BST
DTSTART:20250330T010000
END:DAYLIGHT
BEGIN:STANDARD
TZOFFSETFROM:+0100
TZOFFSETTO:+0000
TZNAME:GMT
DTSTART:20251026T010000
END:STANDARD
BEGIN:DAYLIGHT
TZOFFSETFROM:+0000
TZOFFSETTO:+0100
TZNAME:BST
DTSTART:20260329T010000
END:DAYLIGHT
BEGIN:STANDARD
TZOFFSETFROM:+0100
TZOFFSETTO:+0000
TZNAME:GMT
DTSTART:20261025T010000
END:STANDARD
END:VTIMEZONE
BEGIN:VEVENT
DTSTART;TZID=Europe/London:20251217T190000
DTEND;TZID=Europe/London:20251217T200000
DTSTAMP:20260425T184419
CREATED:20251208T000627Z
LAST-MODIFIED:20251208T000627Z
UID:41564-1765998000-1766001600@calendarioeventos.com
SUMMARY:Teatro  – Navidad mágica en el bosque encantado
DESCRIPTION:Teatro infantil «Navidad mágica en el bosque encantado» en el Teatro Municipal Juan Ramón Jiménez\, Telde\, Gran Canaria. \nNAVIDAD MÁGICA EN EL BOSQUE ENCANTADO\, Escuela Municipal de Música\, Danza y Teatro de Telde \nEntradas en este enlace 
URL:https://calendarioeventos.com/en/evento/teatro-navidad-magica-en-el-bosque-encantado/
LOCATION:Teatro Municipal Juan Ramón Jiménez\, C. Poeta Pablo Neruda\, 1\, 35200 Telde\, Las Palmas
CATEGORIES:Cultura,Infantil,Títeres,Teatro,Telde
ATTACH;FMTTYPE=image/jpeg:https://calendarioeventos.com/wp-content/uploads/2025/12/CARTEL-NAVIDAD-MAGICA-EN-EL-BOSQUE-ENCANTADO-preview.avif
END:VEVENT
END:VCALENDAR