BEGIN:VCALENDAR
VERSION:2.0
PRODID:-//Calendario de Eventos Gran Canaria - ECPv6.15.17.1//NONSGML v1.0//EN
CALSCALE:GREGORIAN
METHOD:PUBLISH
X-WR-CALNAME:Calendario de Eventos Gran Canaria
X-ORIGINAL-URL:https://calendarioeventos.com/en
X-WR-CALDESC:Events for Calendario de Eventos Gran Canaria
REFRESH-INTERVAL;VALUE=DURATION:PT1H
X-Robots-Tag:noindex
X-PUBLISHED-TTL:PT1H
BEGIN:VTIMEZONE
TZID:Europe/London
BEGIN:DAYLIGHT
TZOFFSETFROM:+0000
TZOFFSETTO:+0100
TZNAME:BST
DTSTART:20250330T010000
END:DAYLIGHT
BEGIN:STANDARD
TZOFFSETFROM:+0100
TZOFFSETTO:+0000
TZNAME:GMT
DTSTART:20251026T010000
END:STANDARD
BEGIN:DAYLIGHT
TZOFFSETFROM:+0000
TZOFFSETTO:+0100
TZNAME:BST
DTSTART:20260329T010000
END:DAYLIGHT
BEGIN:STANDARD
TZOFFSETFROM:+0100
TZOFFSETTO:+0000
TZNAME:GMT
DTSTART:20261025T010000
END:STANDARD
BEGIN:DAYLIGHT
TZOFFSETFROM:+0000
TZOFFSETTO:+0100
TZNAME:BST
DTSTART:20270328T010000
END:DAYLIGHT
BEGIN:STANDARD
TZOFFSETFROM:+0100
TZOFFSETTO:+0000
TZNAME:GMT
DTSTART:20271031T010000
END:STANDARD
END:VTIMEZONE
BEGIN:VEVENT
DTSTART;TZID=Europe/London:20260328T200000
DTEND;TZID=Europe/London:20260328T213000
DTSTAMP:20260425T045705
CREATED:20260223T184319Z
LAST-MODIFIED:20260223T184320Z
UID:61345-1774728000-1774733400@calendarioeventos.com
SUMMARY:Teatro - «Su Majestad la Reina»
DESCRIPTION:Teatro — «Su Majestad la Reina» en El Aparte Espacio Creativo\, Las Palmas de Gran Canaria. \nSu Majestad la Reina es un monólogo ambientado en la eternidad\, donde Lolita Pluma-figura emblemática e inseparable del Parque Santa Catalina toma la palabra para reclamar su verdadera identidad; María Dolores Rivero Hernández. \nEs una incursión a las profundidades del ser humano donde se enfrenta con la fragilidad\, los miedos y el instinto de supervivencia. Es una batalla con su propia existencia\, una mirada real\, romántica y poética de una persona que vive entre su verdadero yo- y el personaje donde se esconde\, es un canto a la sensibilidad que nos hace humanos. \nMaría Dolores cansada de haber sido convertida en un espectáculo\, en mito y en bufón\, se enfrenta a la sociedad que la aplaude sin detenerse a mirar su vulnerabilidad. Tras el brillo\, el maquillaje\, la leyenda popular\, había una mujer maltratada\, herida\, marcada por la soledad y la enfermedad mental que nadie quiso ver. \nDesde el otro lado del espejo\, su Majestad la Reina exige\, por fin\, ser reconocida como ser humano. \nINTERPRETE: PAKY SUAREZ \nDIRECCCIÓN: ANTONI RAMOS \n Reservas en este enlace:
URL:https://calendarioeventos.com/en/evento/teatro-su-majestad-la-reina/
LOCATION:El Aparte Espacio Creativo\, C. de Pérez del Toro\, 34\, Bajo\, 35004 Las Palmas de Gran Canaria\, Las Palmas
CATEGORIES:Cultura,Las Palmas de GC,Teatro
ATTACH;FMTTYPE=image/png:https://calendarioeventos.com/wp-content/uploads/2026/02/image-768x1083-5jy352.avif
END:VEVENT
END:VCALENDAR