BEGIN:VCALENDAR
VERSION:2.0
PRODID:-//Calendario de Eventos Gran Canaria - ECPv6.15.17.1//NONSGML v1.0//EN
CALSCALE:GREGORIAN
METHOD:PUBLISH
X-WR-CALNAME:Calendario de Eventos Gran Canaria
X-ORIGINAL-URL:https://calendarioeventos.com/en
X-WR-CALDESC:Events for Calendario de Eventos Gran Canaria
REFRESH-INTERVAL;VALUE=DURATION:PT1H
X-Robots-Tag:noindex
X-PUBLISHED-TTL:PT1H
BEGIN:VTIMEZONE
TZID:Europe/London
BEGIN:DAYLIGHT
TZOFFSETFROM:+0000
TZOFFSETTO:+0100
TZNAME:BST
DTSTART:20250330T010000
END:DAYLIGHT
BEGIN:STANDARD
TZOFFSETFROM:+0100
TZOFFSETTO:+0000
TZNAME:GMT
DTSTART:20251026T010000
END:STANDARD
BEGIN:DAYLIGHT
TZOFFSETFROM:+0000
TZOFFSETTO:+0100
TZNAME:BST
DTSTART:20260329T010000
END:DAYLIGHT
BEGIN:STANDARD
TZOFFSETFROM:+0100
TZOFFSETTO:+0000
TZNAME:GMT
DTSTART:20261025T010000
END:STANDARD
BEGIN:DAYLIGHT
TZOFFSETFROM:+0000
TZOFFSETTO:+0100
TZNAME:BST
DTSTART:20270328T010000
END:DAYLIGHT
BEGIN:STANDARD
TZOFFSETFROM:+0100
TZOFFSETTO:+0000
TZNAME:GMT
DTSTART:20271031T010000
END:STANDARD
END:VTIMEZONE
BEGIN:VEVENT
DTSTART;TZID=Europe/London:20260322T103000
DTEND;TZID=Europe/London:20260322T120000
DTSTAMP:20260419T184422
CREATED:20251021T105509Z
LAST-MODIFIED:20260315T223101Z
UID:10015284-1774175400-1774180800@calendarioeventos.com
SUMMARY:Visita Guiada - Canarias criminal e histórica
DESCRIPTION:Visita Guiada – Canarias criminal e histórica por Vegueta y Triana\, Las Palmas de Gran Canaria\, con Axis Mundi Cultura. \n\n\nVen y descubre el lado más criminal de Canarias en esta ruta que empieza en la Plaza de Santa Ana y recorre todo Triana. \nOirás historias anteriores a 1900 con intentos de envenenamientos a nobles\, pueblos enteros que decidieron contratar a sicarios o cómo se trataban los delitos que hoy conocemos como crímenes machistas. \nTRIGGER WARNING Durante la ruta explicaremos algunos casos violentos\, aunque no entramos en morbo\, se hace necesario para explicar diferencias de trato de los crímenes en el pasado y hoy. En caso de que seas muy sensible o hayas sido víctima de violencia\, te recomendamos que vengas a las otras rutas donde te lo pasarás genial sin necesidad de revivir ningún trauma. \nEntradas en este enlace. \nO reserva tu entrada mandando WhatsApp al 666 523 504 \n\n\n 
URL:https://calendarioeventos.com/en/evento/visita-guiada-canarias-criminal-e-historica/2026-03-22/
LOCATION:Plaza de Santa Ana\, Plaza Sta. Ana\, 35001 Las Palmas de Gran Canaria\, Las Palmas
CATEGORIES:Actividades,Las Palmas de GC,Municipio,Visita Guiada
ATTACH;FMTTYPE=image/jpeg:https://calendarioeventos.com/wp-content/uploads/2025/10/651812158_946623587885898_6639070038843813452_n.jpg
END:VEVENT
END:VCALENDAR