BEGIN:VCALENDAR
VERSION:2.0
PRODID:-//Calendario de Eventos Gran Canaria - ECPv6.15.17.1//NONSGML v1.0//EN
CALSCALE:GREGORIAN
METHOD:PUBLISH
X-WR-CALNAME:Calendario de Eventos Gran Canaria
X-ORIGINAL-URL:https://calendarioeventos.com/en
X-WR-CALDESC:Events for Calendario de Eventos Gran Canaria
REFRESH-INTERVAL;VALUE=DURATION:PT1H
X-Robots-Tag:noindex
X-PUBLISHED-TTL:PT1H
BEGIN:VTIMEZONE
TZID:Europe/London
BEGIN:DAYLIGHT
TZOFFSETFROM:+0000
TZOFFSETTO:+0100
TZNAME:BST
DTSTART:20250330T010000
END:DAYLIGHT
BEGIN:STANDARD
TZOFFSETFROM:+0100
TZOFFSETTO:+0000
TZNAME:GMT
DTSTART:20251026T010000
END:STANDARD
BEGIN:DAYLIGHT
TZOFFSETFROM:+0000
TZOFFSETTO:+0100
TZNAME:BST
DTSTART:20260329T010000
END:DAYLIGHT
BEGIN:STANDARD
TZOFFSETFROM:+0100
TZOFFSETTO:+0000
TZNAME:GMT
DTSTART:20261025T010000
END:STANDARD
BEGIN:DAYLIGHT
TZOFFSETFROM:+0000
TZOFFSETTO:+0100
TZNAME:BST
DTSTART:20270328T010000
END:DAYLIGHT
BEGIN:STANDARD
TZOFFSETFROM:+0100
TZOFFSETTO:+0000
TZNAME:GMT
DTSTART:20271031T010000
END:STANDARD
END:VTIMEZONE
BEGIN:VEVENT
DTSTART;TZID=Europe/London:20260131T100000
DTEND;TZID=Europe/London:20260131T113000
DTSTAMP:20260423T200645
CREATED:20250604T230000Z
LAST-MODIFIED:20260103T151927Z
UID:4003-1769853600-1769859000@calendarioeventos.com
SUMMARY:Visita Guiada - Centro histórico de Carrizal
DESCRIPTION:Visita Guiada – Centro histórico de Carrizal de Ingenio\, Gran Canaria. \nUn recorrido de aproximadamente 2 horas para conocer el patrimonio\, la arquitectura tradicional y las historias que han dado forma a nuestra identidad. \nActividad Gratuita. Se requiere reserva en este enlace.
URL:https://calendarioeventos.com/en/evento/visita-guiada-centro-historico-de-carrizal/
LOCATION:Carrizal de Ingenio\, 35240 Las Palmas
CATEGORIES:Actividades,Eventos gratuitos,Ingenio,Municipio,Precio,Visita Guiada
END:VEVENT
END:VCALENDAR