BEGIN:VCALENDAR
VERSION:2.0
PRODID:-//Calendario de Eventos Gran Canaria - ECPv6.15.17.1//NONSGML v1.0//EN
CALSCALE:GREGORIAN
METHOD:PUBLISH
X-WR-CALNAME:Calendario de Eventos Gran Canaria
X-ORIGINAL-URL:https://calendarioeventos.com/en
X-WR-CALDESC:Events for Calendario de Eventos Gran Canaria
REFRESH-INTERVAL;VALUE=DURATION:PT1H
X-Robots-Tag:noindex
X-PUBLISHED-TTL:PT1H
BEGIN:VTIMEZONE
TZID:Europe/London
BEGIN:DAYLIGHT
TZOFFSETFROM:+0000
TZOFFSETTO:+0100
TZNAME:BST
DTSTART:20250330T010000
END:DAYLIGHT
BEGIN:STANDARD
TZOFFSETFROM:+0100
TZOFFSETTO:+0000
TZNAME:GMT
DTSTART:20251026T010000
END:STANDARD
BEGIN:DAYLIGHT
TZOFFSETFROM:+0000
TZOFFSETTO:+0100
TZNAME:BST
DTSTART:20260329T010000
END:DAYLIGHT
BEGIN:STANDARD
TZOFFSETFROM:+0100
TZOFFSETTO:+0000
TZNAME:GMT
DTSTART:20261025T010000
END:STANDARD
BEGIN:DAYLIGHT
TZOFFSETFROM:+0000
TZOFFSETTO:+0100
TZNAME:BST
DTSTART:20270328T010000
END:DAYLIGHT
BEGIN:STANDARD
TZOFFSETFROM:+0100
TZOFFSETTO:+0000
TZNAME:GMT
DTSTART:20271031T010000
END:STANDARD
END:VTIMEZONE
BEGIN:VEVENT
DTSTART;TZID=Europe/London:20260228T093000
DTEND;TZID=Europe/London:20260228T123000
DTSTAMP:20260420T015007
CREATED:20260217T113816Z
LAST-MODIFIED:20260217T113816Z
UID:59771-1772271000-1772281800@calendarioeventos.com
SUMMARY:Visita Guiada - Etnobotánica en El Pinto
DESCRIPTION:Visita Guiada – Etnobotánica en El Pinto\, Arucas\, Gran Canaria. \n¿Conoces toda la cultura que hay detrás de las plantas de tu entorno?🌱 \n☝🏼¡Únete a la actividad «Etnobotánica en El Pinto»! \nDisfruta conociendo tu entorno a través de los usos y tradiciones relacionados con las especies vegetales que lo habitan. Te acompañamos a iniciarte en el mundo de la etnobotánica\, la identificación de flora local y la importancia de conocerla para la conservación de espacios como las Presas de El Pinto💚 \nLes invitamos a participar el próximo 28 de febrero🌱 El punto de encuentro será la Asociación de Vecinos Virgen del Rosario de La Goleta de Arucas y la actividad comenzará a las 9:30h. 👉🏼Lleva agua\, protección solar y calzado cómodo o de montaña ✨ \n👉🏼Para resolver cualquier duda o aclaración pueden ponerse en contacto con la educadora Sonia Sosa al teléfono 663 27 13 47 o a la dirección Proyectos@fundacioncanariasrecicla.org \n¡Escríbenos! Tu solicitud será atendida a partir del 20 de febrero. ¡Te esperamos!
URL:https://calendarioeventos.com/en/evento/visita-guiada-etnobotanica-en-el-pinto/
LOCATION:La Goleta Arucas\, 35400 Las Palmas
CATEGORIES:Actividades,Arucas,Eventos gratuitos,Senderismo,Visita Guiada
ATTACH;FMTTYPE=image/png:https://calendarioeventos.com/wp-content/uploads/2026/02/Screenshot-2026-02-17-at-11-34-24-Cuarta-Semana-•-Instagram.avif
END:VEVENT
END:VCALENDAR