BEGIN:VCALENDAR
VERSION:2.0
PRODID:-//Calendario de Eventos Gran Canaria - ECPv6.15.17.1//NONSGML v1.0//EN
CALSCALE:GREGORIAN
METHOD:PUBLISH
X-WR-CALNAME:Calendario de Eventos Gran Canaria
X-ORIGINAL-URL:https://calendarioeventos.com/en
X-WR-CALDESC:Events for Calendario de Eventos Gran Canaria
REFRESH-INTERVAL;VALUE=DURATION:PT1H
X-Robots-Tag:noindex
X-PUBLISHED-TTL:PT1H
BEGIN:VTIMEZONE
TZID:Europe/London
BEGIN:DAYLIGHT
TZOFFSETFROM:+0000
TZOFFSETTO:+0100
TZNAME:BST
DTSTART:20250330T010000
END:DAYLIGHT
BEGIN:STANDARD
TZOFFSETFROM:+0100
TZOFFSETTO:+0000
TZNAME:GMT
DTSTART:20251026T010000
END:STANDARD
BEGIN:DAYLIGHT
TZOFFSETFROM:+0000
TZOFFSETTO:+0100
TZNAME:BST
DTSTART:20260329T010000
END:DAYLIGHT
BEGIN:STANDARD
TZOFFSETFROM:+0100
TZOFFSETTO:+0000
TZNAME:GMT
DTSTART:20261025T010000
END:STANDARD
BEGIN:DAYLIGHT
TZOFFSETFROM:+0000
TZOFFSETTO:+0100
TZNAME:BST
DTSTART:20270328T010000
END:DAYLIGHT
BEGIN:STANDARD
TZOFFSETFROM:+0100
TZOFFSETTO:+0000
TZNAME:GMT
DTSTART:20271031T010000
END:STANDARD
END:VTIMEZONE
BEGIN:VEVENT
DTSTART;TZID=Europe/London:20260319T090000
DTEND;TZID=Europe/London:20260319T180000
DTSTAMP:20260419T172338
CREATED:20260305T125357Z
LAST-MODIFIED:20260305T125413Z
UID:64664-1773910800-1773943200@calendarioeventos.com
SUMMARY:Visita Guiada — «Gáldar para los mayores de la Villa de Moya»
DESCRIPTION:Visita Guiada — Visita a Gáldar para los mayores de la Villa de Moya\, Gran Canaria. \nSalida para nuestros mayores de la Villa de Moya.  \nEl próximo jueves 19 de marzo nos vamos de excursión a Gáldar para disfrutar de una jornada de convivencia\, buen ambiente y mucha alegría.  \nLa salida incluye almuerzo y baile en el Restaurante Dedo de Dios\, en Agaete\, con música en directo de Emilio Carisma. \nPlazas limitadas. Precio menú: 18 €.  \nMás información e inscripciones en el Centro de Mayores San Judas Tadeo o llamando al 928 610 071 – 682 770 415.
URL:https://calendarioeventos.com/en/evento/visita-guiada-galdar-para-los-mayores-de-la-villa-de-moya/
LOCATION:Moya
CATEGORIES:Actividades,Gastronomía,Música,Mayores,Moya,Visita Guiada
ATTACH;FMTTYPE=image/jpeg:https://calendarioeventos.com/wp-content/uploads/2026/03/visita-guiada-g-ldar-para-los-mayores-de-la-vil-1772715219215.avif
END:VEVENT
END:VCALENDAR