BEGIN:VCALENDAR
VERSION:2.0
PRODID:-//Calendario de Eventos Gran Canaria - ECPv6.15.17.1//NONSGML v1.0//EN
CALSCALE:GREGORIAN
METHOD:PUBLISH
X-WR-CALNAME:Calendario de Eventos Gran Canaria
X-ORIGINAL-URL:https://calendarioeventos.com/en
X-WR-CALDESC:Events for Calendario de Eventos Gran Canaria
REFRESH-INTERVAL;VALUE=DURATION:PT1H
X-Robots-Tag:noindex
X-PUBLISHED-TTL:PT1H
BEGIN:VTIMEZONE
TZID:Europe/London
BEGIN:DAYLIGHT
TZOFFSETFROM:+0000
TZOFFSETTO:+0100
TZNAME:BST
DTSTART:20250330T010000
END:DAYLIGHT
BEGIN:STANDARD
TZOFFSETFROM:+0100
TZOFFSETTO:+0000
TZNAME:GMT
DTSTART:20251026T010000
END:STANDARD
BEGIN:DAYLIGHT
TZOFFSETFROM:+0000
TZOFFSETTO:+0100
TZNAME:BST
DTSTART:20260329T010000
END:DAYLIGHT
BEGIN:STANDARD
TZOFFSETFROM:+0100
TZOFFSETTO:+0000
TZNAME:GMT
DTSTART:20261025T010000
END:STANDARD
BEGIN:DAYLIGHT
TZOFFSETFROM:+0000
TZOFFSETTO:+0100
TZNAME:BST
DTSTART:20270328T010000
END:DAYLIGHT
BEGIN:STANDARD
TZOFFSETFROM:+0100
TZOFFSETTO:+0000
TZNAME:GMT
DTSTART:20271031T010000
END:STANDARD
END:VTIMEZONE
BEGIN:VEVENT
DTSTART;TZID=Europe/London:20260321T090000
DTEND;TZID=Europe/London:20260321T113000
DTSTAMP:20260419T172013
CREATED:20260313T193638Z
LAST-MODIFIED:20260318T131301Z
UID:66109-1774083600-1774092600@calendarioeventos.com
SUMMARY:Visita Guiada — «Juncalillo – Ruta Interpretada»
DESCRIPTION:Visita Guiada — Juncalillo – Ruta Interpretada en la Iglesia de Juncalillo\, Gáldar\, Gran Canaria. \nUna caminata guiada para conocer la historia\, el paisaje y los valores naturales y culturales de este entorno único del norte de Gran Canaria. Este mes te invitamos a descubrir Juncalillo a través de experiencias únicas que combinan naturaleza y patrimonio. Un momento especial para conectar con el territorio\, caminar sus paisajes y dejarse sorprender por los valores de la zona. Una oportunidad perfecta para vivir el territorio de una forma diferente\, entre paisaje y cultura. \nLa asistencia es gratuita con plazas limitadas. Más información en el teléfono 651 346 455. Organiza: concejalías de Medianías y Turismo. \nInscripción en este enlace
URL:https://calendarioeventos.com/en/evento/visita-guiada-juncalillo-ruta-interpretada/
LOCATION:Juncalillo\, 35468 Las Palmas
CATEGORIES:Actividades,Eventos gratuitos,Gáldar,Visita Guiada
ATTACH;FMTTYPE=image/jpeg:https://calendarioeventos.com/wp-content/uploads/2026/03/visita-guiada-juncalillo-ruta-interpretada-1773430596230.jpeg
END:VEVENT
END:VCALENDAR