BEGIN:VCALENDAR
VERSION:2.0
PRODID:-//Calendario de Eventos Gran Canaria - ECPv6.15.17.1//NONSGML v1.0//EN
CALSCALE:GREGORIAN
METHOD:PUBLISH
X-WR-CALNAME:Calendario de Eventos Gran Canaria
X-ORIGINAL-URL:https://calendarioeventos.com/en
X-WR-CALDESC:Events for Calendario de Eventos Gran Canaria
REFRESH-INTERVAL;VALUE=DURATION:PT1H
X-Robots-Tag:noindex
X-PUBLISHED-TTL:PT1H
BEGIN:VTIMEZONE
TZID:Europe/London
BEGIN:DAYLIGHT
TZOFFSETFROM:+0000
TZOFFSETTO:+0100
TZNAME:BST
DTSTART:20250330T010000
END:DAYLIGHT
BEGIN:STANDARD
TZOFFSETFROM:+0100
TZOFFSETTO:+0000
TZNAME:GMT
DTSTART:20251026T010000
END:STANDARD
BEGIN:DAYLIGHT
TZOFFSETFROM:+0000
TZOFFSETTO:+0100
TZNAME:BST
DTSTART:20260329T010000
END:DAYLIGHT
BEGIN:STANDARD
TZOFFSETFROM:+0100
TZOFFSETTO:+0000
TZNAME:GMT
DTSTART:20261025T010000
END:STANDARD
BEGIN:DAYLIGHT
TZOFFSETFROM:+0000
TZOFFSETTO:+0100
TZNAME:BST
DTSTART:20270328T010000
END:DAYLIGHT
BEGIN:STANDARD
TZOFFSETFROM:+0100
TZOFFSETTO:+0000
TZNAME:GMT
DTSTART:20271031T010000
END:STANDARD
END:VTIMEZONE
BEGIN:VEVENT
DTSTART;TZID=Europe/London:20260314T093000
DTEND;TZID=Europe/London:20260314T133000
DTSTAMP:20260419T225458
CREATED:20260303T104351Z
LAST-MODIFIED:20260303T104633Z
UID:10014695-1773480600-1773495000@calendarioeventos.com
SUMMARY:Visita Guiada — «La Cueva de los Candiles. Paisaje\, simbolismo y memoria»
DESCRIPTION:Visita Guiada — «La Cueva de los Candiles. Paisaje\, simbolismo y memoria» en Artenara\, Gran Canaria. \nEn el Risco Chapín\, dentro de la Caldera de Tejeda\, se encuentra la Cueva de los Candiles\, integrada en el Paisaje Cultural de Risco Caído y los Espacios Sagrados de Montaña de Gran Canaria\, declarado Patrimonio Mundial por la UNESCO. \nExcavada artificialmente en la roca y situada en una posición elevada con dominio visual sobre el entorno\, en conexión simbólica con el Roque Nublo y el Roque Bentayga\, su localización apunta a un espacio de carácter ritual más que doméstico. En su interior se conserva uno de los conjuntos rupestres más singulares de la isla: más de 300 grabados de triángulos invertidos vinculados a la fertilidad y la reproducción de la comunidad indígena. \nLa actividad incluye traslados gratuitos en guagua con salida desde la Fuente Luminosa en Las Palmas de Gran Canaria a las 09:30 h. El acceso a la cueva conlleva un tramo de descenso vertical por un risco con pasamanos\, no apto para personas con vértigo\, y requiere una condición física adecuada para la subida posterior. \nInscripción en este enlace
URL:https://calendarioeventos.com/en/evento/visita-guiada-la-cueva-de-los-candiles-paisaje-simbolismo-y-memoria/2026-03-14/
LOCATION:Artenara
CATEGORIES:Actividades,Artenara,Eventos gratuitos,Visita Guiada
ATTACH;FMTTYPE=image/png:https://calendarioeventos.com/wp-content/uploads/2026/03/21174ea7cb099685072124d5c64de62d-O9O5SA.avif
END:VEVENT
END:VCALENDAR