BEGIN:VCALENDAR
VERSION:2.0
PRODID:-//Calendario de Eventos Gran Canaria - ECPv6.15.17.1//NONSGML v1.0//EN
CALSCALE:GREGORIAN
METHOD:PUBLISH
X-WR-CALNAME:Calendario de Eventos Gran Canaria
X-ORIGINAL-URL:https://calendarioeventos.com/en
X-WR-CALDESC:Events for Calendario de Eventos Gran Canaria
REFRESH-INTERVAL;VALUE=DURATION:PT1H
X-Robots-Tag:noindex
X-PUBLISHED-TTL:PT1H
BEGIN:VTIMEZONE
TZID:Europe/London
BEGIN:DAYLIGHT
TZOFFSETFROM:+0000
TZOFFSETTO:+0100
TZNAME:BST
DTSTART:20250330T010000
END:DAYLIGHT
BEGIN:STANDARD
TZOFFSETFROM:+0100
TZOFFSETTO:+0000
TZNAME:GMT
DTSTART:20251026T010000
END:STANDARD
BEGIN:DAYLIGHT
TZOFFSETFROM:+0000
TZOFFSETTO:+0100
TZNAME:BST
DTSTART:20260329T010000
END:DAYLIGHT
BEGIN:STANDARD
TZOFFSETFROM:+0100
TZOFFSETTO:+0000
TZNAME:GMT
DTSTART:20261025T010000
END:STANDARD
BEGIN:DAYLIGHT
TZOFFSETFROM:+0000
TZOFFSETTO:+0100
TZNAME:BST
DTSTART:20270328T010000
END:DAYLIGHT
BEGIN:STANDARD
TZOFFSETFROM:+0100
TZOFFSETTO:+0000
TZNAME:GMT
DTSTART:20271031T010000
END:STANDARD
END:VTIMEZONE
BEGIN:VEVENT
DTSTART;TZID=Europe/London:20260226T180000
DTEND;TZID=Europe/London:20260226T193000
DTSTAMP:20260421T023749
CREATED:20260129T120148Z
LAST-MODIFIED:20260129T120148Z
UID:54906-1772128800-1772134200@calendarioeventos.com
SUMMARY:Visita Guiada - Paisajes Insulares Distópicos - San Mateo
DESCRIPTION:Visita Guiada a la exposición Paisajes Insulares Distópicos en la Sala de Exposiciones La Caldereta\, Vega de San Mateo\, Gran Canaria. \nVisita guiada a la exposición a cargo del artista\, Germán Páez. \nActividad gratuita. Aforo limitado.
URL:https://calendarioeventos.com/en/evento/visita-guiada-paisajes-insulares-distopicos-san-mateo/
LOCATION:La Caldereta Sala de Exposiciones\, Calle Dr. Ramírez Cabrera\, 9\, 35320 Vega de San Mateo\, Las Palmas
CATEGORIES:Actividades,Arte,Eventos gratuitos,San Mateo,Visita Guiada
ATTACH;FMTTYPE=image/png:https://calendarioeventos.com/wp-content/uploads/2026/01/Screenshot-2026-01-29-at-11-59-38-Agenda_Cultural_Cabildo_de_Gran_Canaria.pdf.avif
END:VEVENT
END:VCALENDAR