BEGIN:VCALENDAR
VERSION:2.0
PRODID:-//Calendario de Eventos Gran Canaria - ECPv6.15.17.1//NONSGML v1.0//EN
CALSCALE:GREGORIAN
METHOD:PUBLISH
X-WR-CALNAME:Calendario de Eventos Gran Canaria
X-ORIGINAL-URL:https://calendarioeventos.com/en
X-WR-CALDESC:Events for Calendario de Eventos Gran Canaria
REFRESH-INTERVAL;VALUE=DURATION:PT1H
X-Robots-Tag:noindex
X-PUBLISHED-TTL:PT1H
BEGIN:VTIMEZONE
TZID:Europe/London
BEGIN:DAYLIGHT
TZOFFSETFROM:+0000
TZOFFSETTO:+0100
TZNAME:BST
DTSTART:20250330T010000
END:DAYLIGHT
BEGIN:STANDARD
TZOFFSETFROM:+0100
TZOFFSETTO:+0000
TZNAME:GMT
DTSTART:20251026T010000
END:STANDARD
BEGIN:DAYLIGHT
TZOFFSETFROM:+0000
TZOFFSETTO:+0100
TZNAME:BST
DTSTART:20260329T010000
END:DAYLIGHT
BEGIN:STANDARD
TZOFFSETFROM:+0100
TZOFFSETTO:+0000
TZNAME:GMT
DTSTART:20261025T010000
END:STANDARD
BEGIN:DAYLIGHT
TZOFFSETFROM:+0000
TZOFFSETTO:+0100
TZNAME:BST
DTSTART:20270328T010000
END:DAYLIGHT
BEGIN:STANDARD
TZOFFSETFROM:+0100
TZOFFSETTO:+0000
TZNAME:GMT
DTSTART:20271031T010000
END:STANDARD
END:VTIMEZONE
BEGIN:VEVENT
DTSTART;TZID=Europe/London:20260115T180000
DTEND;TZID=Europe/London:20260115T193000
DTSTAMP:20260423T151803
CREATED:20251230T183907Z
LAST-MODIFIED:20251230T183907Z
UID:48517-1768500000-1768505400@calendarioeventos.com
SUMMARY:Visita Guiada - Serenidad en el Caos
DESCRIPTION:Visita Guiada a la exposición ‘Serenidad en el Caos’ en la Sala de Exposiciones de las Casas Consistoriales\, Telde\, Gran Canaria. \nVisita guiada a la exposición de Alicia Lasala a cargo de la propia artista. \nEntrada gratuita.
URL:https://calendarioeventos.com/en/evento/visita-guiada-serenidad-en-el-caos/
LOCATION:Casas Consistoriales de Telde\, Pl. de San Juan\, 2\, 35200 Telde\, Las Palmas
CATEGORIES:Actividades,Arte,Eventos gratuitos,Telde,Visita Guiada
ATTACH;FMTTYPE=image/png:https://calendarioeventos.com/wp-content/uploads/2025/09/Screenshot-2025-12-30-at-18-18-18-Agenda_Cultural_Cabildo_de_Gran_Canaria.pdf.avif
END:VEVENT
END:VCALENDAR