BEGIN:VCALENDAR
VERSION:2.0
PRODID:-//Calendario de Eventos Gran Canaria - ECPv6.15.17.1//NONSGML v1.0//EN
CALSCALE:GREGORIAN
METHOD:PUBLISH
X-WR-CALNAME:Calendario de Eventos Gran Canaria
X-ORIGINAL-URL:https://calendarioeventos.com/en
X-WR-CALDESC:Events for Calendario de Eventos Gran Canaria
REFRESH-INTERVAL;VALUE=DURATION:PT1H
X-Robots-Tag:noindex
X-PUBLISHED-TTL:PT1H
BEGIN:VTIMEZONE
TZID:Europe/London
BEGIN:DAYLIGHT
TZOFFSETFROM:+0000
TZOFFSETTO:+0100
TZNAME:BST
DTSTART:20240331T010000
END:DAYLIGHT
BEGIN:STANDARD
TZOFFSETFROM:+0100
TZOFFSETTO:+0000
TZNAME:GMT
DTSTART:20241027T010000
END:STANDARD
BEGIN:DAYLIGHT
TZOFFSETFROM:+0000
TZOFFSETTO:+0100
TZNAME:BST
DTSTART:20250330T010000
END:DAYLIGHT
BEGIN:STANDARD
TZOFFSETFROM:+0100
TZOFFSETTO:+0000
TZNAME:GMT
DTSTART:20251026T010000
END:STANDARD
BEGIN:DAYLIGHT
TZOFFSETFROM:+0000
TZOFFSETTO:+0100
TZNAME:BST
DTSTART:20260329T010000
END:DAYLIGHT
BEGIN:STANDARD
TZOFFSETFROM:+0100
TZOFFSETTO:+0000
TZNAME:GMT
DTSTART:20261025T010000
END:STANDARD
END:VTIMEZONE
BEGIN:VEVENT
DTSTART;TZID=Europe/London:20251122T090000
DTEND;TZID=Europe/London:20251122T130000
DTSTAMP:20260425T131535
CREATED:20251106T211915Z
LAST-MODIFIED:20251106T211915Z
UID:30521-1763802000-1763816400@calendarioeventos.com
SUMMARY:Visita Guiada - Un paseo entre fosas y tajos
DESCRIPTION:Visita Guiada – Un paseo entre fosas y tajos\, dentro de «Rutas con Historia» por la Bahía de Pozo Izquierdo\, Santa Lucía\, Gran Canaria. \nInscripciones en el Ateneo Municipal. \n  \n  \n 
URL:https://calendarioeventos.com/en/evento/visita-guiada-un-paseo-entre-fosas-y-tajos/
LOCATION:Pozo Izquierdo
CATEGORIES:Actividades,Eventos gratuitos,Santa Lucía de Tirajana,Senderismo,Visita Guiada
ATTACH;FMTTYPE=image/jpeg:https://calendarioeventos.com/wp-content/uploads/2025/11/575273816_18031453808739169_8415200153362679469_n.avif
END:VEVENT
END:VCALENDAR