BEGIN:VCALENDAR
VERSION:2.0
PRODID:-//Calendario de Eventos Gran Canaria - ECPv6.15.17.1//NONSGML v1.0//EN
CALSCALE:GREGORIAN
METHOD:PUBLISH
X-WR-CALNAME:Calendario de Eventos Gran Canaria
X-ORIGINAL-URL:https://calendarioeventos.com/en
X-WR-CALDESC:Events for Calendario de Eventos Gran Canaria
REFRESH-INTERVAL;VALUE=DURATION:PT1H
X-Robots-Tag:noindex
X-PUBLISHED-TTL:PT1H
BEGIN:VTIMEZONE
TZID:Europe/London
BEGIN:DAYLIGHT
TZOFFSETFROM:+0000
TZOFFSETTO:+0100
TZNAME:BST
DTSTART:20250330T010000
END:DAYLIGHT
BEGIN:STANDARD
TZOFFSETFROM:+0100
TZOFFSETTO:+0000
TZNAME:GMT
DTSTART:20251026T010000
END:STANDARD
BEGIN:DAYLIGHT
TZOFFSETFROM:+0000
TZOFFSETTO:+0100
TZNAME:BST
DTSTART:20260329T010000
END:DAYLIGHT
BEGIN:STANDARD
TZOFFSETFROM:+0100
TZOFFSETTO:+0000
TZNAME:GMT
DTSTART:20261025T010000
END:STANDARD
BEGIN:DAYLIGHT
TZOFFSETFROM:+0000
TZOFFSETTO:+0100
TZNAME:BST
DTSTART:20270328T010000
END:DAYLIGHT
BEGIN:STANDARD
TZOFFSETFROM:+0100
TZOFFSETTO:+0000
TZNAME:GMT
DTSTART:20271031T010000
END:STANDARD
END:VTIMEZONE
BEGIN:VEVENT
DTSTART;TZID=Europe/London:20260125T103000
DTEND;TZID=Europe/London:20260125T120000
DTSTAMP:20260421T192031
CREATED:20260122T120725Z
LAST-MODIFIED:20260122T120812Z
UID:10012988-1769337000-1769342400@calendarioeventos.com
SUMMARY:Visita guiada - Visita en familia: Paisaje Cultural barrio de San Cristóbal
DESCRIPTION:Visita guiada – Visita en familia: Paisaje Cultural barrio de San Cristóbalde Patrimonio Vivo\, en Las Palmas de Gran Canaria. \n¡Prepara tu curiosidad!\nSan Cristóbal\, uno de los barrios marineros más queridos de Las Palmas de Gran Canaria\, abre sus calles y su costa para que vivas una aventura llena de historia\, tradición y mar. \nEn esta visita en familia nos adentraremos en un lugar donde cada esquina guarda un recuerdo y cada ola nos cuenta una historia. Los menores podrán ponerse en la piel de exploradores mientras descubren cómo nació este barrio y por qué a sus habitantes se les conoce con el curioso gentilicio de “chacalotes”. \n👨‍👩‍👧‍👦 DIRIGIDO A MENORES ACOMPAÑADOS (6–17 años) \nLa reserva se formalizará mediante la inscripción de uno o dos adultos acompañantes responsables de uno o dos menores. \n📅 Fechas: 25 de enero y 1 de febrero\n🕒 Horario: 10:30 h \n📍 Punto de encuentro:\nParque del Barrio Pesquero\nC. Popa\, 15\, 35016 \n⚠️ Inscripción previa\, a partir del 21 de enero: visitaspatrimonio.grancanaria.com \n  \n  \n 
URL:https://calendarioeventos.com/en/evento/visita-guiada-visita-en-familia-paisaje-cultural-barrio-de-san-cristobal/2026-01-25/
LOCATION:San Cristobal\, 35016\, Las Palmas
CATEGORIES:Actividades,Eventos gratuitos,Infantil,Las Palmas de GC,Visita Guiada
ATTACH;FMTTYPE=image/png:https://calendarioeventos.com/wp-content/uploads/2026/01/Screenshot-2026-01-22-at-12-02-42-Cuarta-Semana-•-Instagram.avif
END:VEVENT
END:VCALENDAR