BEGIN:VCALENDAR
VERSION:2.0
PRODID:-//Calendario de Eventos Gran Canaria - ECPv6.15.17.1//NONSGML v1.0//EN
CALSCALE:GREGORIAN
METHOD:PUBLISH
X-WR-CALNAME:Calendario de Eventos Gran Canaria
X-ORIGINAL-URL:https://calendarioeventos.com/en
X-WR-CALDESC:Events for Calendario de Eventos Gran Canaria
REFRESH-INTERVAL;VALUE=DURATION:PT1H
X-Robots-Tag:noindex
X-PUBLISHED-TTL:PT1H
BEGIN:VTIMEZONE
TZID:Europe/London
BEGIN:DAYLIGHT
TZOFFSETFROM:+0000
TZOFFSETTO:+0100
TZNAME:BST
DTSTART:20240331T010000
END:DAYLIGHT
BEGIN:STANDARD
TZOFFSETFROM:+0100
TZOFFSETTO:+0000
TZNAME:GMT
DTSTART:20241027T010000
END:STANDARD
BEGIN:DAYLIGHT
TZOFFSETFROM:+0000
TZOFFSETTO:+0100
TZNAME:BST
DTSTART:20250330T010000
END:DAYLIGHT
BEGIN:STANDARD
TZOFFSETFROM:+0100
TZOFFSETTO:+0000
TZNAME:GMT
DTSTART:20251026T010000
END:STANDARD
BEGIN:DAYLIGHT
TZOFFSETFROM:+0000
TZOFFSETTO:+0100
TZNAME:BST
DTSTART:20260329T010000
END:DAYLIGHT
BEGIN:STANDARD
TZOFFSETFROM:+0100
TZOFFSETTO:+0000
TZNAME:GMT
DTSTART:20261025T010000
END:STANDARD
END:VTIMEZONE
BEGIN:VEVENT
DTSTART;TZID=Europe/London:20251220T060000
DTEND;TZID=Europe/London:20251220T120000
DTSTAMP:20260425T142140
CREATED:20251215T095138Z
LAST-MODIFIED:20251215T095138Z
UID:10011603-1766210400-1766232000@calendarioeventos.com
SUMMARY:Visita guiada - Yacimientos Estrella
DESCRIPTION:Visita guiada “Yacimientos Estrella” de Patrimonio Vivo\, en Acusa\, Artenara\, Gran Canaria. \nCuando llega el solsticio\, el paisaje de Acusa se convierte en un escenario privilegiado para observar cómo el invierno abre sus puertas sobre las cumbres de Gran Canaria. Este enclave\, situado dentro de la Reserva de la Biosfera\, el Parque Rural del Nublo y el territorio de las Montañas Sagradas\, hoy Patrimonio Mundial\, ofrece uno de los lugares más impresionantes característicos por su naturaleza y cultura. \nEn estas fechas\, el recorrido del sol adopta su posición más meridional en un lugar que se convirtió en un punto estratégico para interpretar el calendario natural. La relación visual con hitos como el Bentayga aporta un único contexto que permite comprender por qué el amanecer de diciembre era tan significativo para las sociedades prehispánicas. \nPodrás presenciar la salida del sol sobre la cumbre occidental y conocer cómo los antiguos habitantes de Gran Canaria integraban las variaciones estacionales en su organización social\, agrícola y simbólica. La conjunción entre astronomía\, paisaje y tradición cultural nos ayudará a acercarnos a la manera en que estas comunidades se relacionaron con su entorno. \n📆 Fechas: 20\, 21 y 22 de diciembre.\n🕙 7:00h.\n📍 La plaza de la Vega de Acusa\, Reserva de la Biosfera\, el Parque Rural del Nublo.\n⚠️ Inscripción previa\, a partir del 15 de diciembre: visitaspatrimonio.grancanaria.com \nSi va en guagua\, a las 6:00h. salida de la Fuente Luminosa\, Las Palmas de Gran Canaria. \n-Duración estimada: 5h.\n-Actividad gratuita\n-Accesibilidad: Media-alta (irregularidad del terreno).\n-Se recomienda ropa de abrigo\, protección solar\, agua y calzado adecuado\, bastones de senderismo. \n  \n  \n 
URL:https://calendarioeventos.com/en/evento/visita-guiada-yacimientos-estrella/2025-12-20/
LOCATION:Fuente Luminosa\, Pl. Fuero Real de Gran Canaria\, s/n\, 35004 Las Palmas de Gran Canaria\, Las Palmas
CATEGORIES:Actividades,Artenara,Eventos gratuitos,Visita Guiada
ATTACH;FMTTYPE=image/png:https://calendarioeventos.com/wp-content/uploads/2025/12/Screenshot-2025-12-15-at-09-47-49-Instagram.avif
END:VEVENT
END:VCALENDAR