BEGIN:VCALENDAR
VERSION:2.0
PRODID:-//Calendario de Eventos Gran Canaria - ECPv6.15.17.1//NONSGML v1.0//EN
CALSCALE:GREGORIAN
METHOD:PUBLISH
X-WR-CALNAME:Calendario de Eventos Gran Canaria
X-ORIGINAL-URL:https://calendarioeventos.com/en
X-WR-CALDESC:Events for Calendario de Eventos Gran Canaria
REFRESH-INTERVAL;VALUE=DURATION:PT1H
X-Robots-Tag:noindex
X-PUBLISHED-TTL:PT1H
BEGIN:VTIMEZONE
TZID:Europe/London
BEGIN:DAYLIGHT
TZOFFSETFROM:+0000
TZOFFSETTO:+0100
TZNAME:BST
DTSTART:20240331T010000
END:DAYLIGHT
BEGIN:STANDARD
TZOFFSETFROM:+0100
TZOFFSETTO:+0000
TZNAME:GMT
DTSTART:20241027T010000
END:STANDARD
BEGIN:DAYLIGHT
TZOFFSETFROM:+0000
TZOFFSETTO:+0100
TZNAME:BST
DTSTART:20250330T010000
END:DAYLIGHT
BEGIN:STANDARD
TZOFFSETFROM:+0100
TZOFFSETTO:+0000
TZNAME:GMT
DTSTART:20251026T010000
END:STANDARD
BEGIN:DAYLIGHT
TZOFFSETFROM:+0000
TZOFFSETTO:+0100
TZNAME:BST
DTSTART:20260329T010000
END:DAYLIGHT
BEGIN:STANDARD
TZOFFSETFROM:+0100
TZOFFSETTO:+0000
TZNAME:GMT
DTSTART:20261025T010000
END:STANDARD
END:VTIMEZONE
BEGIN:VEVENT
DTSTART;TZID=Europe/London:20251220T120000
DTEND;TZID=Europe/London:20251220T140000
DTSTAMP:20260424T082945
CREATED:20251125T144205Z
LAST-MODIFIED:20251223T142431Z
UID:10011436-1766232000-1766239200@calendarioeventos.com
SUMMARY:Vive la Navidad más Gamberra
DESCRIPTION:Vive la Navidad más Gamberra en el Mercado del Puerto\, Las Palmas de Gran Canaria. \n13 de diciembre:  Actividades aplazadas \n\n12:00h – Títeres: El Hada de los dientes.\n13:00h – Villancicos.\n17:30h – Gran Concierto Bienvenidad Navidad con Maldita EGB y Los 600.\n\n19 de diciembre: \n\n20:00h – Mr Kangrejo Dj Set.\n\n20 de diciembre: \n\n12:00h – El Dragón y la Mariposa.\n13:00h – Joana Cerpa.\n\n27 de diciembre: \n\n12:00h – Titeres: El Panadero Generoso.\n13:00h – Villancicos con Zaida Jiménez.\n17:30h – Gran Concierto Bienvenidad Navidad con Maldita EGB y Los 600.\n\n3 de enero: \n\n12:00h – Títeres: Ilusión.\n13:00h – Villancicos con Joana Cerpa\n\n10 de enero: \n\n12:00h – Títeres: El Hada de los Dientes.\n13:00h – Popurrí de Canciones con Zaida Jiménez.
URL:https://calendarioeventos.com/en/evento/vive-la-navidad-mas-gamberra/2025-12-20/
LOCATION:Mercado del Puerto\, Las palmas de gran canaria\, la isleta\, Las palmas de gran canaria\, Spain
CATEGORIES:Concierto,Entretenimiento,Eventos gratuitos,Infantil,Las Palmas de GC,Música,Títeres
ATTACH;FMTTYPE=image/png:https://calendarioeventos.com/wp-content/uploads/2025/11/Screenshot-2025-12-04-at-10-49-44-Instagram.avif
END:VEVENT
END:VCALENDAR