BEGIN:VCALENDAR
VERSION:2.0
PRODID:-//Calendario de Eventos Gran Canaria - ECPv6.15.17.1//NONSGML v1.0//EN
CALSCALE:GREGORIAN
METHOD:PUBLISH
X-WR-CALNAME:Calendario de Eventos Gran Canaria
X-ORIGINAL-URL:https://calendarioeventos.com/en
X-WR-CALDESC:Events for Calendario de Eventos Gran Canaria
REFRESH-INTERVAL;VALUE=DURATION:PT1H
X-Robots-Tag:noindex
X-PUBLISHED-TTL:PT1H
BEGIN:VTIMEZONE
TZID:Europe/London
BEGIN:DAYLIGHT
TZOFFSETFROM:+0000
TZOFFSETTO:+0100
TZNAME:BST
DTSTART:20250330T010000
END:DAYLIGHT
BEGIN:STANDARD
TZOFFSETFROM:+0100
TZOFFSETTO:+0000
TZNAME:GMT
DTSTART:20251026T010000
END:STANDARD
BEGIN:DAYLIGHT
TZOFFSETFROM:+0000
TZOFFSETTO:+0100
TZNAME:BST
DTSTART:20260329T010000
END:DAYLIGHT
BEGIN:STANDARD
TZOFFSETFROM:+0100
TZOFFSETTO:+0000
TZNAME:GMT
DTSTART:20261025T010000
END:STANDARD
BEGIN:DAYLIGHT
TZOFFSETFROM:+0000
TZOFFSETTO:+0100
TZNAME:BST
DTSTART:20270328T010000
END:DAYLIGHT
BEGIN:STANDARD
TZOFFSETFROM:+0100
TZOFFSETTO:+0000
TZNAME:GMT
DTSTART:20271031T010000
END:STANDARD
END:VTIMEZONE
BEGIN:VEVENT
DTSTART;TZID=Europe/London:20260315T110000
DTEND;TZID=Europe/London:20260315T140000
DTSTAMP:20260421T131408
CREATED:20260223T213203Z
LAST-MODIFIED:20260311T181944Z
UID:10015102-1773572400-1773583200@calendarioeventos.com
SUMMARY:«XIII Feria Regional de Productos de la Tierra»
DESCRIPTION:XIII Feria Regional de Productos de la Tierra en Vega de San Mateo\, San Mateo. \nDurante los días 13\, 14 y 15 de marzo de 2026\, desde la Concejalía de Ferias que dirige Auxi Ojeda se vuelve a organizar una nueva edición de la Feria de Productos de la Tierra\, un espacio para poner en valor el trabajo de nuestros productores\, la calidad del producto local y las tradiciones que nos definen. \nSabores auténticos\, elaboración artesanal y encuentro entre quienes hacen posible que lo nuestro llegue a la mesa. \nPrograma: \n\nVIERNES 13\n12:00 Inauguración Institucional de La XIII Feria de Productos de La Tierra.\n12:00 Armonías. Vinos y quesos de Gran Canaria.\n13:00 Cata de Gofio. Gofio de millo de San Mateo.\n17:00 Armonías. Sidras y quesos de Gran Canaria.\n18:00 Armonías\, Mieles y quesos de Gran Canaria.\nSÁBADO 14\n11:00 Armonías. Vinos y quesos de Medianías de Gran Canaria.\n12:00 Catare interpretación de los vinos de Gran Canaria.\n13:00 Cata e interpretación de los quesos de Gran Canaria.\n17:00 Armonías\, Sidras y quesos de Gran Canaria.\n18:00 Armonías. Vinos y quesos.\n18:00 Actuación Parranda el Mejunje.\nDOMINGO 15\n11:00 Cata de Gofio. Gofio de millo de Buen Lugar y La Piña.\n12:00 Armonías. Sidras y quesos esos de Gran Canaria.\n13:00 Armonías y contrastes. Vinos dulces y quesos curados de Gran Canaria.
URL:https://calendarioeventos.com/en/evento/xiii-feria-regional-de-productos-de-la-tierra/2026-03-15/
LOCATION:Ayuntamiento de Vega de San Mateo\, nº 3\, Plaza Alameda de Sta. Ana\, 35320 Vega de San Mateo\, Las Palmas
CATEGORIES:Actividades,Eventos gratuitos,Feria,Gastronomía,San Mateo
ATTACH;FMTTYPE=image/jpeg:https://calendarioeventos.com/wp-content/uploads/2026/02/xiii-feria-regional-de-productos-de-la-tierra-1771882321863.avif
END:VEVENT
END:VCALENDAR