BEGIN:VCALENDAR
VERSION:2.0
PRODID:-//Calendario de Eventos Gran Canaria - ECPv6.15.17.1//NONSGML v1.0//EN
CALSCALE:GREGORIAN
METHOD:PUBLISH
X-WR-CALNAME:Calendario de Eventos Gran Canaria
X-ORIGINAL-URL:https://calendarioeventos.com/en
X-WR-CALDESC:Events for Calendario de Eventos Gran Canaria
REFRESH-INTERVAL;VALUE=DURATION:PT1H
X-Robots-Tag:noindex
X-PUBLISHED-TTL:PT1H
BEGIN:VTIMEZONE
TZID:Europe/London
BEGIN:DAYLIGHT
TZOFFSETFROM:+0000
TZOFFSETTO:+0100
TZNAME:BST
DTSTART:20240331T010000
END:DAYLIGHT
BEGIN:STANDARD
TZOFFSETFROM:+0100
TZOFFSETTO:+0000
TZNAME:GMT
DTSTART:20241027T010000
END:STANDARD
BEGIN:DAYLIGHT
TZOFFSETFROM:+0000
TZOFFSETTO:+0100
TZNAME:BST
DTSTART:20250330T010000
END:DAYLIGHT
BEGIN:STANDARD
TZOFFSETFROM:+0100
TZOFFSETTO:+0000
TZNAME:GMT
DTSTART:20251026T010000
END:STANDARD
BEGIN:DAYLIGHT
TZOFFSETFROM:+0000
TZOFFSETTO:+0100
TZNAME:BST
DTSTART:20260329T010000
END:DAYLIGHT
BEGIN:STANDARD
TZOFFSETFROM:+0100
TZOFFSETTO:+0000
TZNAME:GMT
DTSTART:20261025T010000
END:STANDARD
END:VTIMEZONE
BEGIN:VEVENT
DTSTART;TZID=Europe/London:20251228T180000
DTEND;TZID=Europe/London:20251228T210000
DTSTAMP:20260425T112858
CREATED:20251111T121141Z
LAST-MODIFIED:20251130T194553Z
UID:10009085-1766944800-1766955600@calendarioeventos.com
SUMMARY:XIV Concierto Popular de Año Nuevo
DESCRIPTION:XIV Concierto Popular de Año Nuevo en el Auditorio Alfredo Kraus\, Las Palmas de Gran Canaria \nLos días 26\, 27 y 28 de diciembre\, el Auditorio Alfredo Kraus acoge la cita habitual de las fechas navideñas: el XIV Concierto de Año Nuevo de la Orquesta Sinfónica de Las Palmas. \nEl programa incluye fragmentos de grandes obras del repertorio lírico y sinfónico\, con la destacada participación de la soprano Leonor Bonilla y la joven violinista Katia Nuez. Bajo la dirección de Rafael Sánchez Araña\, y con el brillo del Coro dirigido por Maite Robaina\, la orquesta ofrece un espectáculo lleno de emoción y magia navideña. \nEl Concierto Popular de Año Nuevo se ha convertido en un evento anual ineludible\, agotando todas las localidades y consolidándose como una tradición en la ciudad. Además\, este proyecto facilita que músicos jóvenes de Gran Canaria adquieran experiencia profesional junto a directores y solistas de renombre. \nCon más de 25 años de trayectoria\, la Orquesta Sinfónica de Las Palmas combina talento local y experiencia internacional\, ofreciendo siempre la más alta calidad musical y contribuyendo al reconocimiento de los músicos en Canarias. \nSesiones a las 18 y 21h. \nEntradas en este enlace
URL:https://calendarioeventos.com/en/evento/xiv-concierto-popular-de-ano-nuevo/2025-12-28/
LOCATION:Auditorio Alfredo Kraus\, Avda\, Ctra. del Rincón\, s/n\, 35010 Las Palmas de Gran Canaria\, Las Palmas
CATEGORIES:Concierto,Cultura,Las Palmas de GC,Música,Municipio
ATTACH;FMTTYPE=image/png:https://calendarioeventos.com/wp-content/uploads/2025/11/Screenshot-2025-11-30-at-19-45-24-Instagram.avif
END:VEVENT
END:VCALENDAR