BEGIN:VCALENDAR
VERSION:2.0
PRODID:-//Calendario de Eventos Gran Canaria - ECPv6.15.17.1//NONSGML v1.0//EN
CALSCALE:GREGORIAN
METHOD:PUBLISH
X-WR-CALNAME:Calendario de Eventos Gran Canaria
X-ORIGINAL-URL:https://calendarioeventos.com/en
X-WR-CALDESC:Events for Calendario de Eventos Gran Canaria
REFRESH-INTERVAL;VALUE=DURATION:PT1H
X-Robots-Tag:noindex
X-PUBLISHED-TTL:PT1H
BEGIN:VTIMEZONE
TZID:Europe/London
BEGIN:DAYLIGHT
TZOFFSETFROM:+0000
TZOFFSETTO:+0100
TZNAME:BST
DTSTART:20240331T010000
END:DAYLIGHT
BEGIN:STANDARD
TZOFFSETFROM:+0100
TZOFFSETTO:+0000
TZNAME:GMT
DTSTART:20241027T010000
END:STANDARD
BEGIN:DAYLIGHT
TZOFFSETFROM:+0000
TZOFFSETTO:+0100
TZNAME:BST
DTSTART:20250330T010000
END:DAYLIGHT
BEGIN:STANDARD
TZOFFSETFROM:+0100
TZOFFSETTO:+0000
TZNAME:GMT
DTSTART:20251026T010000
END:STANDARD
BEGIN:DAYLIGHT
TZOFFSETFROM:+0000
TZOFFSETTO:+0100
TZNAME:BST
DTSTART:20260329T010000
END:DAYLIGHT
BEGIN:STANDARD
TZOFFSETFROM:+0100
TZOFFSETTO:+0000
TZNAME:GMT
DTSTART:20261025T010000
END:STANDARD
END:VTIMEZONE
BEGIN:VEVENT
DTSTART;TZID=Europe/London:20251122T100000
DTEND;TZID=Europe/London:20251122T130000
DTSTAMP:20260425T131535
CREATED:20251027T220421Z
LAST-MODIFIED:20251027T220421Z
UID:26001-1763805600-1763816400@calendarioeventos.com
SUMMARY:Yin Yoga & Taller de Pintura en Hormigón
DESCRIPTION:Taller Yin Yoga & Pintura en Hormigón\n🍂 Un encuentro donde la calma\, la creatividad y el color se unen. \n@_thepot_ y @kushalastudio te invitan a un espacio para bajar el ritmo\, conectar contigo y dar forma a las emociones a través del color. \nComenzaremos con una suave práctica de Yin Yoga\, abriendo cuerpo y mente desde la quietud\, para luego dejar fluir la inspiración en una sesión de pintura sobre hormigón. Una experiencia sensorial que une materia\, textura y emoción. \n🗓️Sábado 22 de noviembre\n🕢De 10:00-13:00\n📍Víctor Hugo\, 13 Las Palmas @koru_espaciocreativo \n☕️ Incluye un pequeño desayuno en buena compañía + un regalito\n🎨Te llevarás a casa dos piezas personalizadas por ti\n🧘🏻Todos los materiales están incluidos \nNo necesitas experiencia previa\, solo ganas de sentir\, crear y disfrutar.\n✨Reserva tu plaza y regálate un momento para ti. \nkushalastudio@gmail.com
URL:https://calendarioeventos.com/en/evento/yin-yoga-taller-de-pintura-en-hormigon/
LOCATION:Koru\, C. Víctor Hugo\, 13\, 35006 Las Palmas de Gran Canaria\, Las Palmas
CATEGORIES:Actividades,Arte,Las Palmas de GC,Taller,Yoga
ATTACH;FMTTYPE=image/png:https://calendarioeventos.com/wp-content/uploads/2025/10/Screenshot-2025-10-27-at-22-03-34-1-Instagram.avif
END:VEVENT
END:VCALENDAR