BEGIN:VCALENDAR
VERSION:2.0
PRODID:-//Calendario de Eventos Gran Canaria - ECPv6.15.17.1//NONSGML v1.0//EN
CALSCALE:GREGORIAN
METHOD:PUBLISH
X-WR-CALNAME:Calendario de Eventos Gran Canaria
X-ORIGINAL-URL:https://calendarioeventos.com/en
X-WR-CALDESC:Events for Calendario de Eventos Gran Canaria
REFRESH-INTERVAL;VALUE=DURATION:PT1H
X-Robots-Tag:noindex
X-PUBLISHED-TTL:PT1H
BEGIN:VTIMEZONE
TZID:Europe/London
BEGIN:DAYLIGHT
TZOFFSETFROM:+0000
TZOFFSETTO:+0100
TZNAME:BST
DTSTART:20250330T010000
END:DAYLIGHT
BEGIN:STANDARD
TZOFFSETFROM:+0100
TZOFFSETTO:+0000
TZNAME:GMT
DTSTART:20251026T010000
END:STANDARD
BEGIN:DAYLIGHT
TZOFFSETFROM:+0000
TZOFFSETTO:+0100
TZNAME:BST
DTSTART:20260329T010000
END:DAYLIGHT
BEGIN:STANDARD
TZOFFSETFROM:+0100
TZOFFSETTO:+0000
TZNAME:GMT
DTSTART:20261025T010000
END:STANDARD
BEGIN:DAYLIGHT
TZOFFSETFROM:+0000
TZOFFSETTO:+0100
TZNAME:BST
DTSTART:20270328T010000
END:DAYLIGHT
BEGIN:STANDARD
TZOFFSETFROM:+0100
TZOFFSETTO:+0000
TZNAME:GMT
DTSTART:20271031T010000
END:STANDARD
END:VTIMEZONE
BEGIN:VEVENT
DTSTART;TZID=Europe/London:20260314T104500
DTEND;TZID=Europe/London:20260314T121500
DTSTAMP:20260419T225550
CREATED:20260304T214541Z
LAST-MODIFIED:20260304T214610Z
UID:64453-1773485100-1773490500@calendarioeventos.com
SUMMARY:Yoga - «Autoexploración para la prevención + Yoga antiestrés»
DESCRIPTION:Yoga — Autoexploración para la prevención + Yoga antiestrés en el Centro Comercial Las Arenas\, Las Palmas de Gran Canaria. \n8M | Día Internacional de la Mujer. \n Desde la conciencia y el autocuidado hasta la fuerza y la superación.  \nSábado 14 de marzo | 10:45h. Autoexploración para la prevención + Yoga antiestrés. Un encuentro para aprender\, conectar y priorizar tu bienestar.  \nDomingo 15 de marzo: entrega de dorsales y Carrera de la Mujer. La marea rosa comienza aquí antes de recorrer la ciudad. Porque el 8M es más que un día: es compromiso\, comunidad y acción. Únete a la marea rosa. Entrega de dorsales y Feria de la Corredora en C.C. Las Arenas dentro de la programación del fin de semana.  \nMás información en https://www.cclasarenas.com y https://www.carreradelamujer.com.
URL:https://calendarioeventos.com/en/evento/yoga-autoexploracion-para-la-prevencion-yoga-antiestres/
LOCATION:Centro Comercial Las Arenas\, Ctra. del Rincón\, s/n\, 35010 Las Palmas de Gran Canaria\, Las Palmas
CATEGORIES:Actividades,Deporte,Eventos gratuitos,Las Palmas de GC,Yoga
ATTACH;FMTTYPE=image/jpeg:https://calendarioeventos.com/wp-content/uploads/2026/03/yoga-autoexploraci-n-para-la-prevenci-n-yoga-1772660708223.avif
END:VEVENT
END:VCALENDAR