BEGIN:VCALENDAR
VERSION:2.0
PRODID:-//Calendario de Eventos Gran Canaria - ECPv6.15.17.1//NONSGML v1.0//EN
CALSCALE:GREGORIAN
METHOD:PUBLISH
X-WR-CALNAME:Calendario de Eventos Gran Canaria
X-ORIGINAL-URL:https://calendarioeventos.com/en
X-WR-CALDESC:Events for Calendario de Eventos Gran Canaria
REFRESH-INTERVAL;VALUE=DURATION:PT1H
X-Robots-Tag:noindex
X-PUBLISHED-TTL:PT1H
BEGIN:VTIMEZONE
TZID:Europe/London
BEGIN:DAYLIGHT
TZOFFSETFROM:+0000
TZOFFSETTO:+0100
TZNAME:BST
DTSTART:20240331T010000
END:DAYLIGHT
BEGIN:STANDARD
TZOFFSETFROM:+0100
TZOFFSETTO:+0000
TZNAME:GMT
DTSTART:20241027T010000
END:STANDARD
BEGIN:DAYLIGHT
TZOFFSETFROM:+0000
TZOFFSETTO:+0100
TZNAME:BST
DTSTART:20250330T010000
END:DAYLIGHT
BEGIN:STANDARD
TZOFFSETFROM:+0100
TZOFFSETTO:+0000
TZNAME:GMT
DTSTART:20251026T010000
END:STANDARD
BEGIN:DAYLIGHT
TZOFFSETFROM:+0000
TZOFFSETTO:+0100
TZNAME:BST
DTSTART:20260329T010000
END:DAYLIGHT
BEGIN:STANDARD
TZOFFSETFROM:+0100
TZOFFSETTO:+0000
TZNAME:GMT
DTSTART:20261025T010000
END:STANDARD
END:VTIMEZONE
BEGIN:VTIMEZONE
TZID:Europe/Madrid
BEGIN:DAYLIGHT
TZOFFSETFROM:+0100
TZOFFSETTO:+0200
TZNAME:CEST
DTSTART:20240331T010000
END:DAYLIGHT
BEGIN:STANDARD
TZOFFSETFROM:+0200
TZOFFSETTO:+0100
TZNAME:CET
DTSTART:20241027T010000
END:STANDARD
BEGIN:DAYLIGHT
TZOFFSETFROM:+0100
TZOFFSETTO:+0200
TZNAME:CEST
DTSTART:20250330T010000
END:DAYLIGHT
BEGIN:STANDARD
TZOFFSETFROM:+0200
TZOFFSETTO:+0100
TZNAME:CET
DTSTART:20251026T010000
END:STANDARD
BEGIN:DAYLIGHT
TZOFFSETFROM:+0100
TZOFFSETTO:+0200
TZNAME:CEST
DTSTART:20260329T010000
END:DAYLIGHT
BEGIN:STANDARD
TZOFFSETFROM:+0200
TZOFFSETTO:+0100
TZNAME:CET
DTSTART:20261025T010000
END:STANDARD
END:VTIMEZONE
BEGIN:VEVENT
DTSTART;TZID=Europe/London:20251201T080000
DTEND;TZID=Europe/London:20251201T180000
DTSTAMP:20260425T200102
CREATED:20251125T150146Z
LAST-MODIFIED:20251125T150213Z
UID:10009891-1764576000-1764612000@calendarioeventos.com
SUMMARY:Deporte - Gran Canaria Bike Week
DESCRIPTION:Deporte – Gran Canaria Bike Week\, del 30 de noviembre al 7 de diciembre por toda la isla. \nCon la participación del multicampeón ciclista\, Tadej Pogacar -cuatro veces campeón del Tour de Francia- y otros ciclistas de nivel internacional en algunas de sus etapas. \nEn concreto serán 700 participantes en la TotalEnergies Gran Fondo Pico de las Nieves\, donde veremos a Pogacar y compañía. En el resto de etapas habrá un promedio de 200 ciclistas (un 45% de fuera de España y un 20% mujeres) para un total de 550 kilómetros repartidos en 7 etapas entre los municipios de Arucas\, Artenara\, San Bartolomé de Tirajana\, Telde\, Gáldar\, Agüimes\, Santa Lucía\, San Mateo\, Teror\, Valsequillo y Santa Brígida. \n\n30 nov – Total Energies Gran Fondo Pico de Las Nieves. 125 Km | Desnivel positivo acumulado: +3.324 m\n1 dic – Etapa Libre.\n2 dic – AGÜIMES – Sureste Rural. 98.38 Km | 1.505 m desnivel acumulado\n3 dic – TELDE – Pueblos Medianías. 84.30 Km | 1.928 m desnivel acumulado\n4 dic – Maspalomas Costa Canaria (cronoescalada). 61.04 Km | 1.434 m desnivel positivo\n5 dic – SANTA LUCÍA – Cumbre de Gran Canaria. 82.03 Km | 1.736 m desnivel acumulado\n6 dic – GÁLDAR – Gran Canaria Verde Norte de la Isla. 64.25 Km | +1.416 m desnivel acumulado\n7 dic – DUNAS – Love Gran Canaria. 43.85 Km | 854 m desnivel positivo\n\nToda la información es inscripciones en https://grancanariabikeweek.es/
URL:https://calendarioeventos.com/en/evento/deporte-gran-canaria-bike-week/2025-12-01/
LOCATION:Gran Canaria\, Gran Canaria
CATEGORIES:Actividades,Agüimes,Ciclismo,Gáldar,San Bartolomé de Tirajana,Santa Lucía de Tirajana,Telde
ATTACH;FMTTYPE=image/png:https://calendarioeventos.com/wp-content/uploads/2025/11/Screenshot-2025-11-25-at-14-56-43-Instagram.avif
END:VEVENT
BEGIN:VEVENT
DTSTART;TZID=Europe/London:20251201T093000
DTEND;TZID=Europe/London:20251201T123000
DTSTAMP:20260425T200102
CREATED:20251127T214913Z
LAST-MODIFIED:20251127T214913Z
UID:10010490-1764581400-1764592200@calendarioeventos.com
SUMMARY:Día Mundial del VIH en Gáldar
DESCRIPTION:Día Mundial del VIH/SIDA en el Frontis del Hotel Agáldar\, Gáldar\, Gran Canaria. \nGáldar se une al Día Mundial del VIH/SIDA con un programa especial bajo el lema: “Superar las interrupciones\, transformar la respuesta al SIDA” a través de la Concejalía de Prevención de Adicciones\, que dirige Nuria Esther Vega Valencia. \nEl evento tendrá lugar el próximo 1 de diciembre\, en el Frontis del Hotel Agáldar\, de 9:30 a 12:30 h\, donde habrá una disposición de stands informativos con profesionales del Centro de Salud\, la UAD y entidades como GAMÁ LGTB\, Amigos Contra el SIDA y LGTBI Moteros de Canarias\, así como una edición especial de ‘Las Mañanas de Radio Gáldar’\, con entrevistas\, testimonios y divulgación sobre prevención y diagnóstico precoz.🎗️ \nA partir de las 12:00 horas\, Lectura del manifiesto institucional\, con representantes municipales y entidades colaboradoras\, promoviendo inclusión y justicia sanitaria. \n🎶El broche de oro estará de la mano del dúo artístico canario Etcétera transmitiendo un mensaje de esperanza y solidaridad.
URL:https://calendarioeventos.com/en/evento/dia-mundial-del-vih-en-galdar/
LOCATION:Hotel Agaldar\, Pl. de Santiago\, 14\, 35460 Gáldar\, Las Palmas
CATEGORIES:Actividades,Eventos gratuitos,Gáldar
ATTACH;FMTTYPE=image/png:https://calendarioeventos.com/wp-content/uploads/2025/11/Screenshot-2025-11-27-at-21-46-45-Instagram.avif
END:VEVENT
BEGIN:VEVENT
DTSTART;TZID=Europe/London:20251201T170000
DTEND;TZID=Europe/London:20251201T180000
DTSTAMP:20260425T200102
CREATED:20251127T123612Z
LAST-MODIFIED:20251127T123612Z
UID:10010370-1764608400-1764612000@calendarioeventos.com
SUMMARY:Jaque en la Plaza
DESCRIPTION:Experiencia lúdico-cultural «Jaque en la Plaza» en el Parque de las Flores de Arucas\, Gran Canaria\, por la Casa de los Enigmas. \n32 personas serán las piezas de esta experiencia lúdico-cultural en el Parque de Las Flores\, una propuesta participativa abierta a toda la ciudadanía \n“Jaque en la Plaza” llega a Arucas como una propuesta lúdico-cultural que transformará el Parque de Las Flores en un enorme tablero de ajedrez… ¡y 32 personas podrán convertirse en sus piezas! \nLa iniciativa invita a quienes deseen participar\, divertirse y aportar a esta experiencia colectiva que reúne a asociaciones y a la ciudadanía del municipio. \n📅 Ensayo general \n1 de diciembre – 17:00 h \n📍 Actividad final \n6 de diciembre – 11:00 h\nParque de Las Flores \nNo se requiere experiencia previa\, solo ganas de disfrutar y formar parte de una acción creativa y participativa. Cada persona será clave para dar vida a este tablero humano lleno de cultura\, colaboración y movimiento. \nQuienes quieran sumarse solo tienen que dar el paso. ¡Arucas se prepara para jugar la partida más creativa del año!
URL:https://calendarioeventos.com/en/evento/jaque-en-la-plaza/2025-12-01/
LOCATION:Parque de Las Flores\, C. Francisco Gourié\, 11\, 35400 Arucas\, Las Palmas
CATEGORIES:Arucas,Entretenimiento,Eventos gratuitos,Juegos
ATTACH;FMTTYPE=image/png:https://calendarioeventos.com/wp-content/uploads/2025/11/Screenshot-2025-11-27-at-12-32-03-Instagram.avif
END:VEVENT
BEGIN:VEVENT
DTSTART;TZID=Europe/London:20251201T170000
DTEND;TZID=Europe/London:20251201T183000
DTSTAMP:20260425T200102
CREATED:20251130T191105Z
LAST-MODIFIED:20251130T191105Z
UID:10010567-1764608400-1764613800@calendarioeventos.com
SUMMARY:Clausura - Taller de Baile Canario
DESCRIPTION:Clausura del Taller de Baile Canario en el Centro de Mayores de La Aldea de San Nicolás\, Gran Canaria. \nEl Ayuntamiento informa a través del Área del Mayor\, que coordina Jennifer Sosa que el próximo 1 de diciembre a las 17:00 horas tendrá lugar la clausura del Taller de Baile Canario\, desarrollado durante los últimos meses en el Centro de Mayores la Aldea. \nEste encuentro festivo reunirá a los participantes del taller\, familiares y vecinos para disfrutar de una tarde especial que incluirá merienda\, celebrando el trabajo\, aprendizaje y convivencia construidos durante la actividad. \n✨El Ayuntamiento invita a toda la comunidad a sumarse y acompañar a los mayores en esta jornada de cierre\, destinada a poner en valor nuestras tradiciones y el papel activo y participativo de las personas mayores en la vida cultural del municipio.
URL:https://calendarioeventos.com/en/evento/clausura-taller-de-baile-canario/
LOCATION:Centro de Mayores de la Aldea\, C/ Real s/n\, La Aldea de San Nicolás de Tolentino\, Las Palmas\, 35470
CATEGORIES:Actividades,Danza,Eventos gratuitos,La Aldea,Mayores,Taller
ATTACH;FMTTYPE=image/png:https://calendarioeventos.com/wp-content/uploads/2025/11/Screenshot-2025-11-30-at-19-09-04-Instagram.avif
END:VEVENT
BEGIN:VEVENT
DTSTART;TZID=Europe/London:20251201T170000
DTEND;TZID=Europe/London:20251201T190000
DTSTAMP:20260425T200102
CREATED:20251201T151025Z
LAST-MODIFIED:20251201T151025Z
UID:10010600-1764608400-1764615600@calendarioeventos.com
SUMMARY:Festival - Blume Gran Canaria
DESCRIPTION:Sesión nocturna del 63º Festival Blume de Gran Canaria en la Plaza de Las Gañanías\, Mogán. \nPlaya de Mogán se llena de ritmo\, color y alegría con la 63ª edición del Festival BLUME de Gran Canaria. A partir de las 17:00 horas\, la Plaza de Las Gañanías será el escenario donde podremos disfrutar de un espectacular encuentro cultural con actuaciones de grupos de baile locales\, nacionales e internacionales. \nUna tarde-noche mágica nos espera en uno de los rincones más encantadores de la isla\, donde la música\, la danza y el ambiente festivo se unirán frente al mar. 🌊💃 \n¡No te lo pierdas! Ven y vive con nosotros esta experiencia única en Playa de Mogán\, hoy desde las 17:00 de la tarde.
URL:https://calendarioeventos.com/en/evento/festival-blume-gran-canaria/
LOCATION:Plaza Las Gañanias\, Las Gañanias\, Playa de\, Carr. Mogán\, Mogán\, Las Palmas
CATEGORIES:Cultura,Danza,Eventos gratuitos,Festival,Mogán
ATTACH;FMTTYPE=image/png:https://calendarioeventos.com/wp-content/uploads/2025/12/Screenshot-2025-12-01-at-15-02-37-Instagram.avif
END:VEVENT
BEGIN:VEVENT
DTSTART;TZID=Europe/London:20251201T180000
DTEND;TZID=Europe/London:20251201T193000
DTSTAMP:20260425T200102
CREATED:20251125T114323Z
LAST-MODIFIED:20251125T114323Z
UID:10009852-1764612000-1764617400@calendarioeventos.com
SUMMARY:Presentación - Libro: Recetario de aprovechamiento
DESCRIPTION:Presentación del Libro: «Conciencación sobre el desperdicio de alimentos. Recetario de aprovechamiento»\, en la Sala 26 de abril de la sede institucional de la ULPGC\, Las Palmas de Gran Canaria. \nEste libro está editado por la Universidad\, con la cofinanciación de la Fundación DISA y SPAR Gran Canaria. El evento contará con la presencia del Rector de la ULPGC\, Lluís Serra\, y del profesor José Antonio González\, autor y coordinador de la obra. \nLa obra ha sido estructurada en tres bloques. El bloque de concienciación consta de un capítulo del Rector de la ULPGC\, otro del Presidente del Banco de Alimentos de Las Palmas y un tercero de la dietista-nutricionista Ana Luisa Álvarez\, directora del HUB GastroFood. El segundo bloque\, sobre los talleres que se han llevado a cabo con este propósito a través del Aula\, cuenta con las aportaciones del director del Aula\, la médico internista Belén Alonso y el asesor gastronómico Luis Benítez. El último bloque ha sido introducido por la que fue directora de Salud y Bienestar de la ULPGC\, Fina Ramal\, y culmina con 25 recetas de aprovechamiento\, creativas e ilustradas\, desarrolladas por el artista y chef Samuel López. \nEntrada libre hasta completar aforo. \n 
URL:https://calendarioeventos.com/en/evento/presentacion-libro-recetario-de-aprovechamiento/
LOCATION:Sede Institucional ULPGC\, C. Juan de Quesada\, 30\, 35001 Las Palmas de Gran Canaria\, Las Palmas
CATEGORIES:Actividades,Eventos gratuitos,Las Palmas de GC,Literatura,Presentación
ATTACH;FMTTYPE=image/jpeg:https://calendarioeventos.com/wp-content/uploads/2025/11/libro_pepe.avif
END:VEVENT
BEGIN:VEVENT
DTSTART;TZID=Europe/London:20251201T180000
DTEND;TZID=Europe/London:20251201T200000
DTSTAMP:20260425T200102
CREATED:20251119T134241Z
LAST-MODIFIED:20251119T134241Z
UID:10009693-1764612000-1764619200@calendarioeventos.com
SUMMARY:Fiestas - San Francisco Javier 1 diciembre
DESCRIPTION:Programa de las Fiestas de San Francisco Javier en Arucas Gran Canaria\, del 1 diciembre: \n\n\n18:00- JUEGOS INFANTILES\nEN EL USOS MÚLTIPLES DE LA URBANIZACIÓN DE SAN FRANCISCO JAVIER
URL:https://calendarioeventos.com/en/evento/fiestas-san-francisco-javier-1-diciembre/
LOCATION:San Francisco Javier\, 35411 Las Palmas
CATEGORIES:Arucas,Entretenimiento,Eventos gratuitos,Fiestas Populares,Infantil,Juegos
ATTACH;FMTTYPE=image/jpeg:https://calendarioeventos.com/wp-content/uploads/2025/11/IMG_4220-714x1024-1.avif
END:VEVENT
BEGIN:VEVENT
DTSTART;TZID=Europe/London:20251201T180000
DTEND;TZID=Europe/London:20251201T200000
DTSTAMP:20260425T200102
CREATED:20251125T154306Z
LAST-MODIFIED:20251125T154306Z
UID:10010272-1764612000-1764619200@calendarioeventos.com
SUMMARY:Fiestas - Sardina del Sur
DESCRIPTION:Programa de las Fiestas de San Nicolás de Bari en Sardina del Sur\, Santa Lucía\, Gran Canaria\, del 1 de diciembre: \n\n\n18.00h.- Baile de Mayores a cargo del Grupo Abora. En el intermedio se repartirá chocolate con churros.
URL:https://calendarioeventos.com/en/evento/fiestas-sardina-del-sur/
LOCATION:Sardina del Sur\, Pl. San Nicolás de Bari\, 9\, 11\, 35110 Santa Lucía de Tirajana\, Las Palmas
CATEGORIES:Danza,Entretenimiento,Eventos gratuitos,Fiestas Populares,Música,Mayores,Santa Lucía de Tirajana
ATTACH;FMTTYPE=image/jpeg:https://calendarioeventos.com/wp-content/uploads/2025/11/IMG_5053-724x1024-1.avif
END:VEVENT
BEGIN:VEVENT
DTSTART;TZID=Europe/Madrid:20251201T183000
DTEND;TZID=Europe/Madrid:20251201T200000
DTSTAMP:20260425T200102
CREATED:20251130T190900Z
LAST-MODIFIED:20251130T190900Z
UID:10010566-1764613800-1764619200@calendarioeventos.com
SUMMARY:Película - Tú y yo
DESCRIPTION:Proyección de la Película «Tú y yo» en el Teatro CICCA\, Las Palmas de Gran Canaria. \nASOCIACIÓN DE CINE VÉRTIGO presenta\n📽️ Ciclo de noviembre y diciembre 2025\n✨ 90 años de la 20th Century Fox \n“Tú y yo”\n(Leo McCarey\, EE. UU.\, 1957. 119 min) \nSinopsis:\nDos desconocidos se enamoran perdidamente durante un crucero. A pesar de que ambos tienen vidas complicadas\, deciden reencontrarse seis meses después en lo alto del Empire State… si el amor que sienten es real. Una historia conmovedora\, elegante y emotiva que ha marcado generaciones. \nEntrada gratuita con invitación en tomaticket.es \n  \n 
URL:https://calendarioeventos.com/en/evento/pelicula-tu-y-yo/
LOCATION:Centro Cultural Cicca\, Alameda de Colon\, 1\, 35002 Las Palmas de Gran Canaria\, Las Palmas
CATEGORIES:Cine,Cultura,Eventos gratuitos,Las Palmas de GC
ATTACH;FMTTYPE=image/png:https://calendarioeventos.com/wp-content/uploads/2025/11/Screenshot-2025-11-30-at-19-06-47-Instagram.avif
END:VEVENT
BEGIN:VEVENT
DTSTART;TZID=Europe/London:20251201T190000
DTEND;TZID=Europe/London:20251201T200000
DTSTAMP:20260425T200102
CREATED:20251128T104516Z
LAST-MODIFIED:20251203T094458Z
UID:10010533-1764615600-1764619200@calendarioeventos.com
SUMMARY:Navidad en Mogán 2025
DESCRIPTION:Programa de eventos de Navidad 2025 en Mogán\, Gran Canaria\, del 1 de diciembre: \n\n19:00 horas Inauguración del Belén Ornamental de la Familia Ruano Moreno. Para visitar el Belén se debe llamar previamente al teléfono 639928199\, y consultar disponibilidad.\n\n 
URL:https://calendarioeventos.com/en/evento/navidad-en-mogan-2025/
LOCATION:Mogán\, 35140 Las Palmas
CATEGORIES:Actividades,Inauguración,Mogán
ATTACH;FMTTYPE=image/jpeg:https://calendarioeventos.com/wp-content/uploads/2025/11/IMG_5163-1086x1536-1.avif
END:VEVENT
END:VCALENDAR