BEGIN:VCALENDAR
VERSION:2.0
PRODID:-//Calendario de Eventos Gran Canaria - ECPv6.15.17.1//NONSGML v1.0//EN
CALSCALE:GREGORIAN
METHOD:PUBLISH
X-WR-CALNAME:Calendario de Eventos Gran Canaria
X-ORIGINAL-URL:https://calendarioeventos.com/en
X-WR-CALDESC:Events for Calendario de Eventos Gran Canaria
REFRESH-INTERVAL;VALUE=DURATION:PT1H
X-Robots-Tag:noindex
X-PUBLISHED-TTL:PT1H
BEGIN:VTIMEZONE
TZID:Europe/London
BEGIN:DAYLIGHT
TZOFFSETFROM:+0000
TZOFFSETTO:+0100
TZNAME:BST
DTSTART:20250330T010000
END:DAYLIGHT
BEGIN:STANDARD
TZOFFSETFROM:+0100
TZOFFSETTO:+0000
TZNAME:GMT
DTSTART:20251026T010000
END:STANDARD
BEGIN:DAYLIGHT
TZOFFSETFROM:+0000
TZOFFSETTO:+0100
TZNAME:BST
DTSTART:20260329T010000
END:DAYLIGHT
BEGIN:STANDARD
TZOFFSETFROM:+0100
TZOFFSETTO:+0000
TZNAME:GMT
DTSTART:20261025T010000
END:STANDARD
BEGIN:DAYLIGHT
TZOFFSETFROM:+0000
TZOFFSETTO:+0100
TZNAME:BST
DTSTART:20270328T010000
END:DAYLIGHT
BEGIN:STANDARD
TZOFFSETFROM:+0100
TZOFFSETTO:+0000
TZNAME:GMT
DTSTART:20271031T010000
END:STANDARD
END:VTIMEZONE
BEGIN:VEVENT
DTSTART;TZID=Europe/London:20260112T100000
DTEND;TZID=Europe/London:20260112T113000
DTSTAMP:20260423T151227
CREATED:20260103T145353Z
LAST-MODIFIED:20260103T145353Z
UID:10012874-1768212000-1768217400@calendarioeventos.com
SUMMARY:Charla - Aplicaciones sorprendentes del lenguaje Lua
DESCRIPTION:Charla «Aplicaciones sorprendentes del lenguaje Lua en la práctica cotidiana» en la Sala de Grados 2 de la Escuela de Ingenierías Industriales y Civiles\, Las Palmas de Gran Canaria. \nLa ponencia será impartida por los profesores Marcin Kamiński y Joanna Kolańska-Puska\, de la Universidad Tecnológica de Opole (Polonia)\, quienes compartirán su experiencia mostrando usos y aplicaciones prácticas del lenguaje de programación Lua en distintos contextos reales. \nSe trata de una excelente oportunidad para conocer de primera mano enfoques innovadores\, descubrir nuevas posibilidades de este lenguaje de programación ligero y versátil\, especialmente popular en videojuegos. \nLa charla\, que cuenta con entrada libre hasta completar el aforo\, está dirigida a estudiantes\, profesorado y a cualquier persona interesada en la programación y sus aplicaciones prácticas.
URL:https://calendarioeventos.com/en/evento/charla-aplicaciones-sorprendentes-del-lenguaje-lua/
LOCATION:Campus de Tafira\, C. Practicante Ignacio Rodríguez\, 7\, 35017 Las Palmas de Gran Canaria\, Las Palmas
CATEGORIES:Actividades,Charla,Eventos gratuitos,Las Palmas de GC
END:VEVENT
BEGIN:VEVENT
DTSTART;TZID=Europe/London:20260112T190000
DTEND;TZID=Europe/London:20260112T203000
DTSTAMP:20260423T151227
CREATED:20260107T133200Z
LAST-MODIFIED:20260107T133200Z
UID:10012943-1768244400-1768249800@calendarioeventos.com
SUMMARY:Fiestas - San Sebastían Agüimes 12 enero
DESCRIPTION:Programa de las Fiestas de San Sebastián en Agüimes\, Gran Canaria\, del 12 de enero: \n\n19:00h – Charla ‘El correcto uso de la vestimenta de Gran Canaria y sus tocados (Sombreros y\nmonteras)’.\nImparte Ricardo Reguera Ramírez.\nTeatro Municipal de Agüimes.
URL:https://calendarioeventos.com/en/evento/fiestas-san-sebastian-aguimes-12-enero/
LOCATION:Agüimes\, Agüimes\, Las Palmas\, España
CATEGORIES:Agüimes,Charla,Entretenimiento,Eventos gratuitos,Fiestas Populares
ATTACH;FMTTYPE=image/png:https://calendarioeventos.com/wp-content/uploads/2026/01/Screenshot-2026-01-07-at-13-17-56-PROGRAMA-FIESTAS-SAN-SEBASTIAN-2026-A5.inddc-AF_PROGRAMA-FIESTAS-SAN-SEBASTIAN-2026_DIGITAL-1.pdf.avif
END:VEVENT
BEGIN:VEVENT
DTSTART;TZID=Europe/London:20260112T193000
DTEND;TZID=Europe/London:20260112T210000
DTSTAMP:20260423T151227
CREATED:20251223T103618Z
LAST-MODIFIED:20260105T131609Z
UID:10012118-1768246200-1768251600@calendarioeventos.com
SUMMARY:Concierto - Orquesta Sinfónica de la Radio de Baviera
DESCRIPTION:Concierto de la Orquesta Sinfónica de la Radio de Baviera en el Auditorio Alfredo Kraus\, Las Palmas de Gran Canaria \nFundada en 1949\, la BRSO alcanzó pronto prestigio internacional gracias a su excelencia en la interpretación del repertorio clásico-romántico\, así como a su firme compromiso con la música contemporánea. \nEsta orquesta está considerada como la mejor formación orquestal de todas las radios y televisiones internacionales. Algunos críticos especializados hablan de ella como una de las más destacadas formaciones del mundo\, encontrándose en el TOP 5 de las mejores del mundo. En esta ocasión estará dirigida por el director Paavo Järvi. \nEntradas en este enlace. \nFestival Internacional de Música de Canarias.
URL:https://calendarioeventos.com/en/evento/concierto-orquesta-sinfonica-de-la-radio-de-baviera/2026-01-12/
LOCATION:Auditorio Alfredo Kraus\, Avda\, Ctra. del Rincón\, s/n\, 35010 Las Palmas de Gran Canaria\, Las Palmas
CATEGORIES:Concierto,Cultura,Las Palmas de GC,Música
ATTACH;FMTTYPE=image/jpeg:https://calendarioeventos.com/wp-content/uploads/2025/12/0-6.avif
END:VEVENT
END:VCALENDAR