BEGIN:VCALENDAR
VERSION:2.0
PRODID:-//Calendario de Eventos Gran Canaria - ECPv6.15.17.1//NONSGML v1.0//EN
CALSCALE:GREGORIAN
METHOD:PUBLISH
X-WR-CALNAME:Calendario de Eventos Gran Canaria
X-ORIGINAL-URL:https://calendarioeventos.com/en
X-WR-CALDESC:Events for Calendario de Eventos Gran Canaria
REFRESH-INTERVAL;VALUE=DURATION:PT1H
X-Robots-Tag:noindex
X-PUBLISHED-TTL:PT1H
BEGIN:VTIMEZONE
TZID:Europe/London
BEGIN:DAYLIGHT
TZOFFSETFROM:+0000
TZOFFSETTO:+0100
TZNAME:BST
DTSTART:20250330T010000
END:DAYLIGHT
BEGIN:STANDARD
TZOFFSETFROM:+0100
TZOFFSETTO:+0000
TZNAME:GMT
DTSTART:20251026T010000
END:STANDARD
BEGIN:DAYLIGHT
TZOFFSETFROM:+0000
TZOFFSETTO:+0100
TZNAME:BST
DTSTART:20260329T010000
END:DAYLIGHT
BEGIN:STANDARD
TZOFFSETFROM:+0100
TZOFFSETTO:+0000
TZNAME:GMT
DTSTART:20261025T010000
END:STANDARD
BEGIN:DAYLIGHT
TZOFFSETFROM:+0000
TZOFFSETTO:+0100
TZNAME:BST
DTSTART:20270328T010000
END:DAYLIGHT
BEGIN:STANDARD
TZOFFSETFROM:+0100
TZOFFSETTO:+0000
TZNAME:GMT
DTSTART:20271031T010000
END:STANDARD
END:VTIMEZONE
BEGIN:VEVENT
DTSTART;TZID=Europe/London:20260118T080000
DTEND;TZID=Europe/London:20260118T150000
DTSTAMP:20260421T055033
CREATED:20251223T213037Z
LAST-MODIFIED:20251223T213037Z
UID:10012603-1768723200-1768748400@calendarioeventos.com
SUMMARY:Trail - Pilancones Tunte Trail
DESCRIPTION:Trail – Pilancones Tunte Trail en San Bartolomé de Tirajana\, Gran Canaria. \nCorrer entre Pilancones en el lugar de los canarios\nLa Pilancones Tunte Trail\, ahora en su octava edición\, inaugurará el calendario de carreras de 2026\, al igual que lo hizo el año anterior. \nEvento único\, que se celebra en ese pueblo alejado de la mano de Dios (ya sabes\, «Yuos\, si eso está más lejos que Tunte»). \nLa carrera pretende dar visibilidad al pueblo y a su significado histórico\, ya que fue testigo de la victoria de los españoles durante la conquista de Gran Canaria en 1479. \nLos participantes pueden elegir entre tres opciones de distancia diferentes en función de su nivel de habilidad: 9 km para principiantes\, 25 km para corredores intermedios y 34 km para quienes disfrutan con un reto. ¿Qué distancia vas a recorrer? Carrera memorable por los impresionantes paisajes de Tunte y Pilancones. \nEl evento es organizado por el CD Gallotia\, los mismos que han celebrado en años anteriores la Pilancones Night Xacobeo. \nCategorías y Premios\nMASCULINO GENERAL – 18 años en adelante.\nFEMENINO GENERAL – 18 años en adelante.\nVETERANO I (masculino) – De 40 a 49 años.\nVETERANO I (femenino) – De 40a 49 años.\nVETERANO II (masculino) – De 50 años  en adelante.\nVETERANO II (femenino) – De 50 años  en adelante. \nPrecios 2026 \n\n9 kilómetros: 22€.\n25 kilómetros: 33€.\n34 kilómetros: 42€.
URL:https://calendarioeventos.com/en/evento/trail-pilancones-tunte-trail/
LOCATION:Pl. de Santiago Tunte\, 35290 San Bartolomé de Tirajana\, Las Palmas
CATEGORIES:Actividades,San Bartolomé de Tirajana,Trail
END:VEVENT
BEGIN:VEVENT
DTSTART;TZID=Europe/London:20260118T090000
DTEND;TZID=Europe/London:20260118T130000
DTSTAMP:20260421T055033
CREATED:20251223T181805Z
LAST-MODIFIED:20251223T181805Z
UID:10012574-1768726800-1768741200@calendarioeventos.com
SUMMARY:Deporte - Cross Popular Villa de Agüimes
DESCRIPTION:Deporte – I Cross Popular Villa de Agüimes\, Gran Canaria. \nModalidades desde Sub8 a Máster. \nCuotas de inscripción entre 1 y 5€. \n+ Info en: deportes@damasi.es \nSalida y meta: C/ La Gomera\, detrás del Terrero de Lucha.
URL:https://calendarioeventos.com/en/evento/deporte-cross-popular-villa-de-aguimes/
LOCATION:Terrero De Lucha Aguimes\, C. la Gomera\, 29\, 35260 Agüimes\, Las Palmas
CATEGORIES:Actividades,Agüimes,Deporte,Infantil
ATTACH;FMTTYPE=image/png:https://calendarioeventos.com/wp-content/uploads/2025/12/Screenshot-2025-12-23-at-18-14-32-Instagram.avif
END:VEVENT
BEGIN:VEVENT
DTSTART;TZID=Europe/London:20260118T090000
DTEND;TZID=Europe/London:20260118T160000
DTSTAMP:20260421T055033
CREATED:20260107T134053Z
LAST-MODIFIED:20260107T134053Z
UID:10012949-1768726800-1768752000@calendarioeventos.com
SUMMARY:Fiestas - San Sebastían Agüimes 18 enero
DESCRIPTION:Programa de las Fiestas de San Sebastián en Agüimes\, Gran Canaria\, del 18 de enero: \n\n09:00h – ‘Cross popular Villa de Agüimes’.\nAnexo Terrero de lucha de Agüimes.\n11:00h – Ludoparque infantil.\nPlaza del Rosario.\n14:00h – Puchero de San Sebastián.\n-Pepe Benavente.\n-Yet Garbey.\nPlaza del Rosario.
URL:https://calendarioeventos.com/en/evento/fiestas-san-sebastian-aguimes-18-enero/
LOCATION:Agüimes\, Agüimes\, Las Palmas\, España
CATEGORIES:Agüimes,Deporte,Entretenimiento,Eventos gratuitos,Fiestas Populares,Infantil,Juegos,Música
ATTACH;FMTTYPE=image/png:https://calendarioeventos.com/wp-content/uploads/2026/01/Screenshot-2026-01-07-at-13-17-56-PROGRAMA-FIESTAS-SAN-SEBASTIAN-2026-A5.inddc-AF_PROGRAMA-FIESTAS-SAN-SEBASTIAN-2026_DIGITAL-1.pdf.avif
END:VEVENT
BEGIN:VEVENT
DTSTART;TZID=Europe/London:20260118T110000
DTEND;TZID=Europe/London:20260118T130000
DTSTAMP:20260421T055033
CREATED:20260106T174512Z
LAST-MODIFIED:20260106T174512Z
UID:10012916-1768734000-1768741200@calendarioeventos.com
SUMMARY:Taller - Crea tu bullet journal
DESCRIPTION:Taller – Escuch(arte) «Crea tu bullet journal» por Blooming Horizons en Espai Art Studio\, Las Palmas de Gran Canaria. \n¡Te invitamos a nuestro próximo taller que será el Domingo 18 de Enero de 11 de la mañana a 1 de la tarde en el Espai Art Studio! \nEn este evento\, trabajaremos artísticamente para crear un diario Bullet Journal con material como pintura pegatinas\, costura\, y mucho más; para poder dejar volar nuestra creatividad mientras hacemos con nuestras manos algo que va directo al corazón y a la mente. \nDespués de eso\, hablaremos y pondremos en práctica distintas técnicas que podemos hacer para personalizar no solo su portada\, si no también darle uso a esta herramienta en nuestro día a día y practicar la gratitud\, la consecución de objetivos\, la intención y la reflexión interna. \n¡No te contamos mucho más porque no queremos spoilearte el taller entero\, pero te aseguramos que no te vas a arrepentir de venir a pasar este ratito de Domingo con nosotras. \nPuedes realizar la compra de tu entrada en este enlace. \n  \n 
URL:https://calendarioeventos.com/en/evento/taller-crea-tu-bullet-journal/
LOCATION:Espai Art Studio\, C. Ing. Salinas\, 76\, 35006 Las Palmas de Gran Canaria\, Las Palmas
CATEGORIES:Actividades,Arte,Las Palmas de GC,Taller
ATTACH;FMTTYPE=image/webp:https://calendarioeventos.com/wp-content/uploads/2026/01/journal.avif
END:VEVENT
BEGIN:VEVENT
DTSTART;TZID=Europe/London:20260118T123000
DTEND;TZID=Europe/London:20260118T140000
DTSTAMP:20260421T055033
CREATED:20251225T204701Z
LAST-MODIFIED:20251225T204701Z
UID:10012686-1768739400-1768744800@calendarioeventos.com
SUMMARY:Concierto - Ecoleone
DESCRIPTION:Concierto de Ecoleone en los Domingos de Música del Mercado del Puerto\, Las Palmas de Gran Canaria.
URL:https://calendarioeventos.com/en/evento/concierto-ecoleone/
LOCATION:Mercado del Puerto\, Las palmas de gran canaria\, la isleta\, Las palmas de gran canaria\, Spain
CATEGORIES:Concierto,Cultura,Eventos gratuitos,Las Palmas de GC
ATTACH;FMTTYPE=image/png:https://calendarioeventos.com/wp-content/uploads/2025/12/18-ENERO-ECOLEONE.avif
END:VEVENT
BEGIN:VEVENT
DTSTART;TZID=Europe/London:20260118T190000
DTEND;TZID=Europe/London:20260118T203000
DTSTAMP:20260421T055033
CREATED:20251223T103748Z
LAST-MODIFIED:20260105T131628Z
UID:10012117-1768762800-1768768200@calendarioeventos.com
SUMMARY:Concierto - Mahler Chamber Orchestra
DESCRIPTION:Concierto de la Mahler Chamber Orchestra en el Auditorio Alfredo Kraus\, Las Palmas de Gran Canaria \nDesde que se fundó en 1997\, la Mahler Chamber Orchestra (MCO) se ha consolidado como una de las principales orquestas de cámara del mundo. La MCO funciona como un “colectivo global” y es dirigida por sus propios miembros\, en colaboración con su oficina de gestión con sede en Berlín. Sus músicos\, procedentes de unos 25 países diferentes\, se unen para cada gira o proyecto. El diálogo de la música de cámara y el acto unánime de la escucha dan forma al sonido de la Orquesta; una filosofía inspirada en el mentor fundador de la Orquesta\, Claudio Abbado\, que la MCO llama El Sonido de la Escucha. \nEn este concierto estará presente una de las mejores y más relevantes pianistas de la actualidad: Yuja Wang\, reconocida “por su carisma artístico\, su honestidad emocional y su arrebatadora presencia escénica”. \nEntradas en este enlace. \nFestival Internacional de Música de Canarias.
URL:https://calendarioeventos.com/en/evento/concierto-mahler-chamber-orchestra/
LOCATION:Auditorio Alfredo Kraus\, Avda\, Ctra. del Rincón\, s/n\, 35010 Las Palmas de Gran Canaria\, Las Palmas
CATEGORIES:Concierto,Cultura,Las Palmas de GC,Música
ATTACH;FMTTYPE=image/png:https://calendarioeventos.com/wp-content/uploads/2025/12/Screenshot-2025-12-23-at-18-26-49-Instagram.avif
END:VEVENT
BEGIN:VEVENT
DTSTART;TZID=Europe/London:20260118T190000
DTEND;TZID=Europe/London:20260118T203000
DTSTAMP:20260421T055033
CREATED:20251225T111108Z
LAST-MODIFIED:20260106T190106Z
UID:10012620-1768762800-1768768200@calendarioeventos.com
SUMMARY:Humor - Kike Pérez a lo Bestia
DESCRIPTION:Humor – Kike Pérez a lo Bestia\, en el Gran Canaria Arena\, Las Palmas de Gran Canaria \nEl humorista Kike Pérez celebra sus 20 años de carrera con el espectáculo más grande de su trayectoria: “A lo Bestia”\, la quinta edición de su exitoso formato anual que reúne a grandes talentos de la comedia y la cultura canaria sobre un mismo escenario. \nEn esta ocasión\, Kike comparte show con Saúl Romero\, Almu Lasacre\, Delia Santana\, Gazz\, Yeray Rodríguez\, Darío López y Arístides Moreno\, en una noche única que combina humor\, música\, improvisación y esencia isleña. \nProducido por El Mono Producciones\, este evento se consolida como uno de los mayores espectáculos de comedia de Canarias\, un homenaje a la creatividad y al talento local que promete emociones\, risas y celebración a lo grande. \nEntradas en este enlace
URL:https://calendarioeventos.com/en/evento/humor-kike-perez-a-lo-bestia/
LOCATION:Gran Canaria Arena\, C. Fondos de Segura\, s/n\, 35019 Las Palmas de Gran Canaria\, Las Palmas
CATEGORIES:Entretenimiento,Humor,Las Palmas de GC,Municipio
ATTACH;FMTTYPE=image/jpeg:https://calendarioeventos.com/wp-content/uploads/2025/12/7d523b6a-ab0c-4188-a8c4-f188d4be7611.avif
END:VEVENT
BEGIN:VEVENT
DTSTART;TZID=Europe/London:20260118T190000
DTEND;TZID=Europe/London:20260118T203000
DTSTAMP:20260421T055033
CREATED:20260107T212049Z
LAST-MODIFIED:20260107T212217Z
UID:10012959-1768762800-1768768200@calendarioeventos.com
SUMMARY:Presentación - Murga "Las Legañosas"
DESCRIPTION:Presentación de la Murga «Las Legañosas» en el Centro Cultural Federico García Lorca\, Ingenio\, Gran Canaria. \n 
URL:https://calendarioeventos.com/en/evento/presentacion-murga-las-leganosas/
LOCATION:Centro Cultural Federico García Lorca\, C. Ramón y Cajal\, 19\, 35250 Ingenio\, Las Palmas
CATEGORIES:Actividades,Carnaval,Humor,Ingenio,Música,Presentación
ATTACH;FMTTYPE=image/jpeg:https://calendarioeventos.com/wp-content/uploads/2026/01/0118-Presentacion-Leganosas.avif
END:VEVENT
BEGIN:VEVENT
DTSTART;TZID=Europe/London:20260118T200000
DTEND;TZID=Europe/London:20260118T213000
DTSTAMP:20260421T055033
CREATED:20250914T230000Z
LAST-MODIFIED:20251225T205107Z
UID:10004703-1768766400-1768771800@calendarioeventos.com
SUMMARY:Humor - Adri & Rod
DESCRIPTION:Humor e improvisación en «Cajón Desastre – Adri & Rod»\, en Talleres Palermo\, Las Palmas de Gran Canaria. \nNos encontramos en una edad donde no somos viejos\, ni tampoco jóvenes. Una generación que no se ha quedado atrás pero tampoco está en la última. \nEntradas en este enlace. \nEse limbo donde te llaman señor o señora\, pero tú e sientes un chaval de 20 años hasta que saltas tres veces seguidas…. \nCajón Desastre es un show minuciosamente improvisado\, de la mano de Adri Torrijos y Alejandro Rod que te lleva por varias anécdotas personales que el público nos regala para crear historias. \nLa guinda del pastel la pone nuestro Dj improvisador «MVBA» para vestir de sonidos y ambientes cada escena sobre el escenario. \nUn show delicado\, empático pero a la vez canalla. Los espectadores son testigos y partícipes de nuestra creación\, una creación única que solo podrá ocurrir ese día con esas personas. \nUn formato hecho para CONECTAR con las personas. CAJÓN DESASTRE es el show que debes ver. \nCada noche es un nuevo espectáculo. \nwww.adriyrod.com \nSíguenos en Instagram y Tik Tok
URL:https://calendarioeventos.com/en/evento/humor-adri-rod/
LOCATION:Talleres Palermo\, C. República Dominicana\, 18\, 35010 Las Palmas de Gran Canaria\, Las Palmas
CATEGORIES:Cultura,Entretenimiento,Humor,Las Palmas de GC,Municipio,Teatro
END:VEVENT
BEGIN:VEVENT
DTSTART;TZID=Europe/London:20260118T200000
DTEND;TZID=Europe/London:20260118T213000
DTSTAMP:20260421T055033
CREATED:20251225T191657Z
LAST-MODIFIED:20251225T191657Z
UID:10012654-1768766400-1768771800@calendarioeventos.com
SUMMARY:Concierto - Luna di Maio & Ernesto Rossger
DESCRIPTION:Concierto Baires – Luna di Maio & Ernesto Rossger en Buenos Aires Jazz Café\, Las Palmas de Gran Canaria. \nUna noche especial con un dúo de voz y guitarra que dará vida a lo mejor del blues\, soul y pop.\nDéjate envolver por la magia de la música inglesa con clásicos al estilo de Amy Winehouse\, Gloria Gaynor y más \n¡Te Esperamos! \nEntradas en este enlace.
URL:https://calendarioeventos.com/en/evento/concierto-luna-di-maio-ernesto-rossger/
LOCATION:Buenos Aires Jazz Cafe\, C. Mendizábal\, 37\, 35001 Las Palmas de Gran Canaria\, Las Palmas
CATEGORIES:Concierto,Cultura,Las Palmas de GC,Música,Municipio
ATTACH;FMTTYPE=image/webp:https://calendarioeventos.com/wp-content/uploads/2025/12/NUEVO-A4-31-724x1024-1.avif
END:VEVENT
END:VCALENDAR