BEGIN:VCALENDAR
VERSION:2.0
PRODID:-//Calendario de Eventos Gran Canaria - ECPv6.15.17.1//NONSGML v1.0//EN
CALSCALE:GREGORIAN
METHOD:PUBLISH
X-WR-CALNAME:Calendario de Eventos Gran Canaria
X-ORIGINAL-URL:https://calendarioeventos.com
X-WR-CALDESC:Eventos para Calendario de Eventos Gran Canaria
REFRESH-INTERVAL;VALUE=DURATION:PT1H
X-Robots-Tag:noindex
X-PUBLISHED-TTL:PT1H
BEGIN:VTIMEZONE
TZID:Europe/London
BEGIN:DAYLIGHT
TZOFFSETFROM:+0000
TZOFFSETTO:+0100
TZNAME:BST
DTSTART:20250330T010000
END:DAYLIGHT
BEGIN:STANDARD
TZOFFSETFROM:+0100
TZOFFSETTO:+0000
TZNAME:GMT
DTSTART:20251026T010000
END:STANDARD
BEGIN:DAYLIGHT
TZOFFSETFROM:+0000
TZOFFSETTO:+0100
TZNAME:BST
DTSTART:20260329T010000
END:DAYLIGHT
BEGIN:STANDARD
TZOFFSETFROM:+0100
TZOFFSETTO:+0000
TZNAME:GMT
DTSTART:20261025T010000
END:STANDARD
BEGIN:DAYLIGHT
TZOFFSETFROM:+0000
TZOFFSETTO:+0100
TZNAME:BST
DTSTART:20270328T010000
END:DAYLIGHT
BEGIN:STANDARD
TZOFFSETFROM:+0100
TZOFFSETTO:+0000
TZNAME:GMT
DTSTART:20271031T010000
END:STANDARD
END:VTIMEZONE
BEGIN:VEVENT
DTSTART;TZID=Europe/London:20260227T193000
DTEND;TZID=Europe/London:20260227T210000
DTSTAMP:20260421T085302
CREATED:20260212T180836Z
LAST-MODIFIED:20260212T180836Z
UID:10013847-1772220600-1772226000@calendarioeventos.com
SUMMARY:Certámen Visión LPA Juventud
DESCRIPTION:Certámen Visión LPA Juventud\, el certamen de cortos donde las ideas vuelan y las cámaras no paran\, en Las Palmas de Gran Canaria. \nAsí que ya sabes: toca estar al loro\, darle al F5 y lanzarse a crear. \n📝 Toma nota y no te despistes:\n🎟️ Inscripción: del 13 al 20 de febrero\n🎥 Rodaje: 21 de febrero\n🏆 Gala de premios: 27 de febrero a las 19:30 en La Grada \nEntra en: actividadesjuventud.laspalmasgc.es/
URL:https://calendarioeventos.com/evento/certamen-vision-lpa-juventud/2026-02-27/
LOCATION:La Grada. Espacio creativo joven\, C. Manuel González Martín\, 27\, 35006 Las Palmas de Gran Canaria\, Las Palmas
CATEGORIES:Actividades,Cine,Eventos gratuitos,Jóvenes,Las Palmas de GC
ATTACH;FMTTYPE=image/png:https://calendarioeventos.com/wp-content/uploads/2026/02/Screenshot-2026-02-12-at-18-07-45-Tercera-Semana-•-Instagram.avif
END:VEVENT
END:VCALENDAR