BEGIN:VCALENDAR
VERSION:2.0
PRODID:-//Calendario de Eventos Gran Canaria - ECPv6.15.17.1//NONSGML v1.0//EN
CALSCALE:GREGORIAN
METHOD:PUBLISH
X-WR-CALNAME:Calendario de Eventos Gran Canaria
X-ORIGINAL-URL:https://calendarioeventos.com
X-WR-CALDESC:Eventos para Calendario de Eventos Gran Canaria
REFRESH-INTERVAL;VALUE=DURATION:PT1H
X-Robots-Tag:noindex
X-PUBLISHED-TTL:PT1H
BEGIN:VTIMEZONE
TZID:Europe/London
BEGIN:DAYLIGHT
TZOFFSETFROM:+0000
TZOFFSETTO:+0100
TZNAME:BST
DTSTART:20240331T010000
END:DAYLIGHT
BEGIN:STANDARD
TZOFFSETFROM:+0100
TZOFFSETTO:+0000
TZNAME:GMT
DTSTART:20241027T010000
END:STANDARD
BEGIN:DAYLIGHT
TZOFFSETFROM:+0000
TZOFFSETTO:+0100
TZNAME:BST
DTSTART:20250330T010000
END:DAYLIGHT
BEGIN:STANDARD
TZOFFSETFROM:+0100
TZOFFSETTO:+0000
TZNAME:GMT
DTSTART:20251026T010000
END:STANDARD
BEGIN:DAYLIGHT
TZOFFSETFROM:+0000
TZOFFSETTO:+0100
TZNAME:BST
DTSTART:20260329T010000
END:DAYLIGHT
BEGIN:STANDARD
TZOFFSETFROM:+0100
TZOFFSETTO:+0000
TZNAME:GMT
DTSTART:20261025T010000
END:STANDARD
END:VTIMEZONE
BEGIN:VEVENT
DTSTART;TZID=Europe/London:20251115T100000
DTEND;TZID=Europe/London:20251115T130000
DTSTAMP:20260420T015100
CREATED:20251111T103812Z
LAST-MODIFIED:20251111T103812Z
UID:10009068-1763200800-1763211600@calendarioeventos.com
SUMMARY:Feria - Infantour
DESCRIPTION:Feria – Infantour de escuelas infantiles en el CC Las Arenas\, Gran Canaria. \n¿Buscando la escuela perfecta para tu peque? 💫 \nLos días 14 y 15 de noviembre\, Las Arenas se llena de sonrisas con INFANTOUR\, la feria educativa donde las familias descubren las mejores opciones para el futuro de sus hijos. \nCharlas\, información\, y muchas oportunidades para elegir con confianza. \nConsulta más información en 🌐 www.cclasarenas.com
URL:https://calendarioeventos.com/evento/feria-infantour/2025-11-15/
LOCATION:Centro Comercial Las Arenas\, Ctra. del Rincón\, s/n\, 35010 Las Palmas de Gran Canaria\, Las Palmas
CATEGORIES:Actividades,Charla,Eventos gratuitos,Feria,Infantil,Las Palmas de GC
ATTACH;FMTTYPE=image/png:https://calendarioeventos.com/wp-content/uploads/2025/11/Screenshot-2025-11-11-at-10-35-39-Instagram.avif
END:VEVENT
END:VCALENDAR