BEGIN:VCALENDAR
VERSION:2.0
PRODID:-//Calendario de Eventos Gran Canaria - ECPv6.15.17.1//NONSGML v1.0//EN
CALSCALE:GREGORIAN
METHOD:PUBLISH
X-WR-CALNAME:Calendario de Eventos Gran Canaria
X-ORIGINAL-URL:https://calendarioeventos.com
X-WR-CALDESC:Eventos para Calendario de Eventos Gran Canaria
REFRESH-INTERVAL;VALUE=DURATION:PT1H
X-Robots-Tag:noindex
X-PUBLISHED-TTL:PT1H
BEGIN:VTIMEZONE
TZID:Europe/London
BEGIN:DAYLIGHT
TZOFFSETFROM:+0000
TZOFFSETTO:+0100
TZNAME:BST
DTSTART:20240331T010000
END:DAYLIGHT
BEGIN:STANDARD
TZOFFSETFROM:+0100
TZOFFSETTO:+0000
TZNAME:GMT
DTSTART:20241027T010000
END:STANDARD
BEGIN:DAYLIGHT
TZOFFSETFROM:+0000
TZOFFSETTO:+0100
TZNAME:BST
DTSTART:20250330T010000
END:DAYLIGHT
BEGIN:STANDARD
TZOFFSETFROM:+0100
TZOFFSETTO:+0000
TZNAME:GMT
DTSTART:20251026T010000
END:STANDARD
BEGIN:DAYLIGHT
TZOFFSETFROM:+0000
TZOFFSETTO:+0100
TZNAME:BST
DTSTART:20260329T010000
END:DAYLIGHT
BEGIN:STANDARD
TZOFFSETFROM:+0100
TZOFFSETTO:+0000
TZNAME:GMT
DTSTART:20261025T010000
END:STANDARD
END:VTIMEZONE
BEGIN:VEVENT
DTSTART;TZID=Europe/London:20251111T160000
DTEND;TZID=Europe/London:20251111T200000
DTSTAMP:20260420T015320
CREATED:20251106T173447Z
LAST-MODIFIED:20251119T192140Z
UID:10008893-1762876800-1762891200@calendarioeventos.com
SUMMARY:Festival - Festivalito Vega Viva
DESCRIPTION:Festival – Festivalito Vega Viva para la prevención de adicciones en Vega de San Mateo\, Gran Canaria. \nDel 10 al 15 de noviembre\, nuestro municipio celebrará la primera edición de “Vega Viva”\, una semana llena de actividades para disfrutar en familia\, promover el ocio saludable y fomentar la prevención de adicciones. \n𝐇𝐚𝐛𝐫𝐚́ 𝐦𝐞𝐬𝐚𝐬 𝐫𝐞𝐝𝐨𝐧𝐝𝐚𝐬\, 𝐭𝐚𝐥𝐥𝐞𝐫𝐞𝐬 𝐜𝐫𝐞𝐚𝐭𝐢𝐯𝐨𝐬\, 𝐣𝐮𝐞𝐠𝐨𝐬 𝐞𝐧 𝐟𝐚𝐦𝐢𝐥𝐢𝐚\, 𝐚𝐜𝐫𝐨𝐲𝐨𝐠𝐚\, 𝐩𝐨𝐝𝐜𝐚𝐬𝐭 𝐣𝐮𝐯𝐞𝐧𝐢𝐥\, 𝐦𝐮́𝐬𝐢𝐜𝐚\, 𝐚𝐫𝐭𝐞 𝐲 𝐮𝐧𝐚 𝐠𝐫𝐚𝐧 𝐟𝐞𝐫𝐢𝐚 𝐟𝐢𝐧𝐚𝐥 𝐞𝐧 𝐥𝐚 𝐏𝐥𝐚𝐳𝐚 𝐝𝐞 𝐥𝐚 𝐒𝐨𝐥𝐢𝐝𝐚𝐫𝐢𝐝𝐚𝐝. \nUna semana para aprender\, compartir y disfrutar. \nPrograma del Festivalito Vega Viva: \nLUNES 10/NOVCASA DE LA JUVENTUD \n\n\n17:00-18:00: Inauguración Jornadas de prevención de adicciones en el ámbito del ocio y el tiempo libre «Festivalito Vega Viva». Mesa redonda participativa \n\n\n18:00-18:30: Descanso/tentempié \n\n\n18:30-20:00: Desafío en familia\, por Fundación Forja. Juegos en familia \n\n\nMARTES 11/NOVCASA DE LA JUVENTUD \n\n\n16:00-17:00: Mundos de color\, con Cristina García. Espacio de Juego y Arte de familias de 0 a 3 años por 8pies \n\n\n17:00-18:30: Arte para el bienestar\, con Laura Iballa. Espacio para familiad de 10 a 14 años por 8pies \n\n\n18:30-20:00: Desafío en familia\, Fundación Forja. Juegos en familia \n\n\nMIÉRCOLES 12/NOVCASA DE LA JUVENTUD \n\n\n17:00-18:30: Acroyoga\, con Leticia Corujo. \n\n\n18:30-20:00: Desafío en familia\, por Fundación Forja. Juegos en familia \n\n\nJUEVES 13/NOVBIBLIOTECA MUNICIPALCASA DE LA JUVENTUD \n\n\n16:30-17:30: Lo que construiremos\, con Cristina García. Sesión de Cuento y Arte para familias de 4 a 9 años por 8pies \n\n\n17:30-18:30: Taller musical\, con Agustín Lapertosa. Composición musical para familias de 9 a 14 años por 8pies \n\n\n18:30-20:00: Podcast\, por Fundación Forja. Actividad familiar \n\n\nVIERNES 14/NOVCASA DE LA JUVENTUD \n\n\n17:00-18:30: Acroyoga\, con Leticia Corujo \n\n\n19:00-21:00: La Matiné\, sesión abierta solo para jóvenes (16-24) con dinámicas participativas y buen rollo garantizado\, por Bajar la Madre \n\n\nActividades Aplazadas por el temporal \nSÁBADO 15/NOVPLAZA DE LA SOLIDARIDAD \n\n\n10:00: Inauguración Feria y Muestra de Artesanía \n\n10:00 a 13:30h: Fundación Canaria Yrichen:\n\nScape Room «El Casino»\nTaller de bolígrafos en 3D en la Unidad Móvil\n\n\n\n10:30: Taller familiar de cuadros por el método Decoupage\, por Mujer Caracol \n\n\n10:30: Taller familiar de pintura en telas\, por Amazigh Textil \n\n\n13:30: Músicas del mundo. Dave y Aridane\, Hampan y Kora \n\n\n16:00: Taller familiar de Alfarería Canaria\, por Angélica Suárez \n\n\n17:00: Taller familiar de Percusión Africana\, por Isaías Martín \n\n\n18:00: Zumba en Familia\, por Silvia Arbelo \n\n\nJUEVES 20/NOV \nCASA DE LA JUVENTUD \n\n\n16:30-17:30: Taller musical\, con Agustín Lapertosa. Composición musical para familias de 9 a 14 años por 8pies.  \n\n\n17:30-18:30: Lo que construiremos\, con Cristina García. Sesión de Cuento y Arte para familias de 4 a 9 años por 8pies
URL:https://calendarioeventos.com/evento/festival-festivalito-vega-viva/2025-11-11/
LOCATION:San Mateo
CATEGORIES:Actividades,Arte,Charla,Deporte,Eventos gratuitos,Feria,Infantil,Jóvenes,Juegos,Música,San Mateo,Taller
ATTACH;FMTTYPE=image/png:https://calendarioeventos.com/wp-content/uploads/2025/11/Screenshot-2025-11-19-at-19-19-40-1-Instagram.avif
END:VEVENT
END:VCALENDAR