BEGIN:VCALENDAR
VERSION:2.0
PRODID:-//Calendario de Eventos Gran Canaria - ECPv6.15.17.1//NONSGML v1.0//EN
CALSCALE:GREGORIAN
METHOD:PUBLISH
X-WR-CALNAME:Calendario de Eventos Gran Canaria
X-ORIGINAL-URL:https://calendarioeventos.com
X-WR-CALDESC:Eventos para Calendario de Eventos Gran Canaria
REFRESH-INTERVAL;VALUE=DURATION:PT1H
X-Robots-Tag:noindex
X-PUBLISHED-TTL:PT1H
BEGIN:VTIMEZONE
TZID:Europe/London
BEGIN:DAYLIGHT
TZOFFSETFROM:+0000
TZOFFSETTO:+0100
TZNAME:BST
DTSTART:20240331T010000
END:DAYLIGHT
BEGIN:STANDARD
TZOFFSETFROM:+0100
TZOFFSETTO:+0000
TZNAME:GMT
DTSTART:20241027T010000
END:STANDARD
BEGIN:DAYLIGHT
TZOFFSETFROM:+0000
TZOFFSETTO:+0100
TZNAME:BST
DTSTART:20250330T010000
END:DAYLIGHT
BEGIN:STANDARD
TZOFFSETFROM:+0100
TZOFFSETTO:+0000
TZNAME:GMT
DTSTART:20251026T010000
END:STANDARD
BEGIN:DAYLIGHT
TZOFFSETFROM:+0000
TZOFFSETTO:+0100
TZNAME:BST
DTSTART:20260329T010000
END:DAYLIGHT
BEGIN:STANDARD
TZOFFSETFROM:+0100
TZOFFSETTO:+0000
TZNAME:GMT
DTSTART:20261025T010000
END:STANDARD
END:VTIMEZONE
BEGIN:VEVENT
DTSTART;TZID=Europe/London:20251113T180000
DTEND;TZID=Europe/London:20251113T190000
DTSTAMP:20260420T015305
CREATED:20251103T162027Z
LAST-MODIFIED:20251103T162027Z
UID:10008579-1763056800-1763060400@calendarioeventos.com
SUMMARY:Jornadas - Biblioteca Inclusiva Arguineguín
DESCRIPTION:II Jornadas Biblioteca Inclusiva en la Biblioteca Municipal de Arguineguín\, Mogán\, Gran Canaria. \nLa Biblioteca Municipal de Arguineguín acoge del 10 al 15 de noviembre las segundas jornadas ‘Biblioteca Inclusiva: Dando respuesta a los usuarios con diversidad funcional’. \nLa programación está dirigida a la población general\, incluyendo talleres para personas adultas y familias\, presentaciones de libros y charlas especializadas. \nBIBLIOTECA INCLUSIVADando respuesta a los usuarios con diversidad funcional \nLunes 10 de noviembre \n\n\n17:30 Apertura de las Jornadas. \n\n\n18:00 – 19:00 Charla-Taller: «Crear cuentos con pictogramas». Dirigido a adultos. Miriam García. \n\n\nMartes 11 de noviembre \n\n\n12:00 – 13:00 Charla: «Adecuación de los espacios en bibliotecas para usuarios con desafíos sensoriales y de aprendizaje: Favorecer la lectura y la creatividad» Celia Roldán. \n\n\n18:00 – 19:00 Charla: «El hogar: un espacio para el bienestar y desarrollo de intereses profundos a través de la lectura y el juego» Celia Roldán. \n\n\nMiércoles 12 de noviembre \n\n\n17:00 – 19:00 Jugar con cuentos a través del álbum ilustrado «Por cuatro esquinitas de nada»\, de editorial Juventud. Miriam García. \n\n\n\n\n17:00 – 18:00: familias con niños/as de 3 a 8 años \n\n\n\n\n\n\n18:00 – 19:00: familias con niños/as de 9 a 12 años \n\n\n\n\n\n\nJueves 13 de noviembre \n\n\n18:00 – 19:00 Charla: «El autismo en femenino» Sara Codina. \n\n\nViernes 14 de noviembre \n\n\n17:00 – 18:00 Actividad de biodanza: «Danzando y contando». Actividad de integración para familias de niños y niñas autistas y familias de niños y niñas neurotípicos. Luz Marina Sánchez. \n\n\n19:00 Presentación del libro: «Entre dos mundos» María Isabel Nievas. \n\n\nSábado 15 de noviembre \n\n\n10:30 – 12:30 «Juegos y libros\, el tándem perfecto». Actividad de integración para familias de niños y niñas autistas y familias de niños y niñas neurotípicos. Miriam García. \n\n\n\n\n10:30 – 11:30: familias con niños/as de 3 a 8 años \n\n\n\n\n\n\n11:30 – 12:30: familias con niños/as de 9 a 12 años \n\n\n\n\n\n\nActividades Paralelas (IES ARGUINEGUÍN) \n\n\n12 y 14 de noviembre a las 13:20 Charla del deportista Daniel Marín Anaya\, campeón de España y Europa de tiro con arco adaptado a su discapacidad visual. Dirigida a alumnado del centro. \n\n\n• Todas las actividades se realizarán en la Biblioteca de Arguineguín. \n\n\n• Las actividades serán gratuitas y tendrán inscripción previa. \n\n\nTlf: 928 158 800 – Ext. 6128
URL:https://calendarioeventos.com/evento/jornadas-biblioteca-inclusiva-arguineguin/2025-11-13/
LOCATION:Biblioteca Pública Municipal de Arguineguín\, c/ Alcalde Paco González\, s/n Complejo Deportivo David Jiménez Silva 35120 - Arguineguin\, Mogán\, Las Palmas
CATEGORIES:Actividades,Charla,Eventos gratuitos,Literatura,Mogán,Municipio,Precio,Presentación,Taller
ATTACH;FMTTYPE=image/png:https://calendarioeventos.com/wp-content/uploads/2025/11/Screenshot-2025-11-03-at-16-15-30-Instagram.avif
END:VEVENT
END:VCALENDAR