BEGIN:VCALENDAR
VERSION:2.0
PRODID:-//Calendario de Eventos Gran Canaria - ECPv6.15.17.1//NONSGML v1.0//EN
CALSCALE:GREGORIAN
METHOD:PUBLISH
X-WR-CALNAME:Calendario de Eventos Gran Canaria
X-ORIGINAL-URL:https://calendarioeventos.com
X-WR-CALDESC:Eventos para Calendario de Eventos Gran Canaria
REFRESH-INTERVAL;VALUE=DURATION:PT1H
X-Robots-Tag:noindex
X-PUBLISHED-TTL:PT1H
BEGIN:VTIMEZONE
TZID:Europe/London
BEGIN:DAYLIGHT
TZOFFSETFROM:+0000
TZOFFSETTO:+0100
TZNAME:BST
DTSTART:20240331T010000
END:DAYLIGHT
BEGIN:STANDARD
TZOFFSETFROM:+0100
TZOFFSETTO:+0000
TZNAME:GMT
DTSTART:20241027T010000
END:STANDARD
BEGIN:DAYLIGHT
TZOFFSETFROM:+0000
TZOFFSETTO:+0100
TZNAME:BST
DTSTART:20250330T010000
END:DAYLIGHT
BEGIN:STANDARD
TZOFFSETFROM:+0100
TZOFFSETTO:+0000
TZNAME:GMT
DTSTART:20251026T010000
END:STANDARD
BEGIN:DAYLIGHT
TZOFFSETFROM:+0000
TZOFFSETTO:+0100
TZNAME:BST
DTSTART:20260329T010000
END:DAYLIGHT
BEGIN:STANDARD
TZOFFSETFROM:+0100
TZOFFSETTO:+0000
TZNAME:GMT
DTSTART:20261025T010000
END:STANDARD
END:VTIMEZONE
BEGIN:VEVENT
DTSTART;TZID=Europe/London:20251111T190000
DTEND;TZID=Europe/London:20251111T203000
DTSTAMP:20260420T015249
CREATED:20251031T163959Z
LAST-MODIFIED:20251031T163959Z
UID:10008473-1762887600-1762893000@calendarioeventos.com
SUMMARY:Jornadas - Foro Noviembre SFLPGC
DESCRIPTION:Jornadas – «Foro Noviembre» de la Sociedad Filarmónica de Las Palmas de Gran Canaria. \nApunta las fechas y no te pierdas nuestro #ForoNoviembre\, un encuentro anual en el que se combinarán música\, historia\, literatura y reflexión en torno a la cultura\, desde una mirada interdisciplinar y contemporánea. \n\nArrancamos el 5 de noviembre a las 19h con un paseo comentado por los espacios que han formado parte de los 180 años de historia de la Sociedad Filarmónica\, guiado por Juan José Laforet\, Cronista Oficial de Las Palmas de Gran Canaria\, junto a especialistas en historia\, urbanismo y arquitectura.\n\nCerraremos la jornada con una CODA MUSICAL en el Quegles a las 20:20h\, porque en nuestra historia\, la música siempre tiene la última palabra.\n\n\nDía 6 en Casa de Colón:\n\n19h. Preludio musical: Julius Klengel.\n19:30h – Mesa Redonda – SFLPGC: historia social\, cultural y musical.\n\n\nDía 7 en Casa de Colón:\n\n19h. Preludio musical con música de varios compositores.\n19:30h – Mesa Redonda – SFLPGC: en el contexto cultural canario.\n\n\nDía 10 en el Gabinete Literario:\n\n19h – Preludio musical.\n19:30h – Mesa de diálogo con notas musicales sobre el concierto 180A.\n\n\nDía 11 en el Gabinete Literario:\n\n19h – Preludio musical.\n19:30 – Mesa redonda – SFLPGC 180 años – La producción musical.
URL:https://calendarioeventos.com/evento/jornadas-foro-noviembre-sflpgc/2025-11-11/
LOCATION:Vegueta\, 35001 Las Palmas de Gran Canaria\, Las Palmas
CATEGORIES:Actividades,Charla,Eventos gratuitos,Las Palmas de GC,Música,Visita Guiada
ATTACH;FMTTYPE=image/png:https://calendarioeventos.com/wp-content/uploads/2025/10/Screenshot-2025-10-31-at-16-28-26-Instagram.avif
END:VEVENT
END:VCALENDAR