BEGIN:VCALENDAR
VERSION:2.0
PRODID:-//Calendario de Eventos Gran Canaria - ECPv6.15.17.1//NONSGML v1.0//EN
CALSCALE:GREGORIAN
METHOD:PUBLISH
X-WR-CALNAME:Calendario de Eventos Gran Canaria
X-ORIGINAL-URL:https://calendarioeventos.com
X-WR-CALDESC:Eventos para Calendario de Eventos Gran Canaria
REFRESH-INTERVAL;VALUE=DURATION:PT1H
X-Robots-Tag:noindex
X-PUBLISHED-TTL:PT1H
BEGIN:VTIMEZONE
TZID:Europe/London
BEGIN:DAYLIGHT
TZOFFSETFROM:+0000
TZOFFSETTO:+0100
TZNAME:BST
DTSTART:20250330T010000
END:DAYLIGHT
BEGIN:STANDARD
TZOFFSETFROM:+0100
TZOFFSETTO:+0000
TZNAME:GMT
DTSTART:20251026T010000
END:STANDARD
BEGIN:DAYLIGHT
TZOFFSETFROM:+0000
TZOFFSETTO:+0100
TZNAME:BST
DTSTART:20260329T010000
END:DAYLIGHT
BEGIN:STANDARD
TZOFFSETFROM:+0100
TZOFFSETTO:+0000
TZNAME:GMT
DTSTART:20261025T010000
END:STANDARD
BEGIN:DAYLIGHT
TZOFFSETFROM:+0000
TZOFFSETTO:+0100
TZNAME:BST
DTSTART:20270328T010000
END:DAYLIGHT
BEGIN:STANDARD
TZOFFSETFROM:+0100
TZOFFSETTO:+0000
TZNAME:GMT
DTSTART:20271031T010000
END:STANDARD
END:VTIMEZONE
BEGIN:VEVENT
DTSTART;TZID=Europe/London:20260320T160000
DTEND;TZID=Europe/London:20260320T203000
DTSTAMP:20260419T202355
CREATED:20260223T180116Z
LAST-MODIFIED:20260223T180205Z
UID:10014238-1774022400-1774038600@calendarioeventos.com
SUMMARY:Jornadas — «Tamaragua Creativa»
DESCRIPTION:Jornadas — Jornadas Tamaragua Creativa en la Fundación MAPFRE Canarias y la Sala Gabriel Rodó\, Las Palmas de Gran Canaria. \nLas Jornadas Tamaragua Creativa (TC) se presentan como un punto de encuentro esencial donde artistas y profesionales de diversas disciplinas se unen para inspirar nuevas formas de participación ciudadana. Este espacio de reflexión\, intercambio y creación está organizado por la Asociación Enclave Artística y se desarrollará del 18 al 20 de marzo de 2026. \nEl programa de las jornadas incluye una variada oferta de ponencias y charlas que invitan al debate\, culminando con una gala final protagonizada por artistas con y sin discapacidad. Este evento pone en valor la diversidad y sitúa a la cultura como el principal motor de participación inclusiva en la sociedad. Las actividades tendrán lugar de forma repartida entre el Aula Magna de la Fundación MAPFRE Canarias y la Sala Gabriel Rodó de la Orquesta Filarmónica de Gran Canaria. \nMás información y programa en este enlace
URL:https://calendarioeventos.com/evento/jornadas-tamaragua-creativa/2026-03-20/
LOCATION:Fundación MAPFRE Canarias – Sede Institucional
CATEGORIES:Actividades,Arte,Charla,Eventos gratuitos,Las Palmas de GC,Música
ATTACH;FMTTYPE=image/jpeg:https://calendarioeventos.com/wp-content/uploads/2026/02/602181740_17842004445667280_1199361003892412356_n-iRWFqV.avif
END:VEVENT
END:VCALENDAR