BEGIN:VCALENDAR
VERSION:2.0
PRODID:-//Calendario de Eventos Gran Canaria - ECPv6.15.17.1//NONSGML v1.0//EN
CALSCALE:GREGORIAN
METHOD:PUBLISH
X-WR-CALNAME:Calendario de Eventos Gran Canaria
X-ORIGINAL-URL:https://calendarioeventos.com
X-WR-CALDESC:Eventos para Calendario de Eventos Gran Canaria
REFRESH-INTERVAL;VALUE=DURATION:PT1H
X-Robots-Tag:noindex
X-PUBLISHED-TTL:PT1H
BEGIN:VTIMEZONE
TZID:Europe/London
BEGIN:DAYLIGHT
TZOFFSETFROM:+0000
TZOFFSETTO:+0100
TZNAME:BST
DTSTART:20250330T010000
END:DAYLIGHT
BEGIN:STANDARD
TZOFFSETFROM:+0100
TZOFFSETTO:+0000
TZNAME:GMT
DTSTART:20251026T010000
END:STANDARD
BEGIN:DAYLIGHT
TZOFFSETFROM:+0000
TZOFFSETTO:+0100
TZNAME:BST
DTSTART:20260329T010000
END:DAYLIGHT
BEGIN:STANDARD
TZOFFSETFROM:+0100
TZOFFSETTO:+0000
TZNAME:GMT
DTSTART:20261025T010000
END:STANDARD
BEGIN:DAYLIGHT
TZOFFSETFROM:+0000
TZOFFSETTO:+0100
TZNAME:BST
DTSTART:20270328T010000
END:DAYLIGHT
BEGIN:STANDARD
TZOFFSETFROM:+0100
TZOFFSETTO:+0000
TZNAME:GMT
DTSTART:20271031T010000
END:STANDARD
END:VTIMEZONE
BEGIN:VEVENT
DTSTART;TZID=Europe/London:20260319T180000
DTEND;TZID=Europe/London:20260319T200000
DTSTAMP:20260425T044409
CREATED:20260310T182321Z
LAST-MODIFIED:20260310T182407Z
UID:10015031-1773943200-1773950400@calendarioeventos.com
SUMMARY:Narración — «Cuentos de Barrio y Raíz» Polígono Arinaga
DESCRIPTION:Narración — «Cuentos de Barrio y Raíz» en el Local Social del Polígono Residencial de Arinaga\, Agüimes\, Gran Canaria. \nEl programa de narración oral Cuentos de Barrio y Raíz llega al Polígono Residencial de Arinaga. Una oportunidad para disfrutar de la palabra y las historias en comunidad\, de la mano de la Concejalía de Cultura.
URL:https://calendarioeventos.com/evento/narracion-cuentos-de-barrio-y-raiz-poligono-arinaga/2026-03-19/
LOCATION:Plaza Polígono Residencial de Arinaga\, Calle Tabona\, 35188 Agüimes\, España
CATEGORIES:Agüimes,Cultura,Eventos gratuitos,Literatura
ATTACH;FMTTYPE=image/jpeg:https://calendarioeventos.com/wp-content/uploads/2026/03/narraci-n-cuentos-de-barrio-y-ra-z-pol-gono-ar-1773167000293.avif
END:VEVENT
END:VCALENDAR