BEGIN:VCALENDAR
VERSION:2.0
PRODID:-//Calendario de Eventos Gran Canaria - ECPv6.15.17.1//NONSGML v1.0//EN
CALSCALE:GREGORIAN
METHOD:PUBLISH
X-WR-CALNAME:Calendario de Eventos Gran Canaria
X-ORIGINAL-URL:https://calendarioeventos.com
X-WR-CALDESC:Eventos para Calendario de Eventos Gran Canaria
REFRESH-INTERVAL;VALUE=DURATION:PT1H
X-Robots-Tag:noindex
X-PUBLISHED-TTL:PT1H
BEGIN:VTIMEZONE
TZID:Europe/London
BEGIN:DAYLIGHT
TZOFFSETFROM:+0000
TZOFFSETTO:+0100
TZNAME:BST
DTSTART:20240331T010000
END:DAYLIGHT
BEGIN:STANDARD
TZOFFSETFROM:+0100
TZOFFSETTO:+0000
TZNAME:GMT
DTSTART:20241027T010000
END:STANDARD
BEGIN:DAYLIGHT
TZOFFSETFROM:+0000
TZOFFSETTO:+0100
TZNAME:BST
DTSTART:20250330T010000
END:DAYLIGHT
BEGIN:STANDARD
TZOFFSETFROM:+0100
TZOFFSETTO:+0000
TZNAME:GMT
DTSTART:20251026T010000
END:STANDARD
BEGIN:DAYLIGHT
TZOFFSETFROM:+0000
TZOFFSETTO:+0100
TZNAME:BST
DTSTART:20260329T010000
END:DAYLIGHT
BEGIN:STANDARD
TZOFFSETFROM:+0100
TZOFFSETTO:+0000
TZNAME:GMT
DTSTART:20261025T010000
END:STANDARD
END:VTIMEZONE
BEGIN:VEVENT
DTSTART;TZID=Europe/London:20251115T100000
DTEND;TZID=Europe/London:20251115T130000
DTSTAMP:20260420T015249
CREATED:20251029T140114Z
LAST-MODIFIED:20251111T195815Z
UID:10008314-1763200800-1763211600@calendarioeventos.com
SUMMARY:Taller - Tejer la paz. Crochet participativo
DESCRIPTION:Taller ‘Tejer la paz. Crochet participativo’ en la Casa de Colón\, Las Palmas de Gran Canaria. \nPrograma Rojo Desconolonial. Propuesta de Gloria Godínez. \nConvocatoria abierta a cualquier persona que desee participar. Puede aportar para colaborar sobrantes de cualquier lana roja\, rosa o púrpura. Habrá ganchillos y agujas\, aunque quienes prefieran podrán traer los propios. La propuesta es cubrir con crochet los seis cañones que se encuentran dentro del Museo como protesta ante los emblemas de la guerra y la colonización utilizando lana roja\, un material noble y sencillo\, tradicionalmente tejido por las mujeres \nAcceso libre\, limitado a mayores de 15 años. \nA la intervención se suma la artista Ulrike Güse (@ulitasloom)\, quien presenta tres tapices en telar de bajo lizo\, tejidos con el código morse de la palabra PAZ \n🌿 “Rojo Descolonial” ofrece una creación comunitaria «site specific» basada en la grana cochinilla\, insecto que cambió la historia cromática europea gracias al trabajo de millones de campesinas y campesinos en el México colonial y que llegó a nuestro Archipiélago hace dos siglos. \nVen\, crea\, acompaña… y tejamos juntas y juntos un futuro más amable.
URL:https://calendarioeventos.com/evento/taller-tejer-la-paz-crochet-participativo/2025-11-15/
LOCATION:Casa de Colón\, C. Colón\, 1\, 35001 Las Palmas de Gran Canaria\, Las Palmas
CATEGORIES:Actividades,Eventos gratuitos,Las Palmas de GC,Taller
ATTACH;FMTTYPE=image/png:https://calendarioeventos.com/wp-content/uploads/2025/10/Screenshot-2025-11-11-at-19-51-51-Instagram.avif
END:VEVENT
END:VCALENDAR