BEGIN:VCALENDAR
VERSION:2.0
PRODID:-//Calendario de Eventos Gran Canaria - ECPv6.15.17.1//NONSGML v1.0//EN
CALSCALE:GREGORIAN
METHOD:PUBLISH
X-ORIGINAL-URL:https://calendarioeventos.com
X-WR-CALDESC:Eventos para Calendario de Eventos Gran Canaria
REFRESH-INTERVAL;VALUE=DURATION:PT1H
X-Robots-Tag:noindex
X-PUBLISHED-TTL:PT1H
BEGIN:VTIMEZONE
TZID:Europe/London
BEGIN:DAYLIGHT
TZOFFSETFROM:+0000
TZOFFSETTO:+0100
TZNAME:BST
DTSTART:20250330T010000
END:DAYLIGHT
BEGIN:STANDARD
TZOFFSETFROM:+0100
TZOFFSETTO:+0000
TZNAME:GMT
DTSTART:20251026T010000
END:STANDARD
BEGIN:DAYLIGHT
TZOFFSETFROM:+0000
TZOFFSETTO:+0100
TZNAME:BST
DTSTART:20260329T010000
END:DAYLIGHT
BEGIN:STANDARD
TZOFFSETFROM:+0100
TZOFFSETTO:+0000
TZNAME:GMT
DTSTART:20261025T010000
END:STANDARD
BEGIN:DAYLIGHT
TZOFFSETFROM:+0000
TZOFFSETTO:+0100
TZNAME:BST
DTSTART:20270328T010000
END:DAYLIGHT
BEGIN:STANDARD
TZOFFSETFROM:+0100
TZOFFSETTO:+0000
TZNAME:GMT
DTSTART:20271031T010000
END:STANDARD
END:VTIMEZONE
BEGIN:VEVENT
DTSTART;TZID=Europe/London:20260523T203000
DTEND;TZID=Europe/London:20260523T220000
DTSTAMP:20260420T175219
CREATED:20260407T130336Z
LAST-MODIFIED:20260407T130337Z
UID:10016155-1779568200-1779573600@calendarioeventos.com
SUMMARY:Concierto - «Quique González & Toni Brunet»
DESCRIPTION:Concierto — Quique González & Toni Brunet en el Nuevo Teatro Viejo\, Arucas\, Gran Canaria. \nQUIQUE GONZÁLEZ & TONI BRUNET \nQuique González llega al Nuevo Teatro Viejo de Arucas el próximo 23 de mayo para presentar en formato acústico\, acompañado del guitarrista Toni Brunet\, los temas de su nuevo disco y repasar el repertorio de trabajos anteriores. \nEntradas en este enlace  \nEl artista madrileño se ha consolidado como una de las voces más respetadas del rock en español\, a lo largo de más de tres décadas. Su carrera le ha permitido compartir escenario con referentes internacionales como Bob Dylan\, Steve Earle o Ryan Adams\, y construir un repertorio que ya se ha convertido en clásico. \nÁlbumes como “Salitre 48” (2001)\, “Kamikazes enamorados” (2003) o “Daiquiri blues” (2009) han marcado hitos en su evolución artística\, mostrando una fusión de la tradición del songwriter norteamericano y la sensibilidad del trovador mediterráneo. \nEl giro creativo se consolida con “Me mata si me necesitas” (2016)\, disco en el que resume gran parte de su trayectoria junto a una de sus mejores bandas. A partir de ahí\, Quique ha desarrollado proyectos más personales\, como “Las palabras vividas” (2019)\, con textos de Luis García Montero\, y “Sur en el valle” (2021). \n“1973” (2025)\, titulado en referencia a su año de nacimiento\, representa una declaración de intenciones y la continuidad de su honestidad creativa\, siempre en diálogo con su público. \nEsta gira es\, según los críticos y seguidores\, una oportunidad única para disfrutar en directo de un artista que ha sabido mantenerse fiel a su estilo y cercano a su audiencia durante más de treinta años. \nOrganizador del evento: Art Bembé. Tipo de asiento: Numerado. Desde 18.00€.
URL:https://calendarioeventos.com/evento/concierto-quique-gonzalez-toni-brunet/
LOCATION:Nuevo Teatro Viejo\, C. San Juan\, 20\, 35400 Arucas\, Las Palmas
CATEGORIES:Arucas,Concierto,Cultura,Música
ATTACH;FMTTYPE=image/jpeg:https://calendarioeventos.com/wp-content/uploads/2026/04/Cartel-Quique-Arucas-preview-N8TgGd.avif
END:VEVENT
BEGIN:VEVENT
DTSTART;TZID=Europe/London:20260529T200000
DTEND;TZID=Europe/London:20260529T213000
DTSTAMP:20260420T175219
CREATED:20260407T130407Z
LAST-MODIFIED:20260407T130409Z
UID:10016156-1780084800-1780090200@calendarioeventos.com
SUMMARY:Magia - «Álvaro Hipnotizador de Ilusionar-T»
DESCRIPTION:Magia — Álvaro Hipnotizador de Ilusionar-T en el Nuevo Teatro Viejo\, Arucas\, Gran Canaria. \nÁLVARO HIPNOTIZADOR DE ILUSIONAR-T \n¿Te atreves a vivir la hipnosis en primera persona? El sevillano Álvaro Andújar (Ilusionar-T) vuelve con un show único de humor e hipnosis donde los voluntarios vivirán experiencias tan sorprendentes como divertidas… ¡y siempre desde el respeto! \nEntradas en este enlace  \nPrepárate para reír\, sorprenderte y descubrir qué es realmente la hipnosis. \n¿Te lo vas a perder? \n29 de mayo\, 20.00 hNuevo Teatro Viejo\, Arucas \nPrecios por lanzamiento:Primeras 100 entradas → 15€Siguientes 100 entradas → 18€Resto de entradas → 20€ \n90 minutos de carcajadas aseguradas. \nInformación general:Duración: 90 minutos.Una vez comenzado el espectáculo\, no será posible acceder a la sala.Tipo de asiento: Numerado.Organizador del evento: AMA EVENTS 2023.
URL:https://calendarioeventos.com/evento/magia-alvaro-hipnotizador-de-ilusionar-t/
LOCATION:Nuevo Teatro Viejo\, C. San Juan\, 20\, 35400 Arucas\, Las Palmas
CATEGORIES:Arucas,Entretenimiento,Magia
ATTACH;FMTTYPE=image/jpeg:https://calendarioeventos.com/wp-content/uploads/2026/04/WhatsApp-Image-2026-02-09-at-08.17.53-preview-1amoig.avif
END:VEVENT
END:VCALENDAR