BEGIN:VCALENDAR
VERSION:2.0
PRODID:-//Calendario de Eventos Gran Canaria - ECPv6.15.17.1//NONSGML v1.0//EN
CALSCALE:GREGORIAN
METHOD:PUBLISH
X-ORIGINAL-URL:https://calendarioeventos.com
X-WR-CALDESC:Eventos para Calendario de Eventos Gran Canaria
REFRESH-INTERVAL;VALUE=DURATION:PT1H
X-Robots-Tag:noindex
X-PUBLISHED-TTL:PT1H
BEGIN:VTIMEZONE
TZID:Europe/London
BEGIN:DAYLIGHT
TZOFFSETFROM:+0000
TZOFFSETTO:+0100
TZNAME:BST
DTSTART:20250330T010000
END:DAYLIGHT
BEGIN:STANDARD
TZOFFSETFROM:+0100
TZOFFSETTO:+0000
TZNAME:GMT
DTSTART:20251026T010000
END:STANDARD
BEGIN:DAYLIGHT
TZOFFSETFROM:+0000
TZOFFSETTO:+0100
TZNAME:BST
DTSTART:20260329T010000
END:DAYLIGHT
BEGIN:STANDARD
TZOFFSETFROM:+0100
TZOFFSETTO:+0000
TZNAME:GMT
DTSTART:20261025T010000
END:STANDARD
BEGIN:DAYLIGHT
TZOFFSETFROM:+0000
TZOFFSETTO:+0100
TZNAME:BST
DTSTART:20270328T010000
END:DAYLIGHT
BEGIN:STANDARD
TZOFFSETFROM:+0100
TZOFFSETTO:+0000
TZNAME:GMT
DTSTART:20271031T010000
END:STANDARD
END:VTIMEZONE
BEGIN:VEVENT
DTSTART;TZID=Europe/London:20260307T090000
DTEND;TZID=Europe/London:20260307T130000
DTSTAMP:20260420T192603
CREATED:20260226T132516Z
LAST-MODIFIED:20260226T132516Z
UID:10014449-1772874000-1772888400@calendarioeventos.com
SUMMARY:Senderos En Familia - Risco Agate - Charco Azul
DESCRIPTION:Senderos En Familia – «Risco Agate – Charco Azul» organizada por el Ayuntamiento de Arucas\, Gran Canaria. \nEn lugar de la jornada de limpieza inicialmente programada en las Presas de El Pinto\, la actividad se desarrollará en el Risco de Agaete\, con un recorrido por el sendero que conduce al Charco Azul. \nLa iniciativa mantiene su carácter familiar y ofrece una nueva oportunidad para disfrutar de la naturaleza\, compartir tiempo en familia y descubrir uno de los rincones naturales más emblemáticos de la isla. \nInscripción: a partir del lunes 2 de marzo a las 9:00 horas pinchando en el enlace que se publicará en las redes sociales de Radio Arucas y en la app Konvoko. \n  \n 
URL:https://calendarioeventos.com/evento/senderos-en-familia-risco-agate-charco-azul/
LOCATION:El Risco\, 35489\, Las Palmas
CATEGORIES:Actividades,Agaete,Arucas,Deporte,Eventos gratuitos,Infantil,Senderismo
ATTACH;FMTTYPE=image/png:https://calendarioeventos.com/wp-content/uploads/2026/02/Screenshot-2026-02-26-at-13-23-16-Primera-Semana-•-Instagram.avif
END:VEVENT
BEGIN:VEVENT
DTSTART;TZID=Europe/London:20260307T120000
DTEND;TZID=Europe/London:20260307T140000
DTSTAMP:20260420T192603
CREATED:20260224T134521Z
LAST-MODIFIED:20260224T134521Z
UID:10014343-1772884800-1772892000@calendarioeventos.com
SUMMARY:Carnaval — Bañaderos
DESCRIPTION:Carnaval – Programa del Carnaval de Bañaderos\, Arucas\, Gran Canaria\, del 7 de marzo: \n\n12:00 h. Encuentro de Murgas.\nPlaza de San Pedro.
URL:https://calendarioeventos.com/evento/carnaval-banaderos/
LOCATION:Bañaderos\, 35414 Las Palmas
CATEGORIES:Arucas,Carnaval,Entretenimiento,Eventos gratuitos,Humor,Música,Municipio
ATTACH;FMTTYPE=image/jpeg:https://calendarioeventos.com/wp-content/uploads/2026/02/IMG_8810.avif
END:VEVENT
BEGIN:VEVENT
DTSTART;TZID=Europe/London:20260307T120000
DTEND;TZID=Europe/London:20260307T210000
DTSTAMP:20260420T192603
CREATED:20260223T174302Z
LAST-MODIFIED:20260223T174303Z
UID:10014230-1772884800-1772917200@calendarioeventos.com
SUMMARY:Carnaval — Montaña de Cardones
DESCRIPTION:Carnaval – Programa del Carnaval de Montaña Cardones\, Arucas\, Gran Canaria\, del 7 de marzo: \n12:00 h. Acto de Bienvenida del Carnaval.Pasacalle y Fiesta de los Polvo Holi con el Dj Airám Vega.Plaza de San Isidro \n18:30 h. Representación teatral de la A.C. Salsipuedes.C/ Párroco Déniz\, Plazoleta de la Lavandera \n19:30 h. Carrera del Cardón con TacónC/ Párroco Déniz. \nA continuación\, BAILE DE LA MASCARITA en la Plaza de San Isidro.
URL:https://calendarioeventos.com/evento/carnaval-montana-de-cardones/
LOCATION:Cardones\, Las Palmas
CATEGORIES:Arucas,Carnaval,Danza,Deporte,Entretenimiento,Eventos gratuitos,Fiesta,Música,Municipio,Teatro
ATTACH;FMTTYPE=image/jpeg:https://calendarioeventos.com/wp-content/uploads/2026/02/IMG_8811-U5paKw.avif
END:VEVENT
BEGIN:VEVENT
DTSTART;TZID=Europe/London:20260307T130000
DTEND;TZID=Europe/London:20260307T230000
DTSTAMP:20260420T192603
CREATED:20260303T164426Z
LAST-MODIFIED:20260303T164428Z
UID:10014772-1772888400-1772924400@calendarioeventos.com
SUMMARY:Fiesta - «TRIP House Party»
DESCRIPTION:Fiesta – «TRIP House Party» en una Localización Secreta\, Arucas\, Gran Canaria. \nDisfruta libremente de gran música ambiente house\, ritmos africanos profundos\, de esta esplendorosa estupenda travesía musical y aventura ambientada sorprendentemente en Egipto en el corazón enigmático del animado norte insular. \nEntradas en este enlace.
URL:https://calendarioeventos.com/evento/fiesta-trip-house-party/
LOCATION:Centro Municipal de Cultura – Ayuntamiento de Arucas
CATEGORIES:Arucas,Entretenimiento,Fiesta,Música
ATTACH;FMTTYPE=image/jpeg:https://calendarioeventos.com/wp-content/uploads/2026/03/fiesta-trip-house-party-1772556264566.avif
END:VEVENT
BEGIN:VEVENT
DTSTART;TZID=Europe/London:20260307T180000
DTEND;TZID=Europe/London:20260307T193000
DTSTAMP:20260420T192603
CREATED:20260224T134623Z
LAST-MODIFIED:20260224T134623Z
UID:10014344-1772906400-1772911800@calendarioeventos.com
SUMMARY:Carnaval — Tres Barrios
DESCRIPTION:Carnaval – Programa del Carnaval de Tres Barrios\, Arucas\, Gran Canaria\, del 7 de marzo: \n\n18:00 h. Encuentro de Murgas.\nEdificio de Usos Múltiples.
URL:https://calendarioeventos.com/evento/carnaval-tres-barrios/
LOCATION:Tres Barrios\, 35413\, Las Palmas
CATEGORIES:Arucas,Carnaval,Entretenimiento,Eventos gratuitos,Humor,Música,Municipio
ATTACH;FMTTYPE=image/jpeg:https://calendarioeventos.com/wp-content/uploads/2026/02/IMG_8810.avif
END:VEVENT
BEGIN:VEVENT
DTSTART;TZID=Europe/London:20260307T190000
DTEND;TZID=Europe/London:20260307T203000
DTSTAMP:20260420T192603
CREATED:20260303T203422Z
LAST-MODIFIED:20260303T203423Z
UID:10014791-1772910000-1772915400@calendarioeventos.com
SUMMARY:Fiesta - «6º Aniversario Los Charcones»
DESCRIPTION:Fiesta — 6º Aniversario del Restaurante Los Charcones\, Arucas\, Gran Canaria. \nCelebramos nuestro 6º Aniversario por todo lo alto. Música en directo\, artistas increíbles\, animación\, regalos y mucho sabor. 7 de marzo | 19:00 h. \nElégua\, Cremita de Coco\, Yet Garbey\, Idel El Mulatico y DJ Antony Robert.  \nEntradas anticipadas: 15€ con consumición (en puerta\, precio más alto). Info: 928 606 125 / 648 970 541.  \nEntradas en este enlace
URL:https://calendarioeventos.com/evento/fiesta-6o-aniversario-los-charcones/
LOCATION:Terraza los Charcones\, Frente Las Piscinas naturales\, P.º Maritimo los Charcones\, numero 35\, 35414 Arucas\, Las Palmas
CATEGORIES:Arucas,Entretenimiento,Fiesta,Música
ATTACH;FMTTYPE=image/jpeg:https://calendarioeventos.com/wp-content/uploads/2026/03/fiesta-6-aniversario-los-charcones-1772570059137.avif
END:VEVENT
BEGIN:VEVENT
DTSTART;TZID=Europe/London:20260307T200000
DTEND;TZID=Europe/London:20260307T230000
DTSTAMP:20260420T192603
CREATED:20260224T134210Z
LAST-MODIFIED:20260224T134444Z
UID:10014342-1772913600-1772924400@calendarioeventos.com
SUMMARY:Carnaval — Trapiche 7 marzo
DESCRIPTION:Carnaval – Programa del Carnaval de Trapiche\, Arucas\, Gran Canaria\, del 7 de marzo: \n\n20:00 h. Guateque. Fiesta de Los 60 y 70\nEscuelas Artísticas Municipales de Arucas.\nEdificio de Usos Múltiples.\nOrganiza: Asociación Vecinal Dácil.
URL:https://calendarioeventos.com/evento/carnaval-trapiche-7-marzo/
LOCATION:Trapiche\, 35413 Las Palmas
CATEGORIES:Arucas,Carnaval,Entretenimiento,Eventos gratuitos,Fiesta,Música
ATTACH;FMTTYPE=image/jpeg:https://calendarioeventos.com/wp-content/uploads/2026/02/IMG_8810.avif
END:VEVENT
END:VCALENDAR