BEGIN:VCALENDAR
VERSION:2.0
PRODID:-//Calendario de Eventos Gran Canaria - ECPv6.15.17.1//NONSGML v1.0//EN
CALSCALE:GREGORIAN
METHOD:PUBLISH
X-ORIGINAL-URL:https://calendarioeventos.com
X-WR-CALDESC:Eventos para Calendario de Eventos Gran Canaria
REFRESH-INTERVAL;VALUE=DURATION:PT1H
X-Robots-Tag:noindex
X-PUBLISHED-TTL:PT1H
BEGIN:VTIMEZONE
TZID:Europe/London
BEGIN:DAYLIGHT
TZOFFSETFROM:+0000
TZOFFSETTO:+0100
TZNAME:BST
DTSTART:20250330T010000
END:DAYLIGHT
BEGIN:STANDARD
TZOFFSETFROM:+0100
TZOFFSETTO:+0000
TZNAME:GMT
DTSTART:20251026T010000
END:STANDARD
BEGIN:DAYLIGHT
TZOFFSETFROM:+0000
TZOFFSETTO:+0100
TZNAME:BST
DTSTART:20260329T010000
END:DAYLIGHT
BEGIN:STANDARD
TZOFFSETFROM:+0100
TZOFFSETTO:+0000
TZNAME:GMT
DTSTART:20261025T010000
END:STANDARD
BEGIN:DAYLIGHT
TZOFFSETFROM:+0000
TZOFFSETTO:+0100
TZNAME:BST
DTSTART:20270328T010000
END:DAYLIGHT
BEGIN:STANDARD
TZOFFSETFROM:+0100
TZOFFSETTO:+0000
TZNAME:GMT
DTSTART:20271031T010000
END:STANDARD
END:VTIMEZONE
BEGIN:VEVENT
DTSTART;TZID=Europe/London:20260321T083000
DTEND;TZID=Europe/London:20260321T113000
DTSTAMP:20260420T192603
CREATED:20260313T194026Z
LAST-MODIFIED:20260313T194026Z
UID:10015232-1774081800-1774092600@calendarioeventos.com
SUMMARY:Senderismo — «Huellas del Agua»
DESCRIPTION:Ruta de Senderismo — «Huellas del Agua» por el Norte de Gran Canaria \nLes presento Huellas del Agua\, una nueva experiencia entre vegetación abundante\, charcas y antiguas obras hidráulicas del norte de la isla.  \nCaminaremos aprendiendo a descubrir las huellas que el agua ha dejado en el paisaje mientras avanzamos con calma y atención. Esta actividad de senderismo consciente busca la presencia y la conexión con el entorno natural a través del caminar.  \nLa experiencia se realiza en un grupo reducido de máximo 10 personas para garantizar la calidad y la atención personalizada de los participantes. \nLeyendo el paisaje es una invitación a la calma y a observar los detalles de la naturaleza canaria.  \nPara más información y gestión de plazas\, puede contactar a través del teléfono 654046634 o el correo electrónico gonzalo@pateandograncanaria.com.  \nDistancia 6km\, desnivel 150m\, 3 horas\, dificultad baja. Punto de encuentro: Ctra. El Picacho\, Arucas.
URL:https://calendarioeventos.com/evento/senderismo-huellas-del-agua/
LOCATION:UAD Arucas\, C. Bruno Pérez Medina 6\, 35400 Arucas\, Las Palmas
CATEGORIES:Actividades,Arucas,Deporte,Senderismo
ATTACH;FMTTYPE=image/jpeg:https://calendarioeventos.com/wp-content/uploads/2026/03/senderismo-huellas-del-agua-1773430823972.jpeg
END:VEVENT
BEGIN:VEVENT
DTSTART;TZID=Europe/London:20260321T083000
DTEND;TZID=Europe/London:20260321T153000
DTSTAMP:20260420T192603
CREATED:20260313T193525Z
LAST-MODIFIED:20260313T193525Z
UID:10015230-1774081800-1774107000@calendarioeventos.com
SUMMARY:Senderismo — «Ruta Circular Los Azulejos - Arco de las Marreras»
DESCRIPTION:Senderismo — Ruta Circular Los Azulejos – Arco de las Marreras en Los Azulejos organizado por Arucas En La Senda\, Gran Canaria. \nEl lunes\, 16 de marzo\, a las 8.00 h\, se abre el plazo de inscripción de la ruta de la programación Arucas en La Senda 2026: Ruta Circular Los Azulejos – Arco de las Marreras\, que se llevará a cabo el sábado\, 21 de marzo.  \nInscripción a través de la APP Arucas Reservas Deportivas.  \nDistancia 12km\, desnivel 666m\, dificultad Alta (importante desnivel de subida en poca distancia). \nLos y las participantes deberán consultar la ficha técnica de la ruta en la cual se indican datos importantes como la distancia\, desnivel\, dificultad y otras características a tener en cuenta.  \nActividad organizada por las Concejalías de Medio Ambiente y Deportes del Ayuntamiento de Arucas.
URL:https://calendarioeventos.com/evento/senderismo-ruta-circular-los-azulejos-arco-de-las-marreras/
LOCATION:UAD Arucas\, C. Bruno Pérez Medina 6\, 35400 Arucas\, Las Palmas
CATEGORIES:Actividades,Arucas,Deporte,Senderismo
ATTACH;FMTTYPE=image/jpeg:https://calendarioeventos.com/wp-content/uploads/2026/03/senderismo-ruta-circular-los-azulejos-arco-de-1773430523065.jpeg
END:VEVENT
BEGIN:VEVENT
DTSTART;TZID=Europe/London:20260321T190000
DTEND;TZID=Europe/London:20260321T210000
DTSTAMP:20260420T192603
CREATED:20260317T150131Z
LAST-MODIFIED:20260317T150132Z
UID:10015395-1774119600-1774126800@calendarioeventos.com
SUMMARY:Música - «Noche de Tunas»
DESCRIPTION:Música  — Noche de Tunas en el Parque de Las Flores\, Arucas\, Gran Canaria.NOCHE DE TUNAS \nARUCAS21 de marzo19:00 Pasacalles – c/ León y Castillo20:00 Actuación – Parque de Las Flores \nLa música universitaria llenará las calles con la Noche de Tunas en Arucas. Pasacalles y actuación musical acercarán la tradición tunesca al público el próximo 21 de marzo.  \nArucas celebrará el próximo 21 de marzo la tradicional Noche de Tunas\, una cita cultural que llevará la música y el espíritu universitario a distintos espacios del casco histórico.  \nLa jornada comenzará a las 19:00 horas con un pasacalles por la calle León y Castillo y continuará a las 20:00 horas con una actuación en el Parque de Las Flores.  \nEl evento está organizado por Tuna Universidad de Las Palmas de Gran Canaria\, con la colaboración del Ayuntamiento de Arucas.
URL:https://calendarioeventos.com/evento/musica-noche-de-tunas/
LOCATION:Parque de Las Flores\, C. Francisco Gourié\, 11\, 35400 Arucas\, Las Palmas
CATEGORIES:Arucas,Cultura,Eventos gratuitos,Música
ATTACH;FMTTYPE=image/jpeg:https://calendarioeventos.com/wp-content/uploads/2026/03/m-sica-noche-de-tunas-1773759690441.jpeg
END:VEVENT
END:VCALENDAR