BEGIN:VCALENDAR
VERSION:2.0
PRODID:-//Calendario de Eventos Gran Canaria - ECPv6.15.17.1//NONSGML v1.0//EN
CALSCALE:GREGORIAN
METHOD:PUBLISH
X-ORIGINAL-URL:https://calendarioeventos.com
X-WR-CALDESC:Eventos para Calendario de Eventos Gran Canaria
REFRESH-INTERVAL;VALUE=DURATION:PT1H
X-Robots-Tag:noindex
X-PUBLISHED-TTL:PT1H
BEGIN:VTIMEZONE
TZID:Europe/London
BEGIN:DAYLIGHT
TZOFFSETFROM:+0000
TZOFFSETTO:+0100
TZNAME:BST
DTSTART:20250330T010000
END:DAYLIGHT
BEGIN:STANDARD
TZOFFSETFROM:+0100
TZOFFSETTO:+0000
TZNAME:GMT
DTSTART:20251026T010000
END:STANDARD
BEGIN:DAYLIGHT
TZOFFSETFROM:+0000
TZOFFSETTO:+0100
TZNAME:BST
DTSTART:20260329T010000
END:DAYLIGHT
BEGIN:STANDARD
TZOFFSETFROM:+0100
TZOFFSETTO:+0000
TZNAME:GMT
DTSTART:20261025T010000
END:STANDARD
BEGIN:DAYLIGHT
TZOFFSETFROM:+0000
TZOFFSETTO:+0100
TZNAME:BST
DTSTART:20270328T010000
END:DAYLIGHT
BEGIN:STANDARD
TZOFFSETFROM:+0100
TZOFFSETTO:+0000
TZNAME:GMT
DTSTART:20271031T010000
END:STANDARD
END:VTIMEZONE
BEGIN:VEVENT
DTSTART;TZID=Europe/London:20260408T180000
DTEND;TZID=Europe/London:20260408T193000
DTSTAMP:20260420T175250
CREATED:20260331T145452Z
LAST-MODIFIED:20260331T145453Z
UID:10015890-1775671200-1775676600@calendarioeventos.com
SUMMARY:Charla — «47 Edición Ayuntamientos Democráticos»
DESCRIPTION:Charla — 47 Edición Ayuntamientos Democráticos en el Centro Municipal de Cultura\, Arucas\, Gran Canaria. \nEl Ayuntamiento de Arucas organiza la cuadragésimo séptima edición de la jornada Ayuntamientos Democráticos. Una iniciativa consolidada que busca fomentar la reflexión y crear un espacio de diálogo para fortalecer la democracia participativa en el ámbito local.  \nEste año\, la encargada de la ponencia principal será la alcaldesa de Mogán\, Onalia Bueno García. En su exposición\, bajo el título Mogán\, municipio transformador abordará los retos de la vivienda y la fiscalidad turística. \n El acto se celebrará el miércoles\, día 8 abril\, a las 18:00 horas\, en el Centro Municipal de Cultura\, en Arucas.
URL:https://calendarioeventos.com/evento/charla-47-edicion-ayuntamientos-democraticos/
LOCATION:Casa de la Cultura – Ayuntamiento de Arucas
CATEGORIES:Actividades,Arucas,Charla,Eventos gratuitos
ATTACH;FMTTYPE=image/jpeg:https://calendarioeventos.com/wp-content/uploads/2026/03/charla-47-edici-n-ayuntamientos-democr-ticos-1774968890843.avif
END:VEVENT
END:VCALENDAR