BEGIN:VCALENDAR
VERSION:2.0
PRODID:-//Calendario de Eventos Gran Canaria - ECPv6.15.17.1//NONSGML v1.0//EN
CALSCALE:GREGORIAN
METHOD:PUBLISH
X-WR-CALNAME:Calendario de Eventos Gran Canaria
X-ORIGINAL-URL:https://calendarioeventos.com
X-WR-CALDESC:Eventos para Calendario de Eventos Gran Canaria
REFRESH-INTERVAL;VALUE=DURATION:PT1H
X-Robots-Tag:noindex
X-PUBLISHED-TTL:PT1H
BEGIN:VTIMEZONE
TZID:Europe/London
BEGIN:DAYLIGHT
TZOFFSETFROM:+0000
TZOFFSETTO:+0100
TZNAME:BST
DTSTART:20250330T010000
END:DAYLIGHT
BEGIN:STANDARD
TZOFFSETFROM:+0100
TZOFFSETTO:+0000
TZNAME:GMT
DTSTART:20251026T010000
END:STANDARD
BEGIN:DAYLIGHT
TZOFFSETFROM:+0000
TZOFFSETTO:+0100
TZNAME:BST
DTSTART:20260329T010000
END:DAYLIGHT
BEGIN:STANDARD
TZOFFSETFROM:+0100
TZOFFSETTO:+0000
TZNAME:GMT
DTSTART:20261025T010000
END:STANDARD
BEGIN:DAYLIGHT
TZOFFSETFROM:+0000
TZOFFSETTO:+0100
TZNAME:BST
DTSTART:20270328T010000
END:DAYLIGHT
BEGIN:STANDARD
TZOFFSETFROM:+0100
TZOFFSETTO:+0000
TZNAME:GMT
DTSTART:20271031T010000
END:STANDARD
END:VTIMEZONE
BEGIN:VEVENT
DTSTART;TZID=Europe/London:20260413T200000
DTEND;TZID=Europe/London:20260413T213000
DTSTAMP:20260420T175300
CREATED:20260317T141901Z
LAST-MODIFIED:20260317T141902Z
UID:10015379-1776110400-1776115800@calendarioeventos.com
SUMMARY:Charla — «Mauméjean: un siglo de luz»
DESCRIPTION:Charla— III Jornadas de Patrimonio: «Mauméjean: un siglo de luz» en la Iglesia de San Juan Bautista\, Arucas. \nEl Templo de San Juan Bautista de Arucas será el escenario\, del 13 al 15 de abril de 2026\, de las III Jornadas de Patrimonio\, un encuentro que en esta edición estará dedicado a las vidrieras del templo\, consideradas únicas en Canarias y declaradas Bien de Interés Cultural por el Gobierno de Canarias. Bajo el título genérico Labrantes de la Luz.  \nEl arte de las Vidrieras\, las jornadas se celebrarán en la parroquia a las 20:00 horas. \nEl lunes 13 de abril se analizará la historia y el valor artístico de estos vitrales realizados por la prestigiosa casa francesa Mauméjean\, cuya llegada a la isla estuvo estrechamente vinculada a la ciudad de Arucas.  \nLa sesión contará con la ponencia Mauméjean: un siglo de luz\, a cargo de Ricardo Hernanz Maderuelo. Durante las jornadas se presentarán también las líneas avanzadas del Plan Director del templo\, que incluye actuaciones como la futura Capilla de la Luz y el Silencio y el diseño de nuevas vidrieras para la torre\, con el objetivo de proteger y enriquecer este conjunto patrimonial excepcional.
URL:https://calendarioeventos.com/evento/charla-maumejean-un-siglo-de-luz/
LOCATION:Basílica de San Juan Bautista\, Calle Dr. Chill\, 2-10\, 35200 Telde\, Las Palmas
CATEGORIES:Actividades,Arte,Arucas,Charla,Eventos gratuitos
ATTACH;FMTTYPE=image/jpeg:https://calendarioeventos.com/wp-content/uploads/2026/03/charla-maum-jean-un-siglo-de-luz-1773757140190.jpeg
END:VEVENT
BEGIN:VEVENT
DTSTART;TZID=Europe/London:20260414T170000
DTEND;TZID=Europe/London:20260414T183000
DTSTAMP:20260420T175300
CREATED:20260414T103645Z
LAST-MODIFIED:20260414T103646Z
UID:10016391-1776186000-1776191400@calendarioeventos.com
SUMMARY:Taller — «Cuento y Arte en familia: El Punto»
DESCRIPTION:Taller — Cuento y Arte en familia: El Punto en La Salita de 8Pies\, Arucas\, Gran Canaria. \nCuento y Arte (en familia). \nEl Punto\, de Peter Reynolds. \nA partir de 3 años. \nInscripciones: 649300304.
URL:https://calendarioeventos.com/evento/taller-cuento-y-arte-en-familia-el-punto/
LOCATION:La Salita\, C. Secretario Artiles\, 17\, 35007 Las Palmas de Gran Canaria\, Las Palmas
CATEGORIES:Actividades,Arucas,Infantil,Taller
ATTACH;FMTTYPE=image/jpeg:https://calendarioeventos.com/wp-content/uploads/2026/04/taller-cuento-y-arte-en-familia-el-punto-1776163004963.avif
END:VEVENT
BEGIN:VEVENT
DTSTART;TZID=Europe/London:20260414T200000
DTEND;TZID=Europe/London:20260414T213000
DTSTAMP:20260420T175300
CREATED:20260317T142006Z
LAST-MODIFIED:20260317T142007Z
UID:10015380-1776196800-1776202200@calendarioeventos.com
SUMMARY:«III Jornadas de Patrimonio: Arte\, conservación y acústica»
DESCRIPTION:Cultura — III Jornadas de Patrimonio: Arte\, conservación y acústica en la Iglesia de San Juan Bautista\, Arucas. \nEn la segunda sesión de las III Jornadas de Patrimonio\, el martes 14 de abril de 2026 a las 20:00 horas\, especialistas analizan los retos de conservación y las propiedades físicas del Templo de San Juan Bautista bajo el lema Labrantes de la Luz.  \nEl programa de esta jornada incluye la intervención La fragilidad de la luz. Vidrieras: arte y conservación\, con Manuel Bernabé Gómez\, donde se explorará la preservación de los vitrales de la casa francesa Mauméjean.  \nAsimismo\, se presentará el estudio Cuando el sonido amenaza el vidrio. Estudio acústico del templo de Arucas\, por el ponente Octavio Vega Pulido. El evento forma parte de un conjunto de sesiones destinadas a destacar el valor patrimonial de este edificio declarado Bien de Interés Cultural.
URL:https://calendarioeventos.com/evento/iii-jornadas-de-patrimonio-arte-conservacion-y-acustica/
LOCATION:Basílica de San Juan Bautista\, Calle Dr. Chill\, 2-10\, 35200 Telde\, Las Palmas
CATEGORIES:Actividades,Arte,Arucas,Charla,Eventos gratuitos
ATTACH;FMTTYPE=image/jpeg:https://calendarioeventos.com/wp-content/uploads/2026/03/iii-jornadas-de-patrimonio-arte-conservaci-n-y-1773757204995.jpeg
END:VEVENT
BEGIN:VEVENT
DTSTART;TZID=Europe/London:20260415T180000
DTEND;TZID=Europe/London:20260415T193000
DTSTAMP:20260420T175300
CREATED:20260408T115648Z
LAST-MODIFIED:20260408T115649Z
UID:10016225-1776276000-1776281400@calendarioeventos.com
SUMMARY:Charla - «Diagnóstico y Plan de Infancia y Adolescencia de Arucas»
DESCRIPTION:Charla — Mesa Participativa: Diagnóstico y Plan de Infancia y Adolescencia de Arucas en el Edificio de Usos Múltiples de Bañaderos\, Arucas\, Gran Canaria. \n#arucasparticipa #Arucas inicia su camino para convertirse en Ciudad Amiga de la Infancia. Primera Mesa Participativa convoca a niños\, jóvenes y personas adultas a colaborar en el diagnóstico y planificación del bienestar infantil. \nEl Ayuntamiento impulsa un espacio de diálogo para escuchar\, valorar y construir un entorno que promueva los derechos de la infancia y adolescencia. \nEl Ayuntamiento de Arucas ha puesto en marcha el proceso para transformarse en Ciudad Amiga de la Infancia\, una iniciativa promovida por UNICEF que tiene como objetivo reforzar el bienestar y los derechos de niños\, niñas y adolescentes. Este proyecto busca garantizar que la voz de la infancia esté presente en las decisiones que impactan directamente en su vida cotidiana. \nCon este propósito\, se invita a toda la población —infancia\, juventud\, personas adultas y mayores— a participar en la Primera Mesa Participativa\, dedicada a elaborar el Diagnóstico y el Plan de Infancia y Adolescencia del municipio. La implicación de todas las personas asistentes resulta esencial para imaginar y construir un entorno urbano que cuide\, escuche y valore a la infancia. \nEl encuentro se celebrará el miércoles 15 de abril de 2026 a las 18:00 horas en el Edificio de Usos Múltiples de Bañaderos (Mesa de la Ciudadanía). \nLa invitación está abierta a toda la vecindad\, con el objetivo de fomentar un diálogo enriquecedor y colaborativo que fortalezca el desarrollo integral de los más jóvenes.
URL:https://calendarioeventos.com/evento/charla-diagnostico-y-plan-de-infancia-y-adolescencia-de-arucas/
LOCATION:Edificio de Usos Múltiples de Bañaderos\, 35414 Bañaderos\, Las Palmas
CATEGORIES:Actividades,Arucas,Charla,Eventos gratuitos,Infantil,Jóvenes
ATTACH;FMTTYPE=image/jpeg:https://calendarioeventos.com/wp-content/uploads/2026/04/charla-diagn-stico-y-plan-de-infancia-y-adolesc-1775649402909.avif
END:VEVENT
BEGIN:VEVENT
DTSTART;TZID=Europe/London:20260415T200000
DTEND;TZID=Europe/London:20260415T213000
DTSTAMP:20260420T175300
CREATED:20260317T142053Z
LAST-MODIFIED:20260317T142054Z
UID:10015381-1776283200-1776288600@calendarioeventos.com
SUMMARY:Jornadas de Patrimonio: Presentación de nuevas vidrieras
DESCRIPTION:Cultura — III Jornadas de Patrimonio: Presentación de nuevas vidrieras en la Iglesia de San Juan Bautista\, Arucas. \nLa jornada de clausura de las III Jornadas de Patrimonio tendrá lugar el miércoles 15 de abril de 2026 a las 20:00 horas\, centrada en el futuro y el enriquecimiento del conjunto patrimonial de Arucas.  \nBajo el título Entre la luz y el silencio\, se llevará a cabo la presentación oficial de las nuevas vidrieras del templo.  \nEl programa incluye la ponencia El evangelio es luz\, con Natanael García Fleitas\, y la charla La capilla de la luz y el silencio. Arte\, arquitectura y futuro\, a cargo de los ponentes Fernando Carlos López Sánchez y Alejandro Beautell García.  \nDurante la sesión se detallarán las líneas del Plan Director del templo\, incluyendo el diseño de nuevos vitrales para la torre y la creación de espacios arquitectónicos que protejan este legado único en Canarias.
URL:https://calendarioeventos.com/evento/jornadas-de-patrimonio-presentacion-de-nuevas-vidrieras/
LOCATION:Basílica de San Juan Bautista\, Calle Dr. Chill\, 2-10\, 35200 Telde\, Las Palmas
CATEGORIES:Actividades,Arte,Arucas,Charla,Eventos gratuitos,Presentación
ATTACH;FMTTYPE=image/jpeg:https://calendarioeventos.com/wp-content/uploads/2026/03/jornadas-de-patrimonio-presentaci-n-de-nuevas-vid-1773757252490.jpeg
END:VEVENT
BEGIN:VEVENT
DTSTART;TZID=Europe/London:20260416T170000
DTEND;TZID=Europe/London:20260416T180000
DTSTAMP:20260420T175300
CREATED:20251009T153241Z
LAST-MODIFIED:20260326T132751Z
UID:10006828-1776358800-1776362400@calendarioeventos.com
SUMMARY:Presentación - Libro: Las amantes de Mambrú
DESCRIPTION:Presentación del Libro «Las amantes de Mambrú» de Fabiola Gil el Work Café de Santander\, Las Palmas de Gran Canaria. \nEl Work Café de Las Palmas te invita al evento “Presentación del libro Las amantes de Mambrú”\, una oportunidad para descubrir la novela de Fabiola Gil Díaz\, basada en hechos reales y ambientada en la posguerra canaria de los años cincuenta. A través de una historia llena de intriga\, amor y memoria\, la autora reconstruye con sensibilidad la vida\, las costumbres y los roles de la época en Canarias\, dando voz a un relato tan íntimo como conmovedor. Una cita cultural para acercarse a una obra que conecta literatura\, raíces y emoción.
URL:https://calendarioeventos.com/evento/presentacion-libro-las-amantes-de-mambru/
LOCATION:Santander Work Café – Banco Santander\, Av. José Mesa y López\, 21\, 35006 Las Palmas de Gran Canaria\, Las Palmas
CATEGORIES:Actividades,Arucas,Eventos gratuitos,Literatura,Presentación
END:VEVENT
BEGIN:VEVENT
DTSTART;TZID=Europe/London:20260416T180000
DTEND;TZID=Europe/London:20260416T193000
DTSTAMP:20260420T175300
CREATED:20260414T104104Z
LAST-MODIFIED:20260414T104105Z
UID:10016394-1776362400-1776367800@calendarioeventos.com
SUMMARY:Taller — «Taller de Bordado (para nosotras)»
DESCRIPTION:Taller — Taller de Bordado (para nosotras) en La Salita\, Arucas\, Gran Canaria. \nJueves 16 a las 18.00h: Taller de Bordado -para nosotras-. \nLa Salita. \n@ody_bordado
URL:https://calendarioeventos.com/evento/taller-taller-de-bordado-para-nosotras/
LOCATION:La Salita\, C. Secretario Artiles\, 17\, 35007 Las Palmas de Gran Canaria\, Las Palmas
CATEGORIES:Actividades,Arte,Arucas,Taller
ATTACH;FMTTYPE=image/jpeg:https://calendarioeventos.com/wp-content/uploads/2026/04/taller-taller-de-bordado-para-nosotras-1776163263530.avif
END:VEVENT
BEGIN:VEVENT
DTSTART;TZID=Europe/London:20260417T180000
DTEND;TZID=Europe/London:20260417T193000
DTSTAMP:20260420T175300
CREATED:20260414T104135Z
LAST-MODIFIED:20260414T104136Z
UID:10016395-1776448800-1776454200@calendarioeventos.com
SUMMARY:Cine — «Cineforum Billy Elliot (Viernes de Cinema)»
DESCRIPTION:Cine — Cineforum Billy Elliot (Viernes de Cinema) en La Salita\, Arucas\, Gran Canaria. \nViernes 17 a las 18.00h: Viernes de Cinema La Salita. \nCineforum “Billy Elliot” para niños y niñas entre 7 y 13 años. \nLa Salita.
URL:https://calendarioeventos.com/evento/cine-cineforum-billy-elliot-viernes-de-cinema/
LOCATION:La Salita\, C. Secretario Artiles\, 17\, 35007 Las Palmas de Gran Canaria\, Las Palmas
CATEGORIES:Arucas,Cine,Cultura,Infantil
ATTACH;FMTTYPE=image/jpeg:https://calendarioeventos.com/wp-content/uploads/2026/04/cine-cineforum-billy-elliot-viernes-de-cinema-1776163293410.avif
END:VEVENT
BEGIN:VEVENT
DTSTART;TZID=Europe/London:20260417T190000
DTEND;TZID=Europe/London:20260417T203000
DTSTAMP:20260420T175300
CREATED:20260413T192409Z
LAST-MODIFIED:20260413T192409Z
UID:10016338-1776452400-1776457800@calendarioeventos.com
SUMMARY:Presentación - Libro: Mate de dos alfiles
DESCRIPTION:Presentación del Libro «Mate de dos alfiles» en la Biblioteca Municipal de Arucas\, Gran Canaria. \nActividad gratuita. \nSergio Mira\, el autor de “La sombra del océano”\, vuelve a la Biblioteca de Arucas para presentar la segunda novela de la saga.\n“Mate de dos alfiles” es un thriller que indaga en los mecanismos del silencio cuando hay abusos que permanecen ocultos durante mucho tiempo\, con el ajedrez como metáfora de fondo de la historia.\nUna cita literaria que no pueden perderse\, en la que la escritora aruquense @cj.nieto será la encargada de presentar al autor y su obra.
URL:https://calendarioeventos.com/evento/presentacion-libro-mate-de-dos-alfiles-2/
LOCATION:Biblioteca Municipal de Arucas\, C. León y Castillo\, 5\, 35400 Arucas\, Las Palmas
CATEGORIES:Actividades,Arucas,Eventos gratuitos,Literatura,Presentación
ATTACH;FMTTYPE=image/jpeg:https://calendarioeventos.com/wp-content/uploads/2026/04/670748470_18172015738408595_983607779314998540_n.avif
END:VEVENT
BEGIN:VEVENT
DTSTART;TZID=Europe/London:20260418T090000
DTEND;TZID=Europe/London:20260418T103000
DTSTAMP:20260420T175300
CREATED:20260331T110826Z
LAST-MODIFIED:20260331T110827Z
UID:10015853-1776502800-1776508200@calendarioeventos.com
SUMMARY:Senderismo — «Viento y Cal: cuando la tierra mira al mar»
DESCRIPTION:Senderismo— «Viento y Cal» en Arinaga\, Agüimes\, Gran Canaria. \n¿Te apetece descubrir uno de los rincones más especiales del sureste de Gran Canaria? El próximo sábado 18 de abril te invitamos a recorrer el encantador pueblo pesquero de Arinaga\, en el municipio de Agüimes\, a través de un sendero interpretado lleno de historia\, paisaje y tradición.  \nDurante la ruta caminaremos por su paseo marítimo de más de 4 km\, rodeado de palmeras\, esculturas y vistas únicas al mar y a las montañas. Descubriremos espacios emblemáticos como el Muelle Viejo\, el faro de Arinaga y los antiguos hornos de cal\, donde conoceremos el pasado minero de la zona.  \nAdemás\, disfrutaremos de rincones con encanto donde descansar\, escuchar el mar y conectar con el entorno. También veremos el muelle pesquero\, símbolo de la historia del pueblo\, y su curiosa escultura que rinde homenaje a sus orígenes.  \nOrganiza: Excmo. Ayuntamiento de Arucas – Concejalía de Juventud. Colabora: Cabildo de Gran Canaria – Consejería de Educación y Juventud. \nActividad gratuita dirigida a jóvenes de 14 a 35 años. \n Plazo de inscripción abierto: del 30 de marzo al 5 de abril (o hasta completar plazas). Plazas limitadas. Para más información contactar al 928 62 27 36 o juventud@arucas.org.
URL:https://calendarioeventos.com/evento/senderismo-viento-y-cal-cuando-la-tierra-mira-al-mar/
LOCATION:Arinaga
CATEGORIES:Actividades,Agüimes,Arucas,Eventos gratuitos,Jóvenes,Senderismo,Visita Guiada
ATTACH;FMTTYPE=image/webp:https://calendarioeventos.com/wp-content/uploads/2026/03/senderismo-viento-y-cal-cuando-la-tierra-mira-1774955304039.avif
END:VEVENT
BEGIN:VEVENT
DTSTART;TZID=Europe/London:20260418T100000
DTEND;TZID=Europe/London:20260418T113000
DTSTAMP:20260420T175300
CREATED:20260326T134135Z
LAST-MODIFIED:20260326T134135Z
UID:10015752-1776506400-1776511800@calendarioeventos.com
SUMMARY:Charla — «Congreso Educativo “Miradas que inspiran\, acciones que transforman 2”»
DESCRIPTION:Charla — Congreso Educativo “Miradas que inspiran\, acciones que transforman 2” en el Nuevo Teatro Viejo\, Arucas\, Gran Canaria. \nEl Congreso de Educación Miradas que inspiran\, acciones que transforman llega a su segunda edición en Arucas. Un espacio de encuentro diseñado para compartir experiencias pedagógicas\, metodologías innovadoras y visiones que buscan transformar la realidad educativa actual.  \nEl evento contará con diversos ponentes especializados en el sector para ofrecer una perspectiva global y motivadora tanto a profesionales de la enseñanza como a familias.  \nEntradas en este enlace
URL:https://calendarioeventos.com/evento/charla-congreso-educativo-miradas-que-inspiran-acciones-que-transforman-2/
LOCATION:Nuevo Teatro Viejo\, C. San Juan\, 20\, 35400 Arucas\, Las Palmas
CATEGORIES:Actividades,Arucas,Charla
ATTACH;FMTTYPE=image/jpeg:https://calendarioeventos.com/wp-content/uploads/2026/03/WhatsApp-Image-2026-03-09-at-10.05.14-preview-ifiOUj.avif
END:VEVENT
BEGIN:VEVENT
DTSTART;TZID=Europe/London:20260418T100000
DTEND;TZID=Europe/London:20260418T133000
DTSTAMP:20260420T175300
CREATED:20260413T175045Z
LAST-MODIFIED:20260413T175046Z
UID:10016314-1776506400-1776519000@calendarioeventos.com
SUMMARY:Deporte - «IV INCLUI2»
DESCRIPTION:Deporte — IV INCLUI2\, jornada deportiva inclusiva en el Pabellón Olímpico José Juan Navarro Batista\, Arucas\, Gran Canaria. \nEl Club Deportivo Inclúyete organiza la jornada IV INCLUI2\, un encuentro deportivo y participativo cuyo objetivo es promover la inclusión a través de la actividad física y la convivencia. La iniciativa cuenta con el patrocinio de la Concejalía de Políticas de Igualdad de Oportunidades entre Hombres y Mujeres y la colaboración de la Concejalía de Deportes del Ayuntamiento de Arucas. \nMañana dedicada al deporte\, el bienestar y la diversión para personas de todas las edades. \nHorarios: de 10:00 a 13:30.Fechas: sábado 18 de abril.Lugar: Pabellón Olímpico José Juan Navarro Batista (Arucas). \nPrograma de actividades: sesiones de zumba\, aeróbic y pilates; desayuno para las personas participantes (con la colaboración de Libby’s Canarias); entrega de los Premios INCLUI2; y distintos sorteos entre quienes asistan. Las personas inscritas recibirán también una camiseta conmemorativa. \nPara inscribirse: escanea el código QR habilitado por la organización o envía un correo electrónico a clubdeportivoincluyete@gmail.com indicando en el asunto INCLUI2\, junto con tu nombre y apellidos y la talla de camiseta.
URL:https://calendarioeventos.com/evento/deporte-iv-inclui2/
LOCATION:Pabellón olímpico José Juan Navarro Batista\, 35411 Arucas\, Las Palmas
CATEGORIES:Actividades,Arucas,Deporte,Eventos gratuitos
ATTACH;FMTTYPE=image/jpeg:https://calendarioeventos.com/wp-content/uploads/2026/04/deporte-iv-inclui2-1776102645729.avif
END:VEVENT
BEGIN:VEVENT
DTSTART;TZID=Europe/London:20260418T103000
DTEND;TZID=Europe/London:20260418T131500
DTSTAMP:20260420T175300
CREATED:20260413T175304Z
LAST-MODIFIED:20260413T175304Z
UID:10016315-1776508200-1776518100@calendarioeventos.com
SUMMARY:Feria de las Escuelas Artísticas Municipales de Arucas
DESCRIPTION:XXVI Feria de las Escuelas Artísticas Municipales de Arucas en el Centro Histórico de Arucas\, Gran Canaria. \nEl municipio de Arucas acogerá el próximo sábado 18 de abril la XXVI Feria de las Escuelas Artísticas Municipales\, una cita ya consolidada que pone en valor el talento\, la creatividad y el trabajo formativo que se desarrolla a lo largo del año en las distintas disciplinas artísticas. \nLa jornada dará comienzo a las 10:30 horas con el acto de inauguración en la Plaza de la Constitución\, que será también el escenario de la clausura prevista a las 13:15 horas. \nA partir de las 11:00 horas\, el público podrá disfrutar de una amplia programación de talleres y actividades distribuidas por distintos espacios emblemáticos del centro histórico de Arucas: \nParque de las Flores: Aulas de Folklore y Educación TempranaPlaza de la Constitución: Percusión y Viento MetalCalle León y Castillo: Saxofón\, Clarinete\, Piano y GuitarraParque de la Paz: Aula de CantoPlaza Guillermo Sureda: Aula de Danza \nAdemás\, como cada año\, la Biblioteca Municipal se suma a esta Feria con un taller de manualidades para el público infantil\, fomentando la creatividad y el acercamiento a la lectura en un entorno lúdico. Contaremos también con la presencia de la biblioteca móvil a través del “Carrito de los libros”\, una iniciativa que permitirá acercar los libros a todos aquellos que se acerquen a esta actividad. \nLa Feria se presenta como una oportunidad única para acercar a la ciudadanía al trabajo de las Escuelas Artísticas Municipales\, fomentando la participación y el disfrute de la Cultura en un entorno abierto y dinámico. El Ayuntamiento de Arucas invita a vecinos\, vecinas y visitantes a sumarse a esta celebración del arte\, la educación y la lectura\, que convertirá el centro histórico en un gran escenario al aire libre.
URL:https://calendarioeventos.com/evento/feria-de-las-escuelas-artisticas-municipales-de-arucas/
LOCATION:UAD Arucas\, C. Bruno Pérez Medina 6\, 35400 Arucas\, Las Palmas
CATEGORIES:Actividades,Arucas,Danza,Eventos gratuitos,Feria,Música
ATTACH;FMTTYPE=image/jpeg:https://calendarioeventos.com/wp-content/uploads/2026/04/feria-de-las-escuelas-art-sticas-municipales-de-ar-1776102783498.avif
END:VEVENT
BEGIN:VEVENT
DTSTART;TZID=Europe/London:20260418T110000
DTEND;TZID=Europe/London:20260418T124500
DTSTAMP:20260420T175300
CREATED:20260416T105248Z
LAST-MODIFIED:20260416T105249Z
UID:10016509-1776510000-1776516300@calendarioeventos.com
SUMMARY:Taller — «Música y Movimiento y Manualidades»
DESCRIPTION:Infantil — Taller de Música y Movimiento y Manualidades en el Parque de las Flores\, Arucas\, Gran Canaria. \nXXVI Feria de las Escuelas Artísticas Municipales de Arucas. \nMúsica y Movimiento\, Manualidades. \nDirigido a niños y niñas de 3-4-5 años. \nSábado 18 de abril.De 11:00 a 12:45\, en el Parque de las Flores. \nPlazas limitadas. \nReservar plaza llamando al: 928 60 50 72.En horario de 16:00 a 21:00 de lunes a jueves.
URL:https://calendarioeventos.com/evento/taller-musica-y-movimiento-y-manualidades/
LOCATION:Parque de Las Flores\, C. Francisco Gourié\, 11\, 35400 Arucas\, Las Palmas
CATEGORIES:Actividades,Arucas,Eventos gratuitos,Infantil,Taller
ATTACH;FMTTYPE=image/jpeg:https://calendarioeventos.com/wp-content/uploads/2026/04/taller-m-sica-y-movimiento-y-manualidades-1776336767524.avif
END:VEVENT
BEGIN:VEVENT
DTSTART;TZID=Europe/London:20260418T110000
DTEND;TZID=Europe/London:20260418T190000
DTSTAMP:20260420T175300
CREATED:20260321T215420Z
LAST-MODIFIED:20260321T215421Z
UID:10015535-1776510000-1776538800@calendarioeventos.com
SUMMARY:Market — «Mercadito Artesanal Primaveral»
DESCRIPTION:Market — Mercadito Artesanal Primaveral en el Espacio Ecocreativo Vegamundo\, Arucas\, Gran Canaria. \nEste 18 de abril te invitamos a disfrutar de un encuentro lleno de creatividad\, comunidad y sabor en el Mercadito Artesanal Primaveral\, cocreado por Vegamundo y 13 Rosas Atelier.  \nUn espacio para descubrir y apoyar el talento de artesan@s locales\, un lugar donde podrás encontrar piezas únicas hechas con amor: arte\, objetos artesanales\, creaciones originales y mucha inspiración. Y como siempre\, en Vegamundo podrás disfrutar de un tapeo y bebidas sabrosas y conscientes en un ambiente bonito y cercano.  \nSerá una oportunidad perfecta para hacer un plan diferente\, conocer a nuev@s artistas\, explorar nuevos sabores y tejer comunidad. Artistas locales\, tapeo\, bebidas y alguna sorpresita más.  \nENTRADA LIBRE y GRATUITA. ¡Te esperamos para celebrar la primavera\, la creatividad y la comunidad!
URL:https://calendarioeventos.com/evento/market-mercadito-artesanal-primaveral/
LOCATION:Espacio Creativo Vegamundo Arucas
CATEGORIES:Actividades,Arucas,Eventos gratuitos,Gastronomía,Market
ATTACH;FMTTYPE=image/jpeg:https://calendarioeventos.com/wp-content/uploads/2026/03/market-mercadito-artesanal-primaveral-1774130058070.avif
END:VEVENT
BEGIN:VEVENT
DTSTART;TZID=Europe/London:20260418T113000
DTEND;TZID=Europe/London:20260418T123000
DTSTAMP:20260420T175300
CREATED:20250320T000000Z
LAST-MODIFIED:20260414T110933Z
UID:10007144-1776511800-1776515400@calendarioeventos.com
SUMMARY:Taller - Cuentos con huellas verdes
DESCRIPTION:Taller de lectura y jardinería para familias «Cuentos con huellas verdes» en la Biblioteca Municipal de Arucas\, Gran Canaria. \nA partir de 4 años. \nImparte @jardineriayhuertos_rys\, leyendo y plantando\, disfrutando en familia de la lectura y del aprendizaje sobre conceptos de reciclaje y cuidado del medio ambiente\, combinados con sencillas técnicas de jardinería. \nUna original combinación de lectura y jardinería\, que trata de fomentar el respeto por la naturaleza y reforzar la conciencia ecológica. \nInscripción en la App “Arucas\, espacio cultural”.
URL:https://calendarioeventos.com/evento/taller-cuentos-con-huellas-verdes-2-2/
LOCATION:Biblioteca Municipal de Arucas\, C. León y Castillo\, 5\, 35400 Arucas\, Las Palmas
CATEGORIES:Actividades,Arucas,Cultura,Edad,Eventos gratuitos,Infantil,Literatura,Municipio,Precio,Taller
END:VEVENT
BEGIN:VEVENT
DTSTART;TZID=Europe/London:20260418T140000
DTEND;TZID=Europe/London:20260418T230000
DTSTAMP:20260420T175300
CREATED:20260321T215728Z
LAST-MODIFIED:20260321T215729Z
UID:10015536-1776520800-1776553200@calendarioeventos.com
SUMMARY:Fiesta — «El Baile de las Sirenas CósmiKKas»
DESCRIPTION:Fiesta — «El Baile de las Sirenas CósmiKKas» en la Finca Pepito Guerra\, Arucas\, Gran Canaria. \nCAOTIKKA presenta: “El Baile de las Sirenas CósmiKKas”.  \nEn las profundidades del océano Atlantikko existe una cueva con un tesoro perdido. Solo existe una manera de despistar a las sirenas: ¡Al ritmo del house!  \nCapitaneando el submarino interespacial tenemos a Yari Suarez\, Supersonikka\, Superseñorita\, Laiv\, Alex Llop y Devardos.  \nEl evento contará con una hora de barra libre de cerveza.  \n¡Trae tu bañador! NOS VEMOS EN EL KKAOS.  \nArtwork by @blackviudart.
URL:https://calendarioeventos.com/evento/fiesta-el-baile-de-las-sirenas-cosmikkas/
LOCATION:Finca Pepito Guerra\, Cam. de la Herradura\, 29\, 35415 Arucas\, Las Palmas
CATEGORIES:Arucas,Electrónica,Entretenimiento,Fiesta,Música
ATTACH;FMTTYPE=image/jpeg:https://calendarioeventos.com/wp-content/uploads/2026/03/fiesta-el-baile-de-las-sirenas-c-smikkas-1774130246033.avif
END:VEVENT
BEGIN:VEVENT
DTSTART;TZID=Europe/London:20260419T200000
DTEND;TZID=Europe/London:20260419T213000
DTSTAMP:20260420T175300
CREATED:20260317T150338Z
LAST-MODIFIED:20260319T173949Z
UID:10015397-1776628800-1776634200@calendarioeventos.com
SUMMARY:Teatro - «Al vacío»
DESCRIPTION:Teatro — «Al vacío» en el Nuevo Teatro Viejo\, Arucas\, Gran Canaria. \nAL VACÍO. Una obra de LaInasible. \nXXI ENCUENTRO TEATRAL CIUDAD DE ARUCAS.\nNUEVO TEATRO VIEJO.\nSábado 21 marzo\, 20h. \nUna obra de LaInasible.
URL:https://calendarioeventos.com/evento/teatro-al-vacio-2/
LOCATION:Nuevo Teatro Viejo\, C. San Juan\, 20\, 35400 Arucas\, Las Palmas
CATEGORIES:Arucas,Cultura,Teatro
ATTACH;FMTTYPE=image/jpeg:https://calendarioeventos.com/wp-content/uploads/2026/03/teatro-al-vac-o-1773759817114.jpeg
END:VEVENT
END:VCALENDAR