BEGIN:VCALENDAR
VERSION:2.0
PRODID:-//Calendario de Eventos Gran Canaria - ECPv6.15.17.1//NONSGML v1.0//EN
CALSCALE:GREGORIAN
METHOD:PUBLISH
X-WR-CALNAME:Calendario de Eventos Gran Canaria
X-ORIGINAL-URL:https://calendarioeventos.com
X-WR-CALDESC:Eventos para Calendario de Eventos Gran Canaria
REFRESH-INTERVAL;VALUE=DURATION:PT1H
X-Robots-Tag:noindex
X-PUBLISHED-TTL:PT1H
BEGIN:VTIMEZONE
TZID:Europe/London
BEGIN:DAYLIGHT
TZOFFSETFROM:+0000
TZOFFSETTO:+0100
TZNAME:BST
DTSTART:20250330T010000
END:DAYLIGHT
BEGIN:STANDARD
TZOFFSETFROM:+0100
TZOFFSETTO:+0000
TZNAME:GMT
DTSTART:20251026T010000
END:STANDARD
BEGIN:DAYLIGHT
TZOFFSETFROM:+0000
TZOFFSETTO:+0100
TZNAME:BST
DTSTART:20260329T010000
END:DAYLIGHT
BEGIN:STANDARD
TZOFFSETFROM:+0100
TZOFFSETTO:+0000
TZNAME:GMT
DTSTART:20261025T010000
END:STANDARD
BEGIN:DAYLIGHT
TZOFFSETFROM:+0000
TZOFFSETTO:+0100
TZNAME:BST
DTSTART:20270328T010000
END:DAYLIGHT
BEGIN:STANDARD
TZOFFSETFROM:+0100
TZOFFSETTO:+0000
TZNAME:GMT
DTSTART:20271031T010000
END:STANDARD
END:VTIMEZONE
BEGIN:VEVENT
DTSTART;TZID=Europe/London:20260427T163000
DTEND;TZID=Europe/London:20260427T193000
DTSTAMP:20260420T180201
CREATED:20260331T145740Z
LAST-MODIFIED:20260331T145814Z
UID:10015893-1777307400-1777318200@calendarioeventos.com
SUMMARY:Taller - «Apps útiles para gestión de trámites en internet»
DESCRIPTION:Taller — Apps útiles para gestión de trámites en internet en el Salón de la Oficina de Turismo\, Arucas\, Gran Canaria. \nCurso Gratuito. ¿Quieres aprender a hacer tus trámites por Internet de forma fácil y segura? Participa en este curso gratuito donde descubrirás apps y herramientas para gestionar trámites online como la Clave Permanente\, el Certificado Digital y mucho más. \n27\, 28\, 29 y 30 de abril\nDe 16:30 a 19:30 horas\nLugar: Salón de la Oficina de Turismo\nInscripciones: 600 992 185 / 928 634 262\nparticipciudadana@arucas.org
URL:https://calendarioeventos.com/evento/taller-apps-utiles-para-gestion-de-tramites-en-internet/2026-04-27/
LOCATION:Oficina de Turismo de Arucas\, C. León y Castillo\, 10\, 35400 Arucas\, Las Palmas
CATEGORIES:Actividades,Arucas,Eventos gratuitos,Taller
ATTACH;FMTTYPE=image/jpeg:https://calendarioeventos.com/wp-content/uploads/2026/03/taller-apps-tiles-para-gesti-n-de-tr-mites-en-1774969055075.avif
END:VEVENT
BEGIN:VEVENT
DTSTART;TZID=Europe/London:20260428T163000
DTEND;TZID=Europe/London:20260428T193000
DTSTAMP:20260420T180201
CREATED:20260331T145740Z
LAST-MODIFIED:20260331T145814Z
UID:10015894-1777393800-1777404600@calendarioeventos.com
SUMMARY:Taller - «Apps útiles para gestión de trámites en internet»
DESCRIPTION:Taller — Apps útiles para gestión de trámites en internet en el Salón de la Oficina de Turismo\, Arucas\, Gran Canaria. \nCurso Gratuito. ¿Quieres aprender a hacer tus trámites por Internet de forma fácil y segura? Participa en este curso gratuito donde descubrirás apps y herramientas para gestionar trámites online como la Clave Permanente\, el Certificado Digital y mucho más. \n27\, 28\, 29 y 30 de abril\nDe 16:30 a 19:30 horas\nLugar: Salón de la Oficina de Turismo\nInscripciones: 600 992 185 / 928 634 262\nparticipciudadana@arucas.org
URL:https://calendarioeventos.com/evento/taller-apps-utiles-para-gestion-de-tramites-en-internet/2026-04-28/
LOCATION:Oficina de Turismo de Arucas\, C. León y Castillo\, 10\, 35400 Arucas\, Las Palmas
CATEGORIES:Actividades,Arucas,Eventos gratuitos,Taller
ATTACH;FMTTYPE=image/jpeg:https://calendarioeventos.com/wp-content/uploads/2026/03/taller-apps-tiles-para-gesti-n-de-tr-mites-en-1774969055075.avif
END:VEVENT
BEGIN:VEVENT
DTSTART;TZID=Europe/London:20260429T163000
DTEND;TZID=Europe/London:20260429T193000
DTSTAMP:20260420T180201
CREATED:20260331T145740Z
LAST-MODIFIED:20260331T145814Z
UID:10015895-1777480200-1777491000@calendarioeventos.com
SUMMARY:Taller - «Apps útiles para gestión de trámites en internet»
DESCRIPTION:Taller — Apps útiles para gestión de trámites en internet en el Salón de la Oficina de Turismo\, Arucas\, Gran Canaria. \nCurso Gratuito. ¿Quieres aprender a hacer tus trámites por Internet de forma fácil y segura? Participa en este curso gratuito donde descubrirás apps y herramientas para gestionar trámites online como la Clave Permanente\, el Certificado Digital y mucho más. \n27\, 28\, 29 y 30 de abril\nDe 16:30 a 19:30 horas\nLugar: Salón de la Oficina de Turismo\nInscripciones: 600 992 185 / 928 634 262\nparticipciudadana@arucas.org
URL:https://calendarioeventos.com/evento/taller-apps-utiles-para-gestion-de-tramites-en-internet/2026-04-29/
LOCATION:Oficina de Turismo de Arucas\, C. León y Castillo\, 10\, 35400 Arucas\, Las Palmas
CATEGORIES:Actividades,Arucas,Eventos gratuitos,Taller
ATTACH;FMTTYPE=image/jpeg:https://calendarioeventos.com/wp-content/uploads/2026/03/taller-apps-tiles-para-gesti-n-de-tr-mites-en-1774969055075.avif
END:VEVENT
BEGIN:VEVENT
DTSTART;TZID=Europe/London:20260430T163000
DTEND;TZID=Europe/London:20260430T193000
DTSTAMP:20260420T180201
CREATED:20260331T145740Z
LAST-MODIFIED:20260331T145814Z
UID:10015896-1777566600-1777577400@calendarioeventos.com
SUMMARY:Taller - «Apps útiles para gestión de trámites en internet»
DESCRIPTION:Taller — Apps útiles para gestión de trámites en internet en el Salón de la Oficina de Turismo\, Arucas\, Gran Canaria. \nCurso Gratuito. ¿Quieres aprender a hacer tus trámites por Internet de forma fácil y segura? Participa en este curso gratuito donde descubrirás apps y herramientas para gestionar trámites online como la Clave Permanente\, el Certificado Digital y mucho más. \n27\, 28\, 29 y 30 de abril\nDe 16:30 a 19:30 horas\nLugar: Salón de la Oficina de Turismo\nInscripciones: 600 992 185 / 928 634 262\nparticipciudadana@arucas.org
URL:https://calendarioeventos.com/evento/taller-apps-utiles-para-gestion-de-tramites-en-internet/2026-04-30/
LOCATION:Oficina de Turismo de Arucas\, C. León y Castillo\, 10\, 35400 Arucas\, Las Palmas
CATEGORIES:Actividades,Arucas,Eventos gratuitos,Taller
ATTACH;FMTTYPE=image/jpeg:https://calendarioeventos.com/wp-content/uploads/2026/03/taller-apps-tiles-para-gesti-n-de-tr-mites-en-1774969055075.avif
END:VEVENT
BEGIN:VEVENT
DTSTART;TZID=Europe/London:20260430T235000
DTEND;TZID=Europe/London:20260501T040000
DTSTAMP:20260420T180201
CREATED:20260407T180043Z
LAST-MODIFIED:20260407T180044Z
UID:10016183-1777593000-1777608000@calendarioeventos.com
SUMMARY:Festival - «EL TRAILER DEL VERANO»
DESCRIPTION:Festival — EL TRAILER DEL VERANO en el Tropical Palace\, Arucas\, Gran Canaria. \nEL TRAILER DEL VERANO. TU VERANO EMPIEZA AQUI. Festival con vestimenta libre el 30 de abril de 2026\, de 23:50h a 06:00h\, en Tropical Palace. \n¿Preparado para el estreno de tu mejor verano? El próximo 30 de abril\, víspera de festivo\, renace INEFABLE en Tropical Palace. Barra libre\, Zona vip +21\, reservados con barra libre de botellas. volar no podemos. \nEntradas en este enlace \nEntradas disponibles: PRIMERA FASE GENERAL BARRA LIBRE | +18: 20.00€. Esta entrada te da acceso a la fiesta con barra libre toda la noche. SERVICIO GUAGUA IDA Y VUELTA: 2.00€. Ida y vuelta desde la Fuente Luminosa hasta la discoteca. PRIMERA FASE VIP BACKSTAGE BARRA LIBRE | +21: 25.00€. Esta entrada te da acceso a la fiesta con barra libre toda la noche + pulsera VIP para el backstage\, zona exclusiva para mayores de 21. RESERVADO BACKSTAGE BARRA LIBRE DE BOTELLAS | +23: 100.00€. Precio total 230€ para 5 personas. Los 130€ restante se pagarán en puerta en efectivo. Todas las personas que vayan al reservado deben ser mayores de 23 años. Cada persona extra lleva suplemento de 50€. Reservado VIP en zona backstage con barra libre de botellas y zona exclusiva +23 con sillones. \nLAS ENTRADAS ZONA VIP BACKSTAGE +21 SON EXCLUSIVAS PARA CLIENTES MAYORES DE 21 AÑOS. CONDICIONES DEL EVENTO: La organización se reserva el derecho de cambio de horarios o de recinto por imprevistos. Prohibida la reventa de entradas. No se podrá salir del recinto una vez accedido al evento. En caso de cancelación del evento\, se realizará la devolución del importe base de la entrada a excepción de los gastos de gestión de la venta. Entradas no reembolsables en caso de no ser usadas por motivos ajenos a la organización. Queda prohibida la entrada y/o permanencia en este evento a toda persona que se encuentre en estado de embriaguez\, porte cualquier objeto susceptible de causar daños a personas o cosas\, porte o consuma cualquier tipo de drogas o sustancias psicotrópicas\, provoque o incite cualquier desorden en el evento\, no sea mayor de edad o no porte el DNI o PASAPORTE físico y en perfecto estado para entrar al evento. \nDESGLOSE DE ENTRADA: 5€ equipo comercial\, 7% IGIC\, 10€ valor de entrada\, resto del importe barra libre.
URL:https://calendarioeventos.com/evento/festival-el-trailer-del-verano/
LOCATION:Mesón Grill Tropical Palace\, C. Abrahán Cárdenes\, 2\, 35411 Arucas\, Las Palmas
CATEGORIES:Arucas,Cultura,Festival,Música,Solo adultos
ATTACH;FMTTYPE=image/webp:https://calendarioeventos.com/wp-content/uploads/2026/04/festival-el-trailer-del-verano-1775584841472.avif
END:VEVENT
END:VCALENDAR