BEGIN:VCALENDAR
VERSION:2.0
PRODID:-//Calendario de Eventos Gran Canaria - ECPv6.15.17.1//NONSGML v1.0//EN
CALSCALE:GREGORIAN
METHOD:PUBLISH
X-WR-CALNAME:Calendario de Eventos Gran Canaria
X-ORIGINAL-URL:https://calendarioeventos.com
X-WR-CALDESC:Eventos para Calendario de Eventos Gran Canaria
REFRESH-INTERVAL;VALUE=DURATION:PT1H
X-Robots-Tag:noindex
X-PUBLISHED-TTL:PT1H
BEGIN:VTIMEZONE
TZID:Europe/London
BEGIN:DAYLIGHT
TZOFFSETFROM:+0000
TZOFFSETTO:+0100
TZNAME:BST
DTSTART:20250330T010000
END:DAYLIGHT
BEGIN:STANDARD
TZOFFSETFROM:+0100
TZOFFSETTO:+0000
TZNAME:GMT
DTSTART:20251026T010000
END:STANDARD
BEGIN:DAYLIGHT
TZOFFSETFROM:+0000
TZOFFSETTO:+0100
TZNAME:BST
DTSTART:20260329T010000
END:DAYLIGHT
BEGIN:STANDARD
TZOFFSETFROM:+0100
TZOFFSETTO:+0000
TZNAME:GMT
DTSTART:20261025T010000
END:STANDARD
BEGIN:DAYLIGHT
TZOFFSETFROM:+0000
TZOFFSETTO:+0100
TZNAME:BST
DTSTART:20270328T010000
END:DAYLIGHT
BEGIN:STANDARD
TZOFFSETFROM:+0100
TZOFFSETTO:+0000
TZNAME:GMT
DTSTART:20271031T010000
END:STANDARD
END:VTIMEZONE
BEGIN:VEVENT
DTSTART;TZID=Europe/London:20260105T173000
DTEND;TZID=Europe/London:20260105T210000
DTSTAMP:20260420T213112
CREATED:20251221T123645Z
LAST-MODIFIED:20260105T174802Z
UID:10012035-1767634200-1767646800@calendarioeventos.com
SUMMARY:Cabalgata de Reyes 2026 Santa Brígida
DESCRIPTION:Programa de la Cabalgata de Reyes 2026 en Santa Brígida: \n\n\n17:30 h – Cabalgata La lluvia nos obliga a suspender la Cabalgata de los Reyes Magos.\nSus Majestades los Reyes Magos de Oriente recorrerán las calles del Casco de Santa Brígida en su tradicional Cabalgata con su séquito y ayudantes\, llenando de magia e ilusión el municipio.\nRecorrido: Club de Mayores\, Calle Mirador de la Villa (tramo sin ruidodestinado a niños y niñas con hipersensibilidad auditiva)\, Calle Gonzalo Medina\, Calle Ramón y Cajal\, y Calle Nueva\, donde se encuentra la zona destinada a la movilidad reducida. \n\n\nA las 19:00 horas\, la Iglesia de Santa Brígida acoge el acto de Adoración y Ofrenda de Sus Majestades al Niño Jesús. \n\n\nA continuación 19.20 horas:\, en el escenario de la cancha del CEIP Sataute se dará la bienvenida a los Reyes Magos de Oriente\, que recibirán a todos los niños y niñas que quieran entregar sus cartas llenas de deseos.
URL:https://calendarioeventos.com/evento/cabalgata-de-reyes-2026-santa-brigida/
LOCATION:Santa Brígida\, Santa Brígida\, Las Palmas
CATEGORIES:Actividades,Eventos gratuitos,Infantil,Santa Brígida
ATTACH;FMTTYPE=image/jpeg:https://calendarioeventos.com/wp-content/uploads/2025/12/Cabalgata.avif
END:VEVENT
BEGIN:VEVENT
DTSTART;TZID=Europe/London:20260110T190000
DTEND;TZID=Europe/London:20260110T200000
DTSTAMP:20260420T213112
CREATED:20251223T143613Z
LAST-MODIFIED:20251223T143613Z
UID:10012559-1768071600-1768075200@calendarioeventos.com
SUMMARY:Inauguración - Exposición "Retórica y retrato"
DESCRIPTION:Inauguración de la exposición «Retórica y retrato» de Carmelo Sangó en la Sala Lola Massieu\, Santa Brígida. \nEl Ayuntamiento de Santa Brígida\, a través de la Concejalía de Cultura\, invita a la ciudadanía a visitar la obra del artista Carmelo Sangó Retórica y Retrato en la Sala  Lola Massieu\, cuyo acto de inauguración tendrá lugar el viernes\, 10 de enero a las 19:00 horas. \nSe trata de uno de los proyectos más personales del artista. En “Retórica y Retrato”\, Sangó propone un recorrido pictórico donde el retrato trasciende lo meramente figurativo para dialogar con las figuras retóricas del lenguaje\, invitando al espectador a reflexionar sobre la identidad\, el tiempo y la construcción simbólica de la imagen. \nEsta exposición ha sido presentada en distintos municipios de Gran Canaria y ha tenido una gran interacción con el público y con centros educativos. \nLa muestra podrá visitarse del 10 al 24 de enero.
URL:https://calendarioeventos.com/evento/inauguracion-exposicion-retorica-y-retrato/
LOCATION:Sala de Exposiciones Lola Massieu\, C. Nueva\, s n\, 35300 Sta Brígida\, Las Palmas
CATEGORIES:Actividades,Arte,Eventos gratuitos,Inauguración,Santa Brígida
ATTACH;FMTTYPE=image/jpeg:https://calendarioeventos.com/wp-content/uploads/2025/12/WhatsApp-Image-2025-12-15-at-12.28.29.avif
END:VEVENT
BEGIN:VEVENT
DTSTART;TZID=Europe/London:20260116T203000
DTEND;TZID=Europe/London:20260116T213000
DTSTAMP:20260420T213112
CREATED:20251223T211826Z
LAST-MODIFIED:20251223T212356Z
UID:10012598-1768595400-1768599000@calendarioeventos.com
SUMMARY:Concierto - Palabra de Gran Canaria
DESCRIPTION:Concierto «Palabra de Gran Canaria» en el Centro Cultural de la Villa de Santa Brígida\, Gran Canaria. \nEl Ayuntamiento de Santa Brígida invita a la ciudadanía a disfrutar del concierto “Palabra de Gran Canaria”\, que tendrá lugar en el Centro Cultural el 16 de enero\, a las 20:30 horas. \nSobre el escenario\, una banda formada por cuatro músicos construye una base sonora rica y envolvente\, mientras las voces de Claudia Álamo y Manuel Estupiñán guían al público a través de relatos\, emociones y paisajes sonoros profundamente vinculados a la identidad de la isla\, a su memoria colectiva y a su patrimonio cultural inmaterial. Historias contadas y cantadas desde una mirada artística\, sensible y cercana. \nDurante aproximadamente una hora\, el público es invitado a detenerse y escuchar\, a reconocer sonidos y palabras que forman parte del imaginario canario\, reinterpretados a través de una puesta en escena cuidada y honesta. La iluminación y el planteamiento escénico acompañan este relato\, reforzando la sensación de estar asistiendo a una experiencia casi ceremonial\, íntima y profundamente humana. \nPalabra de Gran Canaria es\, en esencia\, un encuentro entre música y narración que busca emocionar\, conectar y recordar de dónde venimos\, arropado por la calidez de las voces de Claudia Álamo y Manuel Estupiñán y el pulso constante de los músicos que los acompañan. \nEste concierto forma parte de la programación cultural del mes de enero.
URL:https://calendarioeventos.com/evento/concierto-palabra-de-gran-canaria/
LOCATION:Centro Cultural de la Villa de Santa Brígida\, C. Nueva\, 25\, 35300 Santa Brígida\, Las Palmas\, Santa Brígida\, Las Palmas\, 35300\, Spain
CATEGORIES:Concierto,Cultura,Eventos gratuitos,Santa Brígida
ATTACH;FMTTYPE=image/jpeg:https://calendarioeventos.com/wp-content/uploads/2025/10/016-Cartel-Concierto-PdGC-Santa-Brigida-1449x2048-1.avif
END:VEVENT
BEGIN:VEVENT
DTSTART;TZID=Europe/London:20260117T180000
DTEND;TZID=Europe/London:20260117T190000
DTSTAMP:20260420T213112
CREATED:20251223T212612Z
LAST-MODIFIED:20251223T212612Z
UID:10012601-1768672800-1768676400@calendarioeventos.com
SUMMARY:Concierto - Islas Afortunadas y de tierras latinoamericanas
DESCRIPTION:Concierto «Islas Afortunadas y de tierras latinoamericanas« en el Local de la AA.VV. Llano María Rivera\, Santa Brígida\, Gran Canaria. \nEl Ayuntamiento de Santa Brígida invita a la ciudadanía a disfrutar del concierto “Palabra de Gran Canaria”\, que tendrá lugar en el Centro Cultural el 16 de enero\, a las 20:30 horas. \nEl Ayuntamiento de la Villa de Santa Brígida\, a través de la Concejalía de Cultura\, invita a disfrutar del concierto de guitarra Islas Afortunadas y de tierras latinoamericanas a cargo del músico Adrián Nuez Vera. La velada tendrá lugar en la Asosciacion de Vecinos Llano de María Rivera el sábado 17 de enero\, a las 18.00 horas. La entrada es de carácter gratuita. \nEl concierto pone en valor la guitarra clásica como instrumento solista\, a través de un repertorio inspirado en el folclore canario y la música latinoamericana\, dos realidades culturales unidas por una profunda relación histórica y migratoria. El repertorio está formado por obras que abarcan géneros diversos como isas\, habaneras\, joropos\, tangos y danzas.
URL:https://calendarioeventos.com/evento/concierto-islas-afortunadas-y-de-tierras-latinoamericanas/
LOCATION:Llanos de María Rivera\, Las Palmas
CATEGORIES:Concierto,Cultura,Eventos gratuitos,Santa Brígida
ATTACH;FMTTYPE=image/jpeg:https://calendarioeventos.com/wp-content/uploads/2025/12/017-Concierto-Llano-Ma-Rivera-guitarra-1448x2048-1.avif
END:VEVENT
BEGIN:VEVENT
DTSTART;TZID=Europe/London:20260122T183000
DTEND;TZID=Europe/London:20260122T193000
DTSTAMP:20260420T213112
CREATED:20251223T212752Z
LAST-MODIFIED:20251223T212752Z
UID:10012602-1769106600-1769110200@calendarioeventos.com
SUMMARY:Presentación - Libro: Pinceladas escritas con palabras dibujadas
DESCRIPTION:Presentación del libro «Pinceladas escritas con palabras dibujadass»\, de Carmen Salcedo Cárdenas en la Biblioteca Municipal de Santa Brígida\, Gran Canaria. \n\nEl Ayuntamiento de Santa Brígida invita a la ciudadanía a la presentación de Pinceladas escritas con palabras dibujadas\, de Carmen Salcedo Cárdenas\, que tendrá lugar el próximo 22 de enero\, a las 18:30 horas en la Biblioteca Municipal. Se trata de una antología poética y artística publicada bajo el sello de Editorial Círculo Rojo. \nLa obra se erige como un viaje emocional entre la palabra y la imagen. Reúne una cuidada selección de pinturas creadas por la autora desde el año 2000\, acompañadas de versos que evocan emociones\, recuerdos y aspiraciones universales. Cada página establece un diálogo íntimo entre color y palabra\, donde la imagen no ilustra el poema ni el poema explica la imagen\, sino que ambos se complementan y se enriquecen mutuamente. \nUno de los grandes valores de Pinceladas escritas con Palabras dibujadas es su accesibilidad: se trata de una lectura fluida\, evocadora y cercana\, pensada para ser disfrutada por lectores de todas las edades\, tanto amantes de la poesía como del arte visual. \nCarmen Salcedo Cárdenas es médica\, natural de Granada\, y ha ejercido su especialidad en Medicina Familiar y Comunitaria dentro de la sanidad pública andaluza y canaria. Desde hace años reside en Las Palmas de Gran Canaria\, donde ha sabido compatibilizar su labor profesional con su vocación artística. En su tiempo de ocio\, la lectura\, la música\, la pintura y los viajes han sido fuentes constantes de inspiración. \nLos numerosos viajes realizados por Europa\, Asia\, África y América han dejado una profunda huella en su obra. Algunas de las pinturas incluidas en este libro —como Arboleda\, Bicicleta\, Vergel\, África\, Gaviotas o Río— nacen directamente de estas experiencias\, siempre acompañadas por su afición a la música y a la creación pictórica. \nCon Pinceladas escritas con Palabras dibujadas\, Carmen Salcedo Cárdenas ofrece al lector una obra íntima y luminosa\, donde arte y palabra se funden para celebrar la belleza\, la memoria y la emoción compartida. \nEl acto forma parte de la programación diseñada por la Concejalía de Cultura para el mes de enero. \n\n 
URL:https://calendarioeventos.com/evento/presentacion-libro-pinceladas-escritas-con-palabras-dibujadas/
LOCATION:Biblioteca Municipal de Santa Brígida\, C. el Calvario\, 23\, 35300 Sta Brígida\, Las Palmas
CATEGORIES:Actividades,Cultura,Eventos gratuitos,Literatura,Municipio,Precio,Presentación,Santa Brígida
ATTACH;FMTTYPE=image/jpeg:https://calendarioeventos.com/wp-content/uploads/2025/12/022-Libro-Carmen-Salcedo-1448x2048-1.avif
END:VEVENT
BEGIN:VEVENT
DTSTART;TZID=Europe/London:20260123T193000
DTEND;TZID=Europe/London:20260123T203000
DTSTAMP:20260420T213112
CREATED:20260103T143257Z
LAST-MODIFIED:20260103T143257Z
UID:10012866-1769196600-1769200200@calendarioeventos.com
SUMMARY:Presentación - Monográfico "Biblioteca de Artistas de Canarias"
DESCRIPTION:Presentación del Monográfico vol. 87 «Biblioteca de Artistas de Canarias» en la Biblioteca Municipal de Santa Brígida\, Gran Canaria. \n\n\nLa Biblioteca Pública de Santa Brígida\, dependiente de la Concejalía de Cultura\, acoge el 23 de enero\, a las 19:30 horas\, la presentación del volumen monográfico número 87 de la Biblioteca de Artistas de Canarias (BAC)\, dedicado a la artista satauteña Marta Mariño. El acto contará con la participación de la historiadora de arte Ángeles Alemán\, también satauteña y autora del estudio que acompaña la publicación. \nEste nuevo título de la BAC\, impulsada por el Gobierno de Canarias bajo la dirección de Carlos Díaz-Bertrana\, aborda la obra de Marta Mariño desde una mirada crítica y rigurosa. Ángeles Alemán define su trabajo como «fascinante y a la vez desconcertante» y subraya su condición de «pintora\, ante todo»\, para quien el acto de pintar implica «la incertidumbre y la duda razonable ante los cruces de caminos\, en la búsqueda constante de la esencia última de la pintura». \nLa Biblioteca de Artistas de Canarias cumple 35 años investigando y difundiendo la obra de los principales protagonistas del arte en el Archipiélago. Desde su primer número\, dedicado al imaginero José Luján Pérez en 1989\, la colección se ha consolidado como un referente en la documentación y análisis del arte regional. Con este volumen\, la BAC suma ya 36 publicaciones dedicadas a mujeres artistas\, reforzando su compromiso con la visibilización de su aportación al arte isleño. \nEl libro ofrece un enfoque prismático sobre el legado artístico de Marta Mariño y la sitúa como una figura clave del arte y la cultura canaria. Con más de 200 páginas\, incluye abundante material gráfico\, fotografías y reproducciones de obras\, además de un exhaustivo estudio crítico\, biografía\, bibliografía y una antología de textos\, contribuyendo a saldar una deuda histórica de la investigación artística en Canarias con numerosos creadores. \n\n\n 
URL:https://calendarioeventos.com/evento/presentacion-monografico-biblioteca-de-artistas-de-canarias/
LOCATION:Biblioteca Municipal de Santa Brígida\, C. el Calvario\, 23\, 35300 Sta Brígida\, Las Palmas
CATEGORIES:Actividades,Cultura,Eventos gratuitos,Literatura,Municipio,Precio,Presentación,Santa Brígida
ATTACH;FMTTYPE=image/jpeg:https://calendarioeventos.com/wp-content/uploads/2026/01/WhatsApp-Image-2025-12-30-at-16.15.40.avif
END:VEVENT
BEGIN:VEVENT
DTSTART;TZID=Europe/London:20260124T200000
DTEND;TZID=Europe/London:20260124T210000
DTSTAMP:20260420T213112
CREATED:20251223T212007Z
LAST-MODIFIED:20251223T212007Z
UID:10012599-1769284800-1769288400@calendarioeventos.com
SUMMARY:Humor - ‘Sorprendida’\, monja mexicana evangelizadora
DESCRIPTION:Humor – «‘Sorprendida’\, monja mexicana evangelizadora» en el Centro Cultural Villa de Santa Brígida\, Gran Canaria. \n\n\n\nEl Ayuntamiento de Santa Brígida invita a la ciudadanía a disfrutar\, el 24 de enero a las 20:00 horas\, en el Centro Cultural\, del espectáculo Sorprendida\, una propuesta unipersonal creada e interpretada por Mónica Lleó que transita entre el humor irreverente\, la sátira cultural y la reflexión crítica. \nEl montaje presenta a una monja mexicana atípica que ha inventado su propia religión y recorre el mundo con la misión de evangelizar culturalmente al público. Desde este personaje excéntrico y provocador\, Lleó construye un discurso cargado de ironía en el que se cuestionan conceptos como la cultura oficial\, el arte\, la fe\, el pensamiento único y el papel del espectador en la sociedad contemporánea. E ironiza sobre la cultura\, las culturas\, y la realidad de la misma. \nLa obra combina texto\, improvisación y una relación directa con el público\, lo que convierte cada función en una experiencia única\, viva y adaptada al contexto y al momento. El humor\, a menudo ácido y surrealista\, remite a la tradición de grandes cómicos que utilizaron la risa como herramienta crítica\, y convive con momentos de reflexión incómoda que invitan al espectador a pensar y posicionarse. \nMónica Lleó\, formada en el Institut del Teatre de Barcelona\, trabajó con el artista catalán Joan Brossa\, maestro del teatro irregular basado en el transformismo y el striptease. Docente\, directora y actriz grancanaria\, ha actuado en numerosos espacios escénicos de Canarias y del ámbito nacional\, y ha llevado sus obras a países tan distantes como Uruguay o Argentina. \nSorprendida ha sido representada en diversos espacios culturales\, especialmente en Canarias\, consolidándose como una pieza singular del teatro contemporáneo\, dirigida a un público adulto y con una clara vocación crítica y librepensadora. Se trata de su espectáculo más arriesgado. \nEl acto forma parte de la programación diseñada por la Concejalía de Cultura para el mes de enero. \nEntrada libre y gratuita. \n\nNota: entrada de carácter gratuito \n\n\n 
URL:https://calendarioeventos.com/evento/humor-sorprendida-monja-mexicana-evangelizadora/
LOCATION:Centro Cultural Santa Brígida\, C. Nueva\, 25\, 35300 Sta Brígida\, Las Palmas
CATEGORIES:Entretenimiento,Eventos gratuitos,Humor,Santa Brígida
ATTACH;FMTTYPE=image/png:https://calendarioeventos.com/wp-content/uploads/2025/12/024-Monica-Lleo-1448x2048-1.avif
END:VEVENT
BEGIN:VEVENT
DTSTART;TZID=Europe/London:20260127T173000
DTEND;TZID=Europe/London:20260127T193000
DTSTAMP:20260420T213112
CREATED:20251223T212231Z
LAST-MODIFIED:20251223T212231Z
UID:10012600-1769535000-1769542200@calendarioeventos.com
SUMMARY:Charla - Los ranchos de ánimas de Gran Canaria
DESCRIPTION:Charla «Los ranchos de ánimas de Gran Canaria» en el Centro Cultural de la Villa de Santa Brígida\, Gran Canaria. \nEl Ayuntamiento de Santa Brígida\, en colaboración con el Centro de Educación de Personas Adultas de Santa Brígida\, Vega de San Mateo y Tejeda\, organiza la conferencia Los ranchos de ánimas de Gran Canaria: recuperación de la tradición desde la formación y la educación\, que tendrá lugar el martes\, 27 de enero\, en horario de 17:30 a 19:30 horas en el Centro Cultural de la Villa. \nLa actividad será impartida por Roberto Suárez Ojeda\, profesor de música de secundaria y miembro del Rancho de Ánimas de Arbejales–Teror\, uno de los pocos colectivos que mantienen viva esta manifestación cultural en la isla. \nLos ranchos de ánimas constituyen una de las tradiciones populares más arraigadas de Gran Canaria hasta comienzos del siglo XX. Estaban formados por músicos aficionados que recorrían los pueblos con el objetivo de recaudar fondos destinados a la celebración de misas por las almas del Purgatorio. Sus actuaciones se desarrollaban desde la víspera del Día de Todos los Santos hasta la víspera de la festividad de la Virgen de la Candelaria\, en un contexto social profundamente vinculado a los preceptos religiosos y a la vida comunitaria. \nDesde el punto de vista musical y escénico\, los ranchos de ánimas se caracterizaban por el uso de instrumentos fundamentalmente de percusión\, composiciones cantadas centradas en los padecimientos\, muerte y resurrección de Cristo\, así como un amplio repertorio de coplas improvisadas. Estas interpretaciones incluían\, además\, una marcada teatralización\, con letras y melodías de carácter popular que evocaban el mundo de ultratumba mediante tonos lastimeros\, tristes y luctuosos. En la actualidad\, solo se conservan tres ranchos de ánimas en Gran Canaria: Arbejales–Teror\, Valsequillo y La Aldea. \nEl encuentro tiene como objetivo dar a conocer los valores culturales\, las tradiciones y las características esenciales de los ranchos de ánimas\, destacando su profundo arraigo popular y la función social que aún desempeñan en los lugares donde perviven. Asimismo\, se pondrá en valor su declaración como Bien de Interés Cultural en la categoría de Patrimonio Inmaterial por el Gobierno de Canarias\, un reconocimiento que abre la puerta a la recuperación de esta tradición en comarcas donde desapareció\, como es el caso de La Vega. \nLa iniciativa subraya la importancia de la formación y la educación como herramientas clave para la transmisión del patrimonio cultural\, así como el papel de estas manifestaciones en la cohesión vecinal\, los objetivos colectivos y la vertebración social de las comunidades rurales históricamente vinculadas a los sectores agropecuarios.
URL:https://calendarioeventos.com/evento/charla-los-ranchos-de-animas-de-gran-canaria/
LOCATION:Centro Cultural de la Villa de Santa Brígida\, C. Nueva\, 25\, 35300 Santa Brígida\, Las Palmas\, Santa Brígida\, Las Palmas\, 35300\, Spain
CATEGORIES:Actividades,Charla,Eventos gratuitos,Santa Brígida
ATTACH;FMTTYPE=image/jpeg:https://calendarioeventos.com/wp-content/uploads/2025/12/027-Los-Ranchos-de-Animas-de-Gran-Canaria-1448x2048-1.avif
END:VEVENT
BEGIN:VEVENT
DTSTART;TZID=Europe/London:20260129T190000
DTEND;TZID=Europe/London:20260129T200000
DTSTAMP:20260420T213112
CREATED:20260103T143418Z
LAST-MODIFIED:20260126T110920Z
UID:10012867-1769713200-1769716800@calendarioeventos.com
SUMMARY:Presentación - Libro: Crímenes permanentes
DESCRIPTION:Presentación del libro «Crímenes permanentes»\, de Víctor M. Bello Jiménez en la Biblioteca Municipal de Santa Brígida\, Gran Canaria. \n\nLa obra invita a la reflexión sobre la importancia y el significado de la identidad personal\, planteando al lector una pregunta clave: ¿a quién te pareces cuando te miras al espejo? A través de una narración de corte introspectivo y literario\, Crímenes permanentes invita al lector a enfrentarse a las zonas más persistentes de la memoria y la conciencia. \nBello Jiménez cuenta con una trayectoria literaria\, \, que transita entre la ficción\, la novela histórica y el ensayo. Es autor de obras como Corsarismo y defensa atlántica y En la orilla del imperio\, centradas en el ámbito histórico y atlántico\, así como de títulos narrativos como El viejo marino\, una breve historia marcada por la emigración y la memoria del mar. También ha abordado la novela histórica en Un sueño ajeno: vida de Inés Peraza\, señora de Canarias\, además de participar en distintos trabajos académicos y estudios colaborativos sobre la historia de Canarias\, entre ellos La historia naufragada. Esta variedad temática y de registros se refleja igualmente en Crímenes permanentes\, donde confluyen reflexión\, identidad y mirada literaria. \nLa presentación está abierta al público. \n\n 
URL:https://calendarioeventos.com/evento/presentacion-libro-crimenes-permanentes/
LOCATION:Biblioteca Municipal de Santa Brígida\, C. el Calvario\, 23\, 35300 Sta Brígida\, Las Palmas
CATEGORIES:Actividades,Cultura,Eventos gratuitos,Literatura,Municipio,Precio,Presentación,Santa Brígida
ATTACH;FMTTYPE=image/jpeg:https://calendarioeventos.com/wp-content/uploads/2026/01/WhatsApp-Image-2025-12-30-at-08.38.29.avif
END:VEVENT
BEGIN:VEVENT
DTSTART;TZID=Europe/London:20260130T190000
DTEND;TZID=Europe/London:20260130T200000
DTSTAMP:20260420T213112
CREATED:20260105T095141Z
LAST-MODIFIED:20260129T115132Z
UID:10012905-1769799600-1769803200@calendarioeventos.com
SUMMARY:Inauguración - Exposición: Serenidad en el caos - Santa Brígida
DESCRIPTION:Inauguración de la Exposición «Serenidad en el caos» de Alicia Lasala en la Sala de Exposiciones Lola Massieu\, Santa Brígida\, Gran Canaria. \nEl proyecto artístico “Serenidad en el Caos” surge a raíz del alarmante crecimiento de problemas de salud mental ocasionados por el estrés y la ansiedad. El proceso del trabajo artístico valora lo aleatorio y lo inesperado\, reflejando cómo el estrés a menudo surge sin aviso. Las formas que emergen en la obra buscan representar visualmente la tensión y la liberación\, utilizando el proceso pictórico para explorar estas emociones. Busca representar la dualidad del estrés y la calma en la salud mental contemporánea. \nDel 30 de enero al 20 de febrero de 2026. Sala de exposiciones «Lola Massieu» Santa Brígida. INAUGURACIÓN: 30 de enero. 19.00h. \nEspecializada en cerámica\, serigrafía\, grabado y escultura en materiales como gres\, alambre y cemento\, Alicia Lasala combina en su trabajo expresionismo figurativo y abstracto\, volcando en la figura humana emociones profundas. En ‘Serenidad en el caos’\, la artista reflexiona sobre el impacto del estrés y la ansiedad en la sociedad actual. Su proceso creativo valora lo inesperado\, representando visualmente la tensión y la liberación\, y mostrando la dualidad entre el caos y la calma a través de la pintura como vía de exploración emocional.
URL:https://calendarioeventos.com/evento/inauguracion-exposicion-serenidad-en-el-caos-santa-brigida/
LOCATION:Sala de Exposiciones Lola Massieu\, C. Nueva\, s n\, 35300 Sta Brígida\, Las Palmas
CATEGORIES:Actividades,Arte,Eventos gratuitos,Inauguración,Santa Brígida
ATTACH;FMTTYPE=image/png:https://calendarioeventos.com/wp-content/uploads/2026/01/Screenshot-2026-01-27-at-09-55-43-Cuarta-Semana-•-Instagram.avif
END:VEVENT
BEGIN:VEVENT
DTSTART;TZID=Europe/London:20260131T113000
DTEND;TZID=Europe/London:20260131T133000
DTSTAMP:20260420T213112
CREATED:20260126T104337Z
LAST-MODIFIED:20260126T104337Z
UID:10013085-1769859000-1769866200@calendarioeventos.com
SUMMARY:Música - La comunidad irlandesa rinde homenaje a Santa Brígida
DESCRIPTION:Música – La comunidad irlandesa rinde homenaje a Santa Brígida en la Parroquia de Santa Brígida\, Gran Canaria. \n\nLa comunidad irlandesa rendirá homenaje a Santa Brígida este sábado\, 31 de enero en un acto que pone el acento en los profundos vínculos culturales e históricos entre Irlanda y la Villa. La celebración\, de marcado carácter simbólico\, comenzará a las 11.30 horas y contará con la participación de músicos locales irlandeses que se unirán al Coro de Santa Brígida\, reforzando el diálogo y la conexión que une a ambos territorios. \nComo parte del programa\, a las 12.30 horas\, los músicos irlandeses junto con la Agrupación Folclórica de la Escuela Municipal de Música de la Villa de Santa Brígida también ofrecerá una actuación en la Plaza de la Iglesia. \nLa figura de Santa Brígida hunde sus raíces en la antigua Irlanda precristiana\, vinculada a la diosa celta Brigit\, símbolo del renacimiento\, la luz y la protección del hogar y los rebaños. Con el paso del tiempo\, esta herencia ancestral se integró en la tradición cristiana\, dando lugar a la Santa Brígida canonizada en el siglo VII y convertida en Patrona de Irlanda. \nLa jornada concebida para destacar el valor cultural e histórico de Santa Brígida como nexo entre pueblos y tradiciones.
URL:https://calendarioeventos.com/evento/musica-la-comunidad-irlandesa-rinde-homenaje-a-santa-brigida/
LOCATION:Parroquia de Santa Brígida\, Pl. de León y Castillo\, 1\, 35300 Sta Brígida\, Las Palmas
CATEGORIES:Cultura,Eventos gratuitos,Música,Santa Brígida
ATTACH;FMTTYPE=image/jpeg:https://calendarioeventos.com/wp-content/uploads/2026/01/WhatsApp-Image-2026-01-24-at-09.32.21.avif
END:VEVENT
END:VCALENDAR