BEGIN:VCALENDAR
VERSION:2.0
PRODID:-//Calendario de Eventos Gran Canaria - ECPv6.15.17.1//NONSGML v1.0//EN
CALSCALE:GREGORIAN
METHOD:PUBLISH
X-ORIGINAL-URL:https://calendarioeventos.com
X-WR-CALDESC:Eventos para Calendario de Eventos Gran Canaria
REFRESH-INTERVAL;VALUE=DURATION:PT1H
X-Robots-Tag:noindex
X-PUBLISHED-TTL:PT1H
BEGIN:VTIMEZONE
TZID:Europe/London
BEGIN:DAYLIGHT
TZOFFSETFROM:+0000
TZOFFSETTO:+0100
TZNAME:BST
DTSTART:20250330T010000
END:DAYLIGHT
BEGIN:STANDARD
TZOFFSETFROM:+0100
TZOFFSETTO:+0000
TZNAME:GMT
DTSTART:20251026T010000
END:STANDARD
BEGIN:DAYLIGHT
TZOFFSETFROM:+0000
TZOFFSETTO:+0100
TZNAME:BST
DTSTART:20260329T010000
END:DAYLIGHT
BEGIN:STANDARD
TZOFFSETFROM:+0100
TZOFFSETTO:+0000
TZNAME:GMT
DTSTART:20261025T010000
END:STANDARD
BEGIN:DAYLIGHT
TZOFFSETFROM:+0000
TZOFFSETTO:+0100
TZNAME:BST
DTSTART:20270328T010000
END:DAYLIGHT
BEGIN:STANDARD
TZOFFSETFROM:+0100
TZOFFSETTO:+0000
TZNAME:GMT
DTSTART:20271031T010000
END:STANDARD
END:VTIMEZONE
BEGIN:VEVENT
DTSTART;TZID=Europe/London:20260424T170000
DTEND;TZID=Europe/London:20260424T183000
DTSTAMP:20260420T143228
CREATED:20260408T214728Z
LAST-MODIFIED:20260408T214729Z
UID:10016275-1777050000-1777055400@calendarioeventos.com
SUMMARY:Literatura — «Cuentos con chocolate»
DESCRIPTION:Literatura — Cuentos con chocolate en la Biblioteca Pública Municipal\, Santa Brígida\, Gran Canaria. \nEl municipio de Santa Brígida se suma a la celebración del Día del Libro con una variada programación cultural que se desarrollará a lo largo del mes de abril\, combinando actividades literarias\, familiares y participativas en distintos espacios municipales. \nViernes\, 24 de abril17:00 hCuentos con chocolate.Biblioteca Pública Municipal.
URL:https://calendarioeventos.com/evento/literatura-cuentos-con-chocolate/
LOCATION:Biblioteca Municipal de Santa Brígida\, C. el Calvario\, 23\, 35300 Sta Brígida\, Las Palmas
CATEGORIES:Cultura,Eventos gratuitos,Infantil,Literatura,Santa Brígida
ATTACH;FMTTYPE=image/jpeg:https://calendarioeventos.com/wp-content/uploads/2026/04/010-cHTHRM.avif
END:VEVENT
BEGIN:VEVENT
DTSTART;TZID=Europe/London:20260424T200000
DTEND;TZID=Europe/London:20260424T210000
DTSTAMP:20260420T143228
CREATED:20260408T212149Z
LAST-MODIFIED:20260408T212150Z
UID:10016272-1777060800-1777064400@calendarioeventos.com
SUMMARY:Concierto - Ananda\, the violin Band.
DESCRIPTION:El Centro Cultural de Santa Brígida\, Gran Canaria\, acogerá el próximo 24 de abril a las 20:00 horas el concierto de Ananda (The Violin Band) \, una propuesta musical innovadora que rompe las fronteras entre géneros y sitúa al violín como protagonista de un espectáculo contemporáneo y vibrante. \n Liderado por el violinista Rubén Sánchez Araña \, concertino de la Orquesta Sinfónica de Las Palmas \, este proyecto nace con el objetivo de alejar el violín de sus contextos tradicionales para integrarlo en una formación moderna junto a teclado\, guitarra\, bajo y batería. \n El repertorio destaca por su carácter ecléctico\, combinando obras de compositores como Johannes Brahms o Dmitri Shostakovich con versiones de artistas icónicos como Queen \, Nirvana o Michael Jackson . \n A través de nuevos arreglos\, Ananda construye un puente entre la tradición clásica y los sonidos contemporáneos\, ofreciendo al público una experiencia musical accesible\, dinámica y llena de matices. \n El espectáculo\, dirigido a todos los públicos\, invita a redescubrir el violín desde una perspectiva moderna\, en un formato escénico que combina virtuosismo\, energía y creatividad. \n Con esta actuación\, la Concejalía de Cultura que dirige Avelina Fernández Manrique de Lara reafirma su apuesta por una programación diversa y de calidad\, acercando a la ciudadanía propuestas musicales capaces de atraer tanto a amantes de la música clásica como a nuevos públicos. \n Nota: entrada gratuita
URL:https://calendarioeventos.com/evento/concierto-ananda-the-violin-band-2/
LOCATION:Centro Cultural Santa Brígida\, C. Nueva\, 25\, 35300 Sta Brígida\, Las Palmas
CATEGORIES:Concierto,Cultura,Eventos gratuitos,Santa Brígida
ATTACH;FMTTYPE=image/jpeg:https://calendarioeventos.com/wp-content/uploads/2026/04/024-Ananda-WGIA6W.avif
END:VEVENT
END:VCALENDAR