BEGIN:VCALENDAR
VERSION:2.0
PRODID:-//Calendario de Eventos Gran Canaria - ECPv6.15.17.1//NONSGML v1.0//EN
CALSCALE:GREGORIAN
METHOD:PUBLISH
X-ORIGINAL-URL:https://calendarioeventos.com
X-WR-CALDESC:Eventos para Calendario de Eventos Gran Canaria
REFRESH-INTERVAL;VALUE=DURATION:PT1H
X-Robots-Tag:noindex
X-PUBLISHED-TTL:PT1H
BEGIN:VTIMEZONE
TZID:Europe/London
BEGIN:DAYLIGHT
TZOFFSETFROM:+0000
TZOFFSETTO:+0100
TZNAME:BST
DTSTART:20250330T010000
END:DAYLIGHT
BEGIN:STANDARD
TZOFFSETFROM:+0100
TZOFFSETTO:+0000
TZNAME:GMT
DTSTART:20251026T010000
END:STANDARD
BEGIN:DAYLIGHT
TZOFFSETFROM:+0000
TZOFFSETTO:+0100
TZNAME:BST
DTSTART:20260329T010000
END:DAYLIGHT
BEGIN:STANDARD
TZOFFSETFROM:+0100
TZOFFSETTO:+0000
TZNAME:GMT
DTSTART:20261025T010000
END:STANDARD
BEGIN:DAYLIGHT
TZOFFSETFROM:+0000
TZOFFSETTO:+0100
TZNAME:BST
DTSTART:20270328T010000
END:DAYLIGHT
BEGIN:STANDARD
TZOFFSETFROM:+0100
TZOFFSETTO:+0000
TZNAME:GMT
DTSTART:20271031T010000
END:STANDARD
END:VTIMEZONE
BEGIN:VEVENT
DTSTART;TZID=Europe/London:20260425T090000
DTEND;TZID=Europe/London:20260425T183000
DTSTAMP:20260420T185625
CREATED:20260408T214837Z
LAST-MODIFIED:20260408T214838Z
UID:10016276-1777107600-1777141800@calendarioeventos.com
SUMMARY:«Feria del Libro Santa Brígida»
DESCRIPTION:Feria del Libro en el Parque Municipal\, Santa Brígida\, Gran Canaria. \nEl municipio de Santa Brígida se suma a la celebración del Día del Libro con una variada programación cultural que se desarrollará a lo largo del mes de abril\, combinando actividades literarias\, familiares y participativas en distintos espacios municipales. \nSábado\, 25 de abril09:00 – 18:30 hFeria del Libro– Firmas de libros– Talleres infantiles– Presentaciones de libros– Casetas de librerías y editorialesParque Municipal.
URL:https://calendarioeventos.com/evento/feria-del-libro-santa-brigida/
LOCATION:Parque Santa Brigida\, C. Calvo Sotelo\, 3\, 35300 Sta Brígida\, Las Palmas
CATEGORIES:Actividades,Eventos gratuitos,Feria,Infantil,Literatura,Presentación,Santa Brígida,Taller
ATTACH;FMTTYPE=image/jpeg:https://calendarioeventos.com/wp-content/uploads/2026/04/010-cHTHRM.avif
END:VEVENT
BEGIN:VEVENT
DTSTART;TZID=Europe/London:20260425T110000
DTEND;TZID=Europe/London:20260425T123000
DTSTAMP:20260420T185625
CREATED:20260331T181126Z
LAST-MODIFIED:20260331T181222Z
UID:10015916-1777114800-1777120200@calendarioeventos.com
SUMMARY:Visita Guiada - Exposición: Paisajes Insulares Distópicos - Sta Brígida
DESCRIPTION:Visita Guiada a la Exposición «Paisajes Insulares Distópicos» en la Sala de Exposiciones Lola Massieu\, Santa Brígida\, Gran Canaria. \nVisitas guiadas a cargo del autor Germán Páez. \nActividades gratuitas. \nEsta muestra presenta «seudofotografías» generadas por inteligencia artificial que retratan un futuro distópico\, con escenarios exagerados y sarcásticos sobre la transformación del paisaje y el territorio insular. Las imágenes muestran paisajes invadidos por turistas\, inundaciones\, tormentas de arena\, y ciudades sobreexplotadas\, como Las Palmas de gran Canaria\, ante el cambio climático.
URL:https://calendarioeventos.com/evento/visita-guiada-exposicion-paisajes-insulares-distopicos-sta-brigida/2026-04-25/
LOCATION:Sala de Exposiciones Lola Massieu\, C. Nueva\, s n\, 35300 Sta Brígida\, Las Palmas
CATEGORIES:Actividades,Arte,Eventos gratuitos,Santa Brígida,Visita Guiada
ATTACH;FMTTYPE=image/png:https://calendarioeventos.com/wp-content/uploads/2026/03/visita-guiada-exposici-n-paisajes-insulares-dis-1774980684426.avif
END:VEVENT
BEGIN:VEVENT
DTSTART;TZID=Europe/London:20260425T180000
DTEND;TZID=Europe/London:20260425T190000
DTSTAMP:20260420T185625
CREATED:20260408T212248Z
LAST-MODIFIED:20260408T212249Z
UID:10016273-1777140000-1777143600@calendarioeventos.com
SUMMARY:Teatro - El niño de la media luna
DESCRIPTION:La compañía Comediantes de la Cacharra Verde vuelve a subir a las tablas con su espectáculo familiar «El niño de la media luna»\, una propuesta teatral dirigida a público infantil y familiar que podrá verse el próximo 25 de abril\, a las 18:00 horas en el Centro Cultural de Santa Brígida\, Gran Canaria. \n El niño de la media luna es un montaje basado en la vida y la obra del escritor Miguel de Unamuno \, concebido para acercar al público más joven a la obra de uno de los grandes autores de la literatura española de una forma lúdica y participativa. A través de una cuidada selección de textos de títulos como Niebla \, Abel Sánchez o La tía Tula \, la pieza propone un viaje por algunas de las historias y personajes más emblemáticos de Unamuno adaptados a un lenguaje escénico accesible para niños y niñas. \n La compañía Comediantes de la Cacharra Verde nació en Canarias en 2008\, integrando músicos\, actores y cantantes que se dedican a producir espectáculos infantiles y familiares con un enfoque participativo\, musical y creativo. A lo largo de su trayectoria han generado múltiples montajes —como La casita de los cuentos \, Bailando con cuentos o Los colores de Violeta — siempre con un sello dirigido a fomentar la imaginación\, la cultura y el gusto por las artes escénicas entre los más pequeños. \n La iniciativa forma parte de la programación de la Concejalía de Cultura que dirige Avelina Fernández Manrique de Lara y busca promover el acceso al teatro y la lectura desde edades tempranas. \n Nota: La entrada al espectáculo es gratuita
URL:https://calendarioeventos.com/evento/teatro-el-nino-de-la-media-luna/
LOCATION:Centro Cultural Santa Brígida\, C. Nueva\, 25\, 35300 Sta Brígida\, Las Palmas
CATEGORIES:Cultura,Eventos gratuitos,Infantil,Santa Brígida,Teatro
ATTACH;FMTTYPE=image/jpeg:https://calendarioeventos.com/wp-content/uploads/2026/04/025-El-nino-de-la-media-luna-UFgdYb.avif
END:VEVENT
END:VCALENDAR