BEGIN:VCALENDAR
VERSION:2.0
PRODID:-//Calendario de Eventos Gran Canaria - ECPv6.15.17.1//NONSGML v1.0//EN
CALSCALE:GREGORIAN
METHOD:PUBLISH
X-WR-CALNAME:Calendario de Eventos Gran Canaria
X-ORIGINAL-URL:https://calendarioeventos.com
X-WR-CALDESC:Eventos para Calendario de Eventos Gran Canaria
REFRESH-INTERVAL;VALUE=DURATION:PT1H
X-Robots-Tag:noindex
X-PUBLISHED-TTL:PT1H
BEGIN:VTIMEZONE
TZID:Europe/London
BEGIN:DAYLIGHT
TZOFFSETFROM:+0000
TZOFFSETTO:+0100
TZNAME:BST
DTSTART:20250330T010000
END:DAYLIGHT
BEGIN:STANDARD
TZOFFSETFROM:+0100
TZOFFSETTO:+0000
TZNAME:GMT
DTSTART:20251026T010000
END:STANDARD
BEGIN:DAYLIGHT
TZOFFSETFROM:+0000
TZOFFSETTO:+0100
TZNAME:BST
DTSTART:20260329T010000
END:DAYLIGHT
BEGIN:STANDARD
TZOFFSETFROM:+0100
TZOFFSETTO:+0000
TZNAME:GMT
DTSTART:20261025T010000
END:STANDARD
BEGIN:DAYLIGHT
TZOFFSETFROM:+0000
TZOFFSETTO:+0100
TZNAME:BST
DTSTART:20270328T010000
END:DAYLIGHT
BEGIN:STANDARD
TZOFFSETFROM:+0100
TZOFFSETTO:+0000
TZNAME:GMT
DTSTART:20271031T010000
END:STANDARD
END:VTIMEZONE
BEGIN:VEVENT
DTSTART;TZID=Europe/London:20260116T203000
DTEND;TZID=Europe/London:20260116T213000
DTSTAMP:20260421T003154
CREATED:20251223T211826Z
LAST-MODIFIED:20251223T212356Z
UID:10012598-1768595400-1768599000@calendarioeventos.com
SUMMARY:Concierto - Palabra de Gran Canaria
DESCRIPTION:Concierto «Palabra de Gran Canaria» en el Centro Cultural de la Villa de Santa Brígida\, Gran Canaria. \nEl Ayuntamiento de Santa Brígida invita a la ciudadanía a disfrutar del concierto “Palabra de Gran Canaria”\, que tendrá lugar en el Centro Cultural el 16 de enero\, a las 20:30 horas. \nSobre el escenario\, una banda formada por cuatro músicos construye una base sonora rica y envolvente\, mientras las voces de Claudia Álamo y Manuel Estupiñán guían al público a través de relatos\, emociones y paisajes sonoros profundamente vinculados a la identidad de la isla\, a su memoria colectiva y a su patrimonio cultural inmaterial. Historias contadas y cantadas desde una mirada artística\, sensible y cercana. \nDurante aproximadamente una hora\, el público es invitado a detenerse y escuchar\, a reconocer sonidos y palabras que forman parte del imaginario canario\, reinterpretados a través de una puesta en escena cuidada y honesta. La iluminación y el planteamiento escénico acompañan este relato\, reforzando la sensación de estar asistiendo a una experiencia casi ceremonial\, íntima y profundamente humana. \nPalabra de Gran Canaria es\, en esencia\, un encuentro entre música y narración que busca emocionar\, conectar y recordar de dónde venimos\, arropado por la calidez de las voces de Claudia Álamo y Manuel Estupiñán y el pulso constante de los músicos que los acompañan. \nEste concierto forma parte de la programación cultural del mes de enero.
URL:https://calendarioeventos.com/evento/concierto-palabra-de-gran-canaria/
LOCATION:Centro Cultural de la Villa de Santa Brígida\, C. Nueva\, 25\, 35300 Santa Brígida\, Las Palmas\, Santa Brígida\, Las Palmas\, 35300\, Spain
CATEGORIES:Concierto,Cultura,Eventos gratuitos,Santa Brígida
ATTACH;FMTTYPE=image/jpeg:https://calendarioeventos.com/wp-content/uploads/2025/10/016-Cartel-Concierto-PdGC-Santa-Brigida-1449x2048-1.avif
END:VEVENT
BEGIN:VEVENT
DTSTART;TZID=Europe/London:20260117T180000
DTEND;TZID=Europe/London:20260117T190000
DTSTAMP:20260421T003154
CREATED:20251223T212612Z
LAST-MODIFIED:20251223T212612Z
UID:10012601-1768672800-1768676400@calendarioeventos.com
SUMMARY:Concierto - Islas Afortunadas y de tierras latinoamericanas
DESCRIPTION:Concierto «Islas Afortunadas y de tierras latinoamericanas« en el Local de la AA.VV. Llano María Rivera\, Santa Brígida\, Gran Canaria. \nEl Ayuntamiento de Santa Brígida invita a la ciudadanía a disfrutar del concierto “Palabra de Gran Canaria”\, que tendrá lugar en el Centro Cultural el 16 de enero\, a las 20:30 horas. \nEl Ayuntamiento de la Villa de Santa Brígida\, a través de la Concejalía de Cultura\, invita a disfrutar del concierto de guitarra Islas Afortunadas y de tierras latinoamericanas a cargo del músico Adrián Nuez Vera. La velada tendrá lugar en la Asosciacion de Vecinos Llano de María Rivera el sábado 17 de enero\, a las 18.00 horas. La entrada es de carácter gratuita. \nEl concierto pone en valor la guitarra clásica como instrumento solista\, a través de un repertorio inspirado en el folclore canario y la música latinoamericana\, dos realidades culturales unidas por una profunda relación histórica y migratoria. El repertorio está formado por obras que abarcan géneros diversos como isas\, habaneras\, joropos\, tangos y danzas.
URL:https://calendarioeventos.com/evento/concierto-islas-afortunadas-y-de-tierras-latinoamericanas/
LOCATION:Llanos de María Rivera\, Las Palmas
CATEGORIES:Concierto,Cultura,Eventos gratuitos,Santa Brígida
ATTACH;FMTTYPE=image/jpeg:https://calendarioeventos.com/wp-content/uploads/2025/12/017-Concierto-Llano-Ma-Rivera-guitarra-1448x2048-1.avif
END:VEVENT
END:VCALENDAR