BEGIN:VCALENDAR
VERSION:2.0
PRODID:-//Calendario de Eventos Gran Canaria - ECPv6.15.17.1//NONSGML v1.0//EN
CALSCALE:GREGORIAN
METHOD:PUBLISH
X-ORIGINAL-URL:https://calendarioeventos.com
X-WR-CALDESC:Eventos para Calendario de Eventos Gran Canaria
REFRESH-INTERVAL;VALUE=DURATION:PT1H
X-Robots-Tag:noindex
X-PUBLISHED-TTL:PT1H
BEGIN:VTIMEZONE
TZID:Europe/London
BEGIN:DAYLIGHT
TZOFFSETFROM:+0000
TZOFFSETTO:+0100
TZNAME:BST
DTSTART:20250330T010000
END:DAYLIGHT
BEGIN:STANDARD
TZOFFSETFROM:+0100
TZOFFSETTO:+0000
TZNAME:GMT
DTSTART:20251026T010000
END:STANDARD
BEGIN:DAYLIGHT
TZOFFSETFROM:+0000
TZOFFSETTO:+0100
TZNAME:BST
DTSTART:20260329T010000
END:DAYLIGHT
BEGIN:STANDARD
TZOFFSETFROM:+0100
TZOFFSETTO:+0000
TZNAME:GMT
DTSTART:20261025T010000
END:STANDARD
BEGIN:DAYLIGHT
TZOFFSETFROM:+0000
TZOFFSETTO:+0100
TZNAME:BST
DTSTART:20270328T010000
END:DAYLIGHT
BEGIN:STANDARD
TZOFFSETFROM:+0100
TZOFFSETTO:+0000
TZNAME:GMT
DTSTART:20271031T010000
END:STANDARD
END:VTIMEZONE
BEGIN:VEVENT
DTSTART;TZID=Europe/London:20260219T160000
DTEND;TZID=Europe/London:20260219T190000
DTSTAMP:20260421T021111
CREATED:20260215T162038Z
LAST-MODIFIED:20260220T102950Z
UID:10013892-1771516800-1771527600@calendarioeventos.com
SUMMARY:Taller - Poda de Invierno de la vid
DESCRIPTION:Taller de Poda de Invierno de la vid en la Agencia de Extensión Agraria de Santa Brígida\, Gran Canaria. \nTras el éxito de la primera edición\, abrimos nueva convocatoria para seguir formando a viticultores y amantes del viñedo que quieran mejorar sus conocimientos y técnicas de poda.🌱 \nEsta nueva edición se celebrará en la zona norte\, combinando formación teórica y práctica en campo para que puedas aplicar lo aprendido desde el primer momento. \n\n🗓 Jueves 19 de febrero\n📌 Sesión teórica en Extensión Agraria de Santa Brígida\n⏰ Horario: 16:00 a 19:00h\n🗓 Viernes 20 de febrero\n📌 Sesión práctica en viñedo cercano (la localización se comunicará a los inscritos)\n⏰ Horario: 16:00 a 19:00h\n\nDurante el curso aprenderás las claves para realizar una poda correcta\, mejorar la producción y mantener la salud de la viña\, combinando fundamentos técnicos con práctica real en campo. \nInscripción en este enlace. \n📧 O escribiendo a:\nagro@vinosdegrancanaria.es
URL:https://calendarioeventos.com/evento/taller-poda-de-invierno-de-la-vid/2026-02-19/
LOCATION:Agencia de Extensión Agraria\, C. Acequia Del Palmeral\, 35300 Sta Brígida\, Las Palmas
CATEGORIES:Actividades,Eventos gratuitos,Santa Brígida,Taller
ATTACH;FMTTYPE=image/png:https://calendarioeventos.com/wp-content/uploads/2026/02/Screenshot-2026-02-15-at-16-18-18-Tercera-Semana-•-Instagram.avif
END:VEVENT
BEGIN:VEVENT
DTSTART;TZID=Europe/London:20260220T160000
DTEND;TZID=Europe/London:20260220T190000
DTSTAMP:20260421T021111
CREATED:20260215T162038Z
LAST-MODIFIED:20260220T102950Z
UID:10013893-1771603200-1771614000@calendarioeventos.com
SUMMARY:Taller - Poda de Invierno de la vid
DESCRIPTION:Taller de Poda de Invierno de la vid en la Agencia de Extensión Agraria de Santa Brígida\, Gran Canaria. \nTras el éxito de la primera edición\, abrimos nueva convocatoria para seguir formando a viticultores y amantes del viñedo que quieran mejorar sus conocimientos y técnicas de poda.🌱 \nEsta nueva edición se celebrará en la zona norte\, combinando formación teórica y práctica en campo para que puedas aplicar lo aprendido desde el primer momento. \n\n🗓 Jueves 19 de febrero\n📌 Sesión teórica en Extensión Agraria de Santa Brígida\n⏰ Horario: 16:00 a 19:00h\n🗓 Viernes 20 de febrero\n📌 Sesión práctica en viñedo cercano (la localización se comunicará a los inscritos)\n⏰ Horario: 16:00 a 19:00h\n\nDurante el curso aprenderás las claves para realizar una poda correcta\, mejorar la producción y mantener la salud de la viña\, combinando fundamentos técnicos con práctica real en campo. \nInscripción en este enlace. \n📧 O escribiendo a:\nagro@vinosdegrancanaria.es
URL:https://calendarioeventos.com/evento/taller-poda-de-invierno-de-la-vid/2026-02-20/
LOCATION:Agencia de Extensión Agraria\, C. Acequia Del Palmeral\, 35300 Sta Brígida\, Las Palmas
CATEGORIES:Actividades,Eventos gratuitos,Santa Brígida,Taller
ATTACH;FMTTYPE=image/png:https://calendarioeventos.com/wp-content/uploads/2026/02/Screenshot-2026-02-15-at-16-18-18-Tercera-Semana-•-Instagram.avif
END:VEVENT
BEGIN:VEVENT
DTSTART;TZID=Europe/London:20260220T180000
DTEND;TZID=Europe/London:20260220T190000
DTSTAMP:20260421T021111
CREATED:20251030T095048Z
LAST-MODIFIED:20260215T182312Z
UID:10008334-1771610400-1771614000@calendarioeventos.com
SUMMARY:Teatro - Hipatia y el asteroide B-612
DESCRIPTION:Obra de Teatro Familiar «Hipatia y el asteroide B-612» en el Centro Cultural de Santa Brígida\, Gran Canaria. \nEnmarcada en la línea del teatro pedagógico y producida por la compañía La Godot Escénica\, la función está dirigida al público familiar. \nLa trama sigue a Hipatia\, una pequeña aspirante a astrónoma\, que\, ante el anuncio de la mayor lluvia de estrellas de todos los tiempos\, toma su telescopio y se dirige a la montaña más alta para disfrutar de este fenómeno de la naturaleza. Allí\, buscando estrellas\, se encuentra con el Principito\, con quien iniciará un viaje por la Tierra para descubrir por qué han desaparecido las estrellas. \nA lo largo de su aventura\, Hipatia y el Principito se topan con personajes de obras literarias emblemáticas\, en un recorrido lleno de imaginación y aprendizaje\, donde la ciencia\, la literatura y la magia del teatro se entrelazan para despertar la curiosidad de grandes y pequeños.
URL:https://calendarioeventos.com/evento/teatro-hipatia-y-el-asteroide-b-612/
LOCATION:Centro Cultural Santa Brígida\, C. Nueva\, 25\, 35300 Sta Brígida\, Las Palmas
CATEGORIES:Cultura,Eventos gratuitos,Infantil,Santa Brígida,Teatro
ATTACH;FMTTYPE=image/jpeg:https://calendarioeventos.com/wp-content/uploads/2025/10/020-Hipatia-y-el-asteroide-B-scaled-1.avif
END:VEVENT
BEGIN:VEVENT
DTSTART;TZID=Europe/London:20260221T110000
DTEND;TZID=Europe/London:20260221T120000
DTSTAMP:20260421T021111
CREATED:20260215T182525Z
LAST-MODIFIED:20260215T182525Z
UID:10013902-1771671600-1771675200@calendarioeventos.com
SUMMARY:Taller - Economía doméstica
DESCRIPTION:Taller «Economía doméstica» en la Biblioteca Municipal de Santa Brígida\, Gran Canaria. \n\nEl Ayuntamiento de Santa Brígida\, a través de la Concejalía de Servicios Sociales que dirige Carlos Carrión\, continua con el programa Cruzando Caminos\, una propuesta cultural\, formativa y de ocio dirigida a las familias\, que coordina Cosquillas Musicales. \nEl próximo taller es sobre el Aprendizaje financiero infantil\, dirigido a menores de más de 6 años\, y estará a cargo de Sara Rodríguez\, maestra de Educación Infantil. \n🗓️ 21 de febrero\n🕔 11:00 horas\n🏛️ Club de Mayores \n✍🏻 Inscripción\nEnviar un correo a actividadesaccionsocial@gmail.com indicando nombre y edad del menor\, nombre de la persona acompañante\, número de teléfono de contacto e indicar si es residente en Santa Brígida. Estas familias tendrán prioridad.
URL:https://calendarioeventos.com/evento/taller-economia-domestica/
LOCATION:Biblioteca Municipal de Santa Brígida\, C. el Calvario\, 23\, 35300 Sta Brígida\, Las Palmas
CATEGORIES:Actividades,Eventos gratuitos,Infantil,Santa Brígida,Taller
ATTACH;FMTTYPE=image/jpeg:https://calendarioeventos.com/wp-content/uploads/2026/02/WhatsApp-Image-2026-02-12-at-09.18.41.avif
END:VEVENT
BEGIN:VEVENT
DTSTART;TZID=Europe/London:20260221T190000
DTEND;TZID=Europe/London:20260221T233000
DTSTAMP:20260421T021111
CREATED:20260210T105624Z
LAST-MODIFIED:20260210T105624Z
UID:10013733-1771700400-1771716600@calendarioeventos.com
SUMMARY:Carnaval - Pino Santo Alto
DESCRIPTION:Carnaval de Pino Santo Alto\, Santa Brígida\, Gran Canaria\, el 21 de febrero: \n\nPino Santo Alto se prepara para celebrar una jornada de alegría y diversión con la llegada del Carnaval el próximo 21 de febrero. \nEl evento contará con una deliciosa propuesta gastronómica\, en la que no faltarán las tradicionales tortillas de carnaval\, chocolate caliente y los clásicos bocadillos de huevo frito\, sabores que evocan la esencia de estas festividades. \nComo parte de la celebración\, se premiarán los mejores disfraces en diferentes categorías: individual\, juvenil\, en pareja y en grupo\, incentivando la creatividad y el espíritu carnavalesco de los asistentes. \nEl esperado Gran Baile de Máscaras dará inicio a las 21:00 horas\, con la animación especial de Luz de Luna\, asegurando una noche inolvidable de ritmo y diversión. \nOrganiza la Asociación de Vecinos La Caldereta.
URL:https://calendarioeventos.com/evento/carnaval-pino-santo-alto/
LOCATION:Pino Santo Alto\, 35309 Las Palmas
CATEGORIES:Carnaval,Danza,Entretenimiento,Eventos gratuitos,Música,Santa Brígida
ATTACH;FMTTYPE=image/png:https://calendarioeventos.com/wp-content/uploads/2026/02/^Pino-Santo.avif
END:VEVENT
BEGIN:VEVENT
DTSTART;TZID=Europe/London:20260222T103000
DTEND;TZID=Europe/London:20260222T123000
DTSTAMP:20260421T021111
CREATED:20251103T162958Z
LAST-MODIFIED:20260216T140216Z
UID:10008583-1771756200-1771763400@calendarioeventos.com
SUMMARY:Infantil - Día infantil en la naturaleza
DESCRIPTION:Infantil – Día infantil en la naturaleza con la Asociación educativa La Nube\, en la Finca el Galeón\, Santa Brígida\, Gran Canaria. \nTe invitamos a vivir una mañana para jugar\, explorar y crear en familia\, en un entorno natural precioso y sin prisas \n🗓️ Domingo 22 de febrero\n🕥 10:30 – 12:30\n📍 Finca el Galeón \nDurante el encuentro disfrutaremos de:\n✨ Llegada con calma y rincón de juego libre\n🌳 Recorrido por la finca\n🎨 Experiencia artística \n💰 Precio por familia\n• 1 niño/a: 20€\n• 2 hermanos/as: 25€\n👨‍👩‍👧‍👦 Máximo 4 personas por familia\n(Aforo limitado) \nLa actividad incluye materiales y acompañamiento.\n❌ No incluye comida ni transporte. \nUna propuesta organizada por la Asociación La Nube\, fomentando el juego al aire libre🥰🍃🌈 \n+Info y reservas: envía whatsapp al 619560527
URL:https://calendarioeventos.com/evento/infantil-dia-infantil-en-la-naturaleza/
LOCATION:Finca el Galeón\, C. Calvo Sotelo\, 18\, 35300 Sta Brígida\, Las Palmas
CATEGORIES:Entretenimiento,Infantil,Juegos,Literatura,Santa Brígida
ATTACH;FMTTYPE=image/png:https://calendarioeventos.com/wp-content/uploads/2025/11/Screenshot-2026-02-16-at-14-00-40-Tercera-Semana-•-Instagram.avif
END:VEVENT
END:VCALENDAR