BEGIN:VCALENDAR
VERSION:2.0
PRODID:-//Calendario de Eventos Gran Canaria - ECPv6.15.17.1//NONSGML v1.0//EN
CALSCALE:GREGORIAN
METHOD:PUBLISH
X-WR-CALNAME:Calendario de Eventos Gran Canaria
X-ORIGINAL-URL:https://calendarioeventos.com
X-WR-CALDESC:Eventos para Calendario de Eventos Gran Canaria
REFRESH-INTERVAL;VALUE=DURATION:PT1H
X-Robots-Tag:noindex
X-PUBLISHED-TTL:PT1H
BEGIN:VTIMEZONE
TZID:Europe/London
BEGIN:DAYLIGHT
TZOFFSETFROM:+0000
TZOFFSETTO:+0100
TZNAME:BST
DTSTART:20250330T010000
END:DAYLIGHT
BEGIN:STANDARD
TZOFFSETFROM:+0100
TZOFFSETTO:+0000
TZNAME:GMT
DTSTART:20251026T010000
END:STANDARD
BEGIN:DAYLIGHT
TZOFFSETFROM:+0000
TZOFFSETTO:+0100
TZNAME:BST
DTSTART:20260329T010000
END:DAYLIGHT
BEGIN:STANDARD
TZOFFSETFROM:+0100
TZOFFSETTO:+0000
TZNAME:GMT
DTSTART:20261025T010000
END:STANDARD
BEGIN:DAYLIGHT
TZOFFSETFROM:+0000
TZOFFSETTO:+0100
TZNAME:BST
DTSTART:20270328T010000
END:DAYLIGHT
BEGIN:STANDARD
TZOFFSETFROM:+0100
TZOFFSETTO:+0000
TZNAME:GMT
DTSTART:20271031T010000
END:STANDARD
END:VTIMEZONE
BEGIN:VEVENT
DTSTART;TZID=Europe/London:20260410T170000
DTEND;TZID=Europe/London:20260410T180000
DTSTAMP:20260420T201652
CREATED:20260408T210615Z
LAST-MODIFIED:20260408T210616Z
UID:10016265-1775840400-1775844000@calendarioeventos.com
SUMMARY:Narración - Cuentacuentos con Elisabet Espín
DESCRIPTION:Narración – Cuentacuentos con Elisabet Espín en la Biblioteca Municipal de Santa Brígida\, Gran Canaria. \nLa Biblioteca Municipal de Santa Brígida se convierte una vez más en el escenario de la imaginación y la fantasía. En el marco del XIX Circuito de Narración Oral \, el próximo viernes\, 10 de abril\, a las 17.00 horas se llevará a cabo una sesión especial de cuentacuentos dirigida al público familiar. \n El evento contará con la participación de la reconocida narradora Elisabet Espín \, quien será la encargada de dar vida a historias mágicas que prometen cautivar tanto a pequeños como a adultos. Esta iniciativa busca fomentar el hábito de la lectura y el disfrute de la tradición oral en un entorno comunitario y acogedor. \nEste encuentro está organizado con el apoyo del Ayuntamiento de Santa Brígida y el Cabildo de Gran Canaria \, reafirmando el compromiso de las instituciones locales con la cultura y la educación de calidad para todos los ciudadanos. \n Nota: entrada libre
URL:https://calendarioeventos.com/evento/narracion-cuentacuentos-con-elisabet-espin/
LOCATION:Biblioteca Municipal de Santa Brígida\, C. el Calvario\, 23\, 35300 Sta Brígida\, Las Palmas
CATEGORIES:Actividades,Eventos gratuitos,Infantil,Literatura,Santa Brígida
END:VEVENT
BEGIN:VEVENT
DTSTART;TZID=Europe/London:20260411T110000
DTEND;TZID=Europe/London:20260411T130000
DTSTAMP:20260420T201652
CREATED:20260223T132835Z
LAST-MODIFIED:20260326T113010Z
UID:10014202-1775905200-1775912400@calendarioeventos.com
SUMMARY:Taller — «Taller de Velas: Ritual de Primavera»
DESCRIPTION:Taller de Velas «Ritual de Primavera» en Bodega Los Lirios\, Las Palmas de Gran Canaria. \nUn espacio para parar\, respirar y reconectar contigo. \nEn este Ritual de Primavera guiado por Luz de Alma\, vivirás una experiencia sensorial donde el aroma\, la creación artesanal y la intención se unen. \n🕯️ Crearás tu propia vela paso a paso.\n🌸 La decorarás con flores y piedras energéticas.\n🌿 Elegirás tu aroma a través de una experiencia de aromaterapia.\n🧘‍♀️ Cerrarás con una meditación guiada para intencionarla. \nUn momento de calma. De conexión. De presencia. \nY\, como broche final… 🍷\nDos copas de vino de la bodega y un pequeño picoteo para disfrutar sin prisas.\n✨ Incluye \n✔️ Todos los materiales\n✔️ Experiencia de aromaterapia\n✔️ Creación de vela artesanal\n✔️ Decoración con flores y piedras\n✔️ Meditación guiada\n🥂 2 copas de vino\n🍴 Picoteo \nInscripción en este enlace
URL:https://calendarioeventos.com/evento/taller-taller-de-velas-ritual-de-primavera/
LOCATION:Bodega Los Lirios\, Camino de los lirios\, 2\, 35017 Las Palmas de Gran Canaria\, Las Palmas
CATEGORIES:Actividades,Arte,Gastronomía,Santa Brígida,Taller
END:VEVENT
BEGIN:VEVENT
DTSTART;TZID=Europe/London:20260411T193000
DTEND;TZID=Europe/London:20260411T203000
DTSTAMP:20260420T201652
CREATED:20260408T210802Z
LAST-MODIFIED:20260408T210803Z
UID:10016266-1775935800-1775939400@calendarioeventos.com
SUMMARY:Concierto - La Arquitectura Musical Barroca: Catedrales Sonoras
DESCRIPTION:El Ayuntamiento de Santa Brígida\, Gran Canaria\, a través de la Concejalía de Cultura \, invita a la ciudadanía a disfrutar del concierto La Arquitectura Musical Barroca: Catedrales Sonoras a cargo del guitarrista Adrián Nuez Vera \, que se celebrará el próximo sábado 11 de abril \, a las 19:30 horas\, en la Iglesia del Monte Lentiscal. \n Este proyecto musical explora la profunda conexión entre la música barroca\, especialmente la obra de Johann Sebastian Bach\, y la arquitectura de las grandes catedrales. Al igual que estos espacios representan una de las más altas expresiones del patrimonio espiritual y cultural\, la música de Bach se presenta como una construcción sonora perfecta\, donde cada elemento responde a un orden y una armonía interna comparable a la simetría de la arquitectura sagrada. \n El concierto propone un recorrido cronológico por diferentes etapas musicales\, comenzando en el Renacimiento \, adentrándose en el Barroco y finalizando con una aproximación al Clasicismo. El repertorio incluye piezas inspiradas en la tradición musical antigua\, como las Variaciones sobre las folías de España de Fernando Sor. \n Como valor añadido\, antes de cada interpretación se ofrecerán breves explicaciones de carácter histórico y contextual \, con el objetivo de enriquecer la experiencia del público y facilitar una mayor comprensión de las obras. \n Desde Cultura se destaca la importancia de este tipo de iniciativas culturales\, que acercan la música clásica a la ciudadanía en espacios de gran valor patrimonial\, fomentando el disfrute y la difusión del patrimonio artístico y musical.
URL:https://calendarioeventos.com/evento/concierto-la-arquitectura-musical-barroca-catedrales-sonoras/
LOCATION:Parroquia de Monte Lentiscal\, C. Real de Coello\, 14\, 35310 Monte Lentiscal\, Las Palmas
CATEGORIES:Concierto,Cultura,Eventos gratuitos,Música,Santa Brígida
ATTACH;FMTTYPE=image/jpeg:https://calendarioeventos.com/wp-content/uploads/2026/04/011-aQpiXt.avif
END:VEVENT
BEGIN:VEVENT
DTSTART;TZID=Europe/London:20260412T110000
DTEND;TZID=Europe/London:20260412T130000
DTSTAMP:20260420T201652
CREATED:20260317T134608Z
LAST-MODIFIED:20260326T214548Z
UID:10015356-1775991600-1775998800@calendarioeventos.com
SUMMARY:Gastronomía — «Cocinillas de Santa Brígida»
DESCRIPTION:Gastronomía — Cocinillas de Santa Brígida en el Parque Municipal de Santa Brígida\, Gran Canaria. \nEl Ayuntamiento de Santa Brígida\, a través de la Concejalía de Mercados y Desarrollo Rural que dirige Carmen Juez\, busca al mejor cocinillas del municipio con la celebración del concurso gastronómico Cocinillas de Santa Brígida el domingo\, 29 de marzo\, a las 11.00 horas. \nEl Parque Municipal\, en el espacio anexo al Mercado de Santa Brígida\, se transformará durante la mañana en un gran punto de encuentro para los amantes de la cocina\, en una cita presentada por Romina Vives que combinará talento culinario\, productos locales y espectáculo gastronómico. \nLos participantes dispondrán de un tiempo limitado para recorrer los puestos del Mercado de Santa Brígida y seleccionar los ingredientes con los que deberán elaborar sus platos\, poniendo a prueba su creatividad y destreza entre fogones\, con una demostración de cocina en directo junto al chef José Luis Espino. \nDurante la jornada\, residentes y visitantes podrán disfrutar de una jornada dedicada al sabor. \nEl programa incluye la degustación de una tapa de garbanzada a cargo de El Camino al Jamonal\, una propuesta que pretende resaltar la cocina tradicional y los sabores vinculados a la gastronomía popular. \nEl concurso incluirá la celebración de la semifinal y la gran final\, en una competición que coronará al mejor cocinillas del municipio. La organización ha establecido tres premios en metálico para las mejores propuestas: 300 euros para el primer clasificado\, 200 euros para el segundo y 100 euros para el tercero. \nColabora el Cabildo de Gran Canaria. Inscripción en este enlace: cocinillasalfuego@gmail.com
URL:https://calendarioeventos.com/evento/gastronomia-cocinillas-de-santa-brigida/
LOCATION:Santa Brígida\, Santa Brígida\, Las Palmas
CATEGORIES:Actividades,Eventos gratuitos,Gastronomía,Santa Brígida
ATTACH;FMTTYPE=image/webp:https://calendarioeventos.com/wp-content/uploads/2026/03/gastronom-a-cocinillas-de-santa-br-gida-1773755166991.webp
END:VEVENT
BEGIN:VEVENT
DTSTART;TZID=Europe/London:20260412T170000
DTEND;TZID=Europe/London:20260412T210000
DTSTAMP:20260420T201652
CREATED:20250407T230000Z
LAST-MODIFIED:20260408T211105Z
UID:10000056-1776013200-1776027600@calendarioeventos.com
SUMMARY:Baile Mayores Santa Brígida
DESCRIPTION:Baile especial de Primavera del Club Municipal de Mayores de Santa Brígida\, Gran Canaria. \nEl Club municipal de mayores celebra el próximo domingo 12 de abril un «BAILE DE LA PRIMAVERA « \, en sus instalaciones\, en horario de 17:00 a 21:00 horas\, gratuito\, amenizado por «DULCE CACAO « \, actividad dirigida principalmente para soci@s \, pero se permite la entrada al público en general hasta completar aforo. \nEsta temporada se identifica tradicionalmente con el florecimiento de la flora\, un aumento de las temperaturas medias\, el deshielo \, la floración de las plantas \, el despertar de los animales en hibernación y el regreso de las especies migratorias . Estas características han hecho que sea usada como una metáfora de la renovación de la vida o de su primer desarrollo. \nPara conmemorar éste día\, se hará entrega de un pequeño detalle floral. \n  \n 
URL:https://calendarioeventos.com/evento/baile-mayores-santa-brigida/
LOCATION:CLUB MUNICIPAL DE MAYORESDE LA VILLA DE SANTA BRIGIDA\, C. Mirador de la Villa s/n Santa Brígida\, Las Palmas 35300 España
CATEGORIES:Cultura,Danza,Eventos gratuitos,Música,Santa Brígida
ATTACH;FMTTYPE=image/jpeg:https://calendarioeventos.com/wp-content/uploads/2025/04/Cartel-Escuela-de-Baile-Ilustrado-Azul-y-Naranja.avif
END:VEVENT
END:VCALENDAR