BEGIN:VCALENDAR
VERSION:2.0
PRODID:-//Calendario de Eventos Gran Canaria - ECPv6.15.17.1//NONSGML v1.0//EN
CALSCALE:GREGORIAN
METHOD:PUBLISH
X-ORIGINAL-URL:https://calendarioeventos.com
X-WR-CALDESC:Eventos para Calendario de Eventos Gran Canaria
REFRESH-INTERVAL;VALUE=DURATION:PT1H
X-Robots-Tag:noindex
X-PUBLISHED-TTL:PT1H
BEGIN:VTIMEZONE
TZID:Europe/London
BEGIN:DAYLIGHT
TZOFFSETFROM:+0000
TZOFFSETTO:+0100
TZNAME:BST
DTSTART:20250330T010000
END:DAYLIGHT
BEGIN:STANDARD
TZOFFSETFROM:+0100
TZOFFSETTO:+0000
TZNAME:GMT
DTSTART:20251026T010000
END:STANDARD
BEGIN:DAYLIGHT
TZOFFSETFROM:+0000
TZOFFSETTO:+0100
TZNAME:BST
DTSTART:20260329T010000
END:DAYLIGHT
BEGIN:STANDARD
TZOFFSETFROM:+0100
TZOFFSETTO:+0000
TZNAME:GMT
DTSTART:20261025T010000
END:STANDARD
BEGIN:DAYLIGHT
TZOFFSETFROM:+0000
TZOFFSETTO:+0100
TZNAME:BST
DTSTART:20270328T010000
END:DAYLIGHT
BEGIN:STANDARD
TZOFFSETFROM:+0100
TZOFFSETTO:+0000
TZNAME:GMT
DTSTART:20271031T010000
END:STANDARD
END:VTIMEZONE
BEGIN:VEVENT
DTSTART;TZID=Europe/London:20260509T180000
DTEND;TZID=Europe/London:20260509T192000
DTSTAMP:20260424T233117
CREATED:20260324T172803Z
LAST-MODIFIED:20260324T172804Z
UID:10015618-1778349600-1778354400@calendarioeventos.com
SUMMARY:Teatro — «Farra»
DESCRIPTION:Teatro familiar — «Farra» en el Teatro Cuyás\, Las Palmas de Gran Canaria. \nFiesta\, celebración\, cultura y comunidad se encuentran durante el tiempo de carnaval en el Madrid de 1568 o de 1668 o de 2024. Durante las carnestolendas todo es posible\, las normas cambian y el mundo se rige por paradojas. La farra barroca\, la fiesta\, abre la puerta a la música\, la locura\, la magia o la acrobacia entre mojigangas\, danzas y regocijos.  \nEntradas en este enlace \nY\, como toda subversión\, el objetivo radica en señalar la locura del pasado y del presente\, removiendo conciencias y celebrando nuestro encuentro.  \n…no hay más que dos tipos de teatro: el bueno y el que se queda sólo en la aspiración a serlo. ‘Farra’\, una coproducción de la CNTC y la Compañía alicantina Lucas Escobedo\, es una excelente muestra del primero\, es decir\, del Teatro con mayúsculas\, de un teatro que funde el verso con la música barroca y el más elegante circo con el sentido del humor… José Miguel Vila (Diario Crítico)  \n…una propuesta desenfadada\, ágil e ingeniosa que combina con habilidad e inteligencia la música\, el verso\, el circo\, la esgrima y la peripecia dramática… Raúl Losánez (La Razón) Lucha escénica\, música en directo\, circo\, humor y magia nos llevan a realizar un viaje por el Siglo de Oro y establecer puentes con la actualidad. Llevamos\, allá donde vamos\, nuestra fiesta\, nuestra Farra. Hablamos de historia\, de la humanidad\, llevamos las noticias de los males que aquejan nuestro mundo\, con humor y removiendo conciencias y celebramos cada encuentro como una gran fiesta y algarabía.
URL:https://calendarioeventos.com/evento/teatro-farra/
LOCATION:Teatro Cuyas\, C. Viera y Clavijo\, s/n\, 35002 Las Palmas de Gran Canaria\, Las Palmas
CATEGORIES:Circo,Cultura,Infantil,Las Palmas de GC,Teatro
ATTACH;FMTTYPE=image/jpeg:https://calendarioeventos.com/wp-content/uploads/2026/03/event_714-1-B54wWS.avif
END:VEVENT
BEGIN:VEVENT
DTSTART;TZID=Europe/London:20260509T180000
DTEND;TZID=Europe/London:20260509T193000
DTSTAMP:20260424T233117
CREATED:20260408T200127Z
LAST-MODIFIED:20260408T200128Z
UID:10016252-1778349600-1778355000@calendarioeventos.com
SUMMARY:Charla — «Ironía y humor en Tácito. Reír con la historiografía latina»
DESCRIPTION:Charla — «IV Clásicas Tertulias de Gáldar: Ironía y humor en Tácito. Reír con la historiografía latina» en el Museo Agáldar\, Gáldar\, Gran Canaria. \n¿Te apasiona la historia antigua? El Museo Agáldar te invita a un viaje fascinante por el mundo clásico con tres conferencias imperdibles. \n9 Mayo – 18:00hPonente: Alejandro Martín BolañosConferencia: Ironía y humor en Tácito. Reír con la historiografía latina \nEntrada libre y gratuita.Lugar: Museo Agáldar (Calle Santiago de Los Caballeros\, 28-Gáldar) \nUn ciclo de divulgación científica organizado por la SEEC Canarias y la concejalía de Museos que dirige Carlos Ruiz Moreno. \nMás información en http://galdar.es/
URL:https://calendarioeventos.com/evento/charla-ironia-y-humor-en-tacito-reir-con-la-historiografia-latina/
LOCATION:Museo Agáldar\, 35460 Gáldar\, Las Palmas
CATEGORIES:Actividades,Charla,Eventos gratuitos,Gáldar
ATTACH;FMTTYPE=image/jpeg:https://calendarioeventos.com/wp-content/uploads/2026/04/charla-iron-a-y-humor-en-t-cito-re-r-con-la-hi-1775678485800.avif
END:VEVENT
BEGIN:VEVENT
DTSTART;TZID=Europe/London:20260509T203000
DTEND;TZID=Europe/London:20260509T220000
DTSTAMP:20260424T233117
CREATED:20260219T181909Z
LAST-MODIFIED:20260219T181909Z
UID:10014061-1778358600-1778364000@calendarioeventos.com
SUMMARY:Humor — «Yunez Chaib: En directo»
DESCRIPTION:Humor — «Yunez Chaib: En directo» en el Teatro Hespérides\, Guía\, Gran Canaria. \nEl próximo 9 de mayo\, el reconocido humorista Yunez Chaib presenta su espectáculo «En directo» en el Teatro Hespérides de Santa María de Guía. Conocido por su estilo directo\, ácido y cargado de ironía\, Chaib llega a la isla en el marco del Festival de Humor 8 Islas. El artista compagina actualmente sus actuaciones en vivo con colaboraciones en programas de gran éxito como «La Revuelta».\nLas entradas para disfrutar de una de las figuras más destacadas de la comedia nacional ya están a la venta en tureservaonline.es
URL:https://calendarioeventos.com/evento/humor-yunez-chaib-en-directo/
LOCATION:Teatro Hespérides – Auditorio de Santa María de Guía\, C. Marqués del Muní\, 2\, 35450 Guía\, Las Palmas
CATEGORIES:Entretenimiento,Guía,Humor,Solo adultos
ATTACH;FMTTYPE=image/webp:https://calendarioeventos.com/wp-content/uploads/2026/02/633149000_18339157033213076_8021606255734517905_n.avif
END:VEVENT
END:VCALENDAR