BEGIN:VCALENDAR
VERSION:2.0
PRODID:-//Calendario de Eventos Gran Canaria - ECPv6.15.17.1//NONSGML v1.0//EN
CALSCALE:GREGORIAN
METHOD:PUBLISH
X-ORIGINAL-URL:https://calendarioeventos.com
X-WR-CALDESC:Eventos para Calendario de Eventos Gran Canaria
REFRESH-INTERVAL;VALUE=DURATION:PT1H
X-Robots-Tag:noindex
X-PUBLISHED-TTL:PT1H
BEGIN:VTIMEZONE
TZID:Europe/London
BEGIN:DAYLIGHT
TZOFFSETFROM:+0000
TZOFFSETTO:+0100
TZNAME:BST
DTSTART:20250330T010000
END:DAYLIGHT
BEGIN:STANDARD
TZOFFSETFROM:+0100
TZOFFSETTO:+0000
TZNAME:GMT
DTSTART:20251026T010000
END:STANDARD
BEGIN:DAYLIGHT
TZOFFSETFROM:+0000
TZOFFSETTO:+0100
TZNAME:BST
DTSTART:20260329T010000
END:DAYLIGHT
BEGIN:STANDARD
TZOFFSETFROM:+0100
TZOFFSETTO:+0000
TZNAME:GMT
DTSTART:20261025T010000
END:STANDARD
BEGIN:DAYLIGHT
TZOFFSETFROM:+0000
TZOFFSETTO:+0100
TZNAME:BST
DTSTART:20270328T010000
END:DAYLIGHT
BEGIN:STANDARD
TZOFFSETFROM:+0100
TZOFFSETTO:+0000
TZNAME:GMT
DTSTART:20271031T010000
END:STANDARD
END:VTIMEZONE
BEGIN:VEVENT
DTSTART;TZID=Europe/London:20260301T170000
DTEND;TZID=Europe/London:20260301T210000
DTSTAMP:20260421T152243
CREATED:20260217T132037Z
LAST-MODIFIED:20260217T132214Z
UID:10014017-1772384400-1772398800@calendarioeventos.com
SUMMARY:Carnaval Municipal Motor Grande
DESCRIPTION:Carnaval Municipal en La Plaza El Laurel de Motor Grande 2026\, Mogán\, Gran Canaria \n\n27 febrero:\n\n18h – Talleres de Carnaval – «Decora tu barrio».\n\n\n1 marzo:\n\n17h – Pasarela de disfraces\, animación infantil y talleres de carnaval. En el transcurso de la misma se repartirán tortillas y chocolate.
URL:https://calendarioeventos.com/evento/carnaval-municipal-motor-grande/2026-03-01/
LOCATION:El Motor Grande\, 35130 Las Palmas
CATEGORIES:Carnaval,Entretenimiento,Eventos gratuitos,Infantil,Música,Mogán,Taller
ATTACH;FMTTYPE=image/png:https://calendarioeventos.com/wp-content/uploads/2026/02/Screenshot-2026-02-17-at-13-19-05-1-Instagram.avif
END:VEVENT
END:VCALENDAR