BEGIN:VCALENDAR
VERSION:2.0
PRODID:-//Calendario de Eventos Gran Canaria - ECPv6.15.17.1//NONSGML v1.0//EN
CALSCALE:GREGORIAN
METHOD:PUBLISH
X-WR-CALNAME:Calendario de Eventos Gran Canaria
X-ORIGINAL-URL:https://calendarioeventos.com
X-WR-CALDESC:Eventos para Calendario de Eventos Gran Canaria
REFRESH-INTERVAL;VALUE=DURATION:PT1H
X-Robots-Tag:noindex
X-PUBLISHED-TTL:PT1H
BEGIN:VTIMEZONE
TZID:Europe/London
BEGIN:DAYLIGHT
TZOFFSETFROM:+0000
TZOFFSETTO:+0100
TZNAME:BST
DTSTART:20240331T010000
END:DAYLIGHT
BEGIN:STANDARD
TZOFFSETFROM:+0100
TZOFFSETTO:+0000
TZNAME:GMT
DTSTART:20241027T010000
END:STANDARD
BEGIN:DAYLIGHT
TZOFFSETFROM:+0000
TZOFFSETTO:+0100
TZNAME:BST
DTSTART:20250330T010000
END:DAYLIGHT
BEGIN:STANDARD
TZOFFSETFROM:+0100
TZOFFSETTO:+0000
TZNAME:GMT
DTSTART:20251026T010000
END:STANDARD
BEGIN:DAYLIGHT
TZOFFSETFROM:+0000
TZOFFSETTO:+0100
TZNAME:BST
DTSTART:20260329T010000
END:DAYLIGHT
BEGIN:STANDARD
TZOFFSETFROM:+0100
TZOFFSETTO:+0000
TZNAME:GMT
DTSTART:20261025T010000
END:STANDARD
BEGIN:DAYLIGHT
TZOFFSETFROM:+0000
TZOFFSETTO:+0100
TZNAME:BST
DTSTART:20270328T010000
END:DAYLIGHT
BEGIN:STANDARD
TZOFFSETFROM:+0100
TZOFFSETTO:+0000
TZNAME:GMT
DTSTART:20271031T010000
END:STANDARD
END:VTIMEZONE
BEGIN:VEVENT
DTSTART;TZID=Europe/London:20260205T180000
DTEND;TZID=Europe/London:20260205T193000
DTSTAMP:20260425T164736
CREATED:20260127T104501Z
LAST-MODIFIED:20260127T104541Z
UID:10013156-1770314400-1770319800@calendarioeventos.com
SUMMARY:Charla - Punto J Go!
DESCRIPTION:Charla «Punto J Go!» sobre oportunidades en Europa en el Punto J de Santa Lucía de Tirajana\, Gran Canaria. \nTienes entre 18 y 30 años y te interesa vivir una experiencia internacional? \nDesde Muevete_con_mojo – Asociación Mojó de Caña te invitamos a una charla informativa donde hablaremos sobre los programas Erasmus + \nEn la charla descubrirás: \n✅️¿Qué son los proyectos internacionales?\n✅️Cómo participar en voluntariados y movilidad\n✅️Requisitos y pasos para inscribirse \nActividad gratuita. \nInscripción en el Punto J y llamando al 928754800
URL:https://calendarioeventos.com/evento/charla-punto-j-go/
LOCATION:Punto J\, Casa de la Juventud de Santa Lucía\, C. Poema la Maleta\, 16\, 35110 Vecindario\, Las Palmas
CATEGORIES:Actividades,Charla,Eventos gratuitos,Jóvenes,Santa Lucía de Tirajana
ATTACH;FMTTYPE=image/png:https://calendarioeventos.com/wp-content/uploads/2026/01/Screenshot-2026-01-27-at-10-43-18-Primera-Semana-•-Instagram.avif
ORGANIZER;CN="Asociaci%C3%B3n Mojo de Ca%C3%B1a":MAILTO:info@mojodecana.org
END:VEVENT
BEGIN:VEVENT
DTSTART;TZID=Europe/London:20251220T093000
DTEND;TZID=Europe/London:20251220T130000
DTSTAMP:20260425T164736
CREATED:20251216T202239Z
LAST-MODIFIED:20251216T202239Z
UID:10011798-1766223000-1766235600@calendarioeventos.com
SUMMARY:Vente pa’ la calle - Museo Elder
DESCRIPTION:Proyecto “Vente pa’ la calle” – Excursión al Museo Elder\, Gran Canaria. \n✨ Te invitamos a vivir una jornada inolvidable en familia 👨‍👩‍👧‍👦🔬! \nCon «Vente Pa’ la Calle» nos vamos al @museoelder 🧪🚀\, donde disfrutaremos de actividades interactivas\, experiencias educativas y muchos momentos para aprender\, explorar y divertirnos juntas y juntos 🤩💡. \n👉 Una oportunidad perfecta para descubrir el fascinante mundo de la ciencia en comunidad.\n¡No te lo pierdas! 🎉 \n📝 PRE-INSCRIPCIÓN DE ACTIVIDADES\n🔗 https://forms.office.com/e/8iDp6xea6e \n📅 Fecha:\n🗓 20 de diciembre de 2025\n⏰ De 09:30 h a 13:00 h \n🚌 Lugar:\n📍 Recogida de la guagua a las 09:30h\nC/ Ídolo de Jinámar\, 7\n⏰ Salida del museo a las 13:00 h \n⚠️ Plazas limitadas \nPara más información:\nTeléfono – 928 983 034 / 666 989 408\nCorreo: produccion@mojodecana.org
URL:https://calendarioeventos.com/evento/vente-pa-la-calle-museo-elder/
LOCATION:Cocodrilo Park Gran Canaria\, Ctra General Los Corralillos\, Km 5.5\, 35260 Agüimes\, Las Palmas
CATEGORIES:Actividades,Eventos gratuitos,Infantil,Telde
ATTACH;FMTTYPE=image/png:https://calendarioeventos.com/wp-content/uploads/2025/12/Screenshot-2025-12-16-at-20-21-53-Instagram.avif
ORGANIZER;CN="Asociaci%C3%B3n Mojo de Ca%C3%B1a":MAILTO:info@mojodecana.org
END:VEVENT
BEGIN:VEVENT
DTSTART;TZID=Europe/London:20251213T093000
DTEND;TZID=Europe/London:20251213T130000
DTSTAMP:20260425T164736
CREATED:20251204T113118Z
LAST-MODIFIED:20251204T113118Z
UID:10010730-1765618200-1765630800@calendarioeventos.com
SUMMARY:Excursión - Cocodrilo Park
DESCRIPTION:Excursión a Cocodrilo Park para familias de la Aldea de San Nicolás\, Gran Canaria. \nParticipantes: 30 familias empadronadas con hijos/as de 0 a 18 años. \n💸 Coste: totalmente GRATUITA (incluye traslado en guagua\, entrada y almuerzo). \n📌 Inscripciones: del 25 de noviembre al 2 de diciembre de 2025. Se pueden realizar a través de la Sede Electrónica o en el Registro Municipal\, indicando en la solicitud el concepto: “Participar en la visita a Cocodrilo Park”. \n📞 Más información: 928 89 05 57
URL:https://calendarioeventos.com/evento/excursion-cocodrilo-park/
LOCATION:Cocodrilo Park Gran Canaria\, Ctra General Los Corralillos\, Km 5.5\, 35260 Agüimes\, Las Palmas
CATEGORIES:Actividades,Eventos gratuitos,Infantil,Telde
ATTACH;FMTTYPE=image/png:https://calendarioeventos.com/wp-content/uploads/2025/12/Screenshot-2025-12-04-at-11-29-36-Instagram.avif
ORGANIZER;CN="Asociaci%C3%B3n Mojo de Ca%C3%B1a":MAILTO:info@mojodecana.org
END:VEVENT
BEGIN:VEVENT
DTSTART;TZID=Europe/London:20251211T190000
DTEND;TZID=Europe/London:20251211T200000
DTSTAMP:20260425T164736
CREATED:20250914T230000Z
LAST-MODIFIED:20251204T113613Z
UID:10004700-1765479600-1765483200@calendarioeventos.com
SUMMARY:Teatro - Frágil
DESCRIPTION:Teatro – «Frágil»\, obra del proyecto «Teatro y dialogo por la igualdad» en el Centro de Mayores de El Doctoral\, Santa Lucía\, Gran Canaria. \nContinuamos con las representaciones de “Frágil: Rompiendo Mitos\, Creando Realidades” dentro del proyecto “Teatro y Diálogo por la Igualdad” \nAl finalizar la obra se abrirá un diálogo con el público presente. \nEntrada libre hasta completar aforo. \n@downlaspalmas.oficial – Asociado Síndrome de Down Las Palmas \n@grancanariaigualdad – Consejería de Igualdad y Diversidad del Cabildo de Gran Canaria
URL:https://calendarioeventos.com/evento/teatro-fragil-2/
LOCATION:El Doctoral\, 35110 Las Palmas
CATEGORIES:Actividades,Charla,Cultura,Eventos gratuitos,Santa Lucía de Tirajana,Teatro
ATTACH;FMTTYPE=image/png:https://calendarioeventos.com/wp-content/uploads/2025/09/Screenshot-2025-12-04-at-11-34-12-Instagram.avif
ORGANIZER;CN="Asociaci%C3%B3n Mojo de Ca%C3%B1a":MAILTO:info@mojodecana.org
END:VEVENT
BEGIN:VEVENT
DTSTART;TZID=Europe/London:20251122T190000
DTEND;TZID=Europe/London:20251122T203000
DTSTAMP:20260425T164736
CREATED:20251104T152930Z
LAST-MODIFIED:20251111T110605Z
UID:10008778-1763838000-1763843400@calendarioeventos.com
SUMMARY:Teatro - Más Allá de la Isla de los Pijamas
DESCRIPTION:Obra de Teatro «Más Allá de la Isla de los Pijamas» de Escuela de Interpretación Guacimara Correa en el Teatro CICCA\, Las Palmas de Gran Canaria. \nDuración: 1 horas y 20 minutos aproximadamente. \nPrecio de venta de las entradas: 8 euros \nOrganiza: Asociación Benéfica YA ERA HORA..!! \nSinopsis del evento: Ante cualquier problema\, ante cualquier enfermedad\, lucha\, fuerza pero sobre todo esperanza. Porque la vida es un camino muy largo donde los sueños se pueden hacer realidad\, la vida……… la vida es como tu quieres que sea. \nEntradas en este enlace. \n 
URL:https://calendarioeventos.com/evento/teatro-mas-alla-de-la-isla-de-los-pijamas/
LOCATION:Centro Cultural Cicca\, Alameda de Colon\, 1\, 35002 Las Palmas de Gran Canaria\, Las Palmas
CATEGORIES:Cultura,Infantil,Las Palmas de GC,Teatro
ATTACH;FMTTYPE=image/jpeg:https://calendarioeventos.com/wp-content/uploads/2025/11/2783626-1.avif
ORGANIZER;CN="Asociaci%C3%B3n Mojo de Ca%C3%B1a":MAILTO:info@mojodecana.org
END:VEVENT
BEGIN:VEVENT
DTSTART;TZID=Europe/London:20251122T093000
DTEND;TZID=Europe/London:20251122T130000
DTSTAMP:20260425T164736
CREATED:20251118T202015Z
LAST-MODIFIED:20251118T202015Z
UID:10009604-1763803800-1763816400@calendarioeventos.com
SUMMARY:Vente pa’ la calle - Cocodrilo Park
DESCRIPTION:Proyecto “Vente pa’ la calle” – Excursión a Cocodrilo Park\, Gran Canaria. \n¡Vive la aventura salvaje! 🐊🌴 ¡Acompáñanos en una experiencia inolvidable en Cocodrilo Park! Descubre de cerca increíbles especies\, desde majestuosos cocodrilos hasta adorables animales rescatados. Aprende\, disfruta y conecta con la naturaleza en un entorno lleno de emoción y descubrimiento.\n🌿✨ ¡Una aventura para toda la familia que no te puedes perder! \nPRE-INSCRIPCIÓN DE ACTIVIDADES: https://forms.office.com/e/qrPKHc5WeF \nLugar:\nRecogida de la guagua a las 09:45 h. en la Calle Ídolo de Jinámar\, 7. Salida del Cocodrilo Park a las 13:00 h. \nPlazas Limitadas \nPara más información:\nTeléfono – 928 983 034 / 666 989 408\nCorreo: produccion@mojodecana.org
URL:https://calendarioeventos.com/evento/vente-pa-la-calle-cocodrilo-park/
LOCATION:Cocodrilo Park Gran Canaria\, Ctra General Los Corralillos\, Km 5.5\, 35260 Agüimes\, Las Palmas
CATEGORIES:Actividades,Eventos gratuitos,Infantil,Telde
ATTACH;FMTTYPE=image/png:https://calendarioeventos.com/wp-content/uploads/2025/11/Screenshot-2025-11-18-at-20-17-48-Instagram.avif
ORGANIZER;CN="Asociaci%C3%B3n Mojo de Ca%C3%B1a":MAILTO:info@mojodecana.org
END:VEVENT
BEGIN:VEVENT
DTSTART;TZID=Europe/London:20251115T100000
DTEND;TZID=Europe/London:20251115T130000
DTSTAMP:20260425T164736
CREATED:20250909T230000Z
LAST-MODIFIED:20251113T104526Z
UID:10004591-1763200800-1763211600@calendarioeventos.com
SUMMARY:Vente pa’ la calle - Escalada
DESCRIPTION:Proyecto “Vente pa’ la calle” – Escalada en Climbing World\, Las Palmas de Gran Canaria. \n¡Desafía tus límites! 🏔💪 \n¡Únete a nuestra aventura de escalada en Climbing World y alcanza nuevas alturas! Supera obstáculos\, mejora tu fuerza y coordinación\, y diviértete en un entorno emocionante. \n¡No te pierdas esta oportunidad de desafiarte a ti mismo! 🌟💥\n¡Vamos a escalar! \nPRE-INSCRIPCIÓN DE ACTIVIDADES: https://forms.office.com/e/RDfFUHYgLe \nLugar:\nRecogida de la guagua a las 10.00 h. en la Calle Ídolo de Jinámar\, 7. Salida del Climbing World a las 13:00 h. \nPlazas Limitadas \nPara más información:\nTeléfono – 928 983 034 / 666 989 408\nCorreo: produccion@mojodecana.org
URL:https://calendarioeventos.com/evento/vente-pa-la-calle/
LOCATION:Climbing World Gran Canaria\, Calle Dr. Juan Domínguez Pérez\, 47\, 35008 Las Palmas de Gran Canaria\, Las Palmas
CATEGORIES:Actividades,Deporte,Eventos gratuitos,Infantil,Telde
ATTACH;FMTTYPE=image/png:https://calendarioeventos.com/wp-content/uploads/2025/09/Screenshot-2025-11-13-at-10-42-26-Instagram.avif
ORGANIZER;CN="Asociaci%C3%B3n Mojo de Ca%C3%B1a":MAILTO:info@mojodecana.org
END:VEVENT
END:VCALENDAR